BEGIN:VCALENDAR
VERSION:2.0
PRODID:-//Ocean County Tourism - ECPv6.15.18//NONSGML v1.0//EN
CALSCALE:GREGORIAN
METHOD:PUBLISH
X-ORIGINAL-URL:https://oceancountytourism.com
X-WR-CALDESC:Events for Ocean County Tourism
REFRESH-INTERVAL;VALUE=DURATION:PT1H
X-Robots-Tag:noindex
X-PUBLISHED-TTL:PT1H
BEGIN:VTIMEZONE
TZID:America/New_York
BEGIN:DAYLIGHT
TZOFFSETFROM:-0500
TZOFFSETTO:-0400
TZNAME:EDT
DTSTART:20240310T070000
END:DAYLIGHT
BEGIN:STANDARD
TZOFFSETFROM:-0400
TZOFFSETTO:-0500
TZNAME:EST
DTSTART:20241103T060000
END:STANDARD
BEGIN:DAYLIGHT
TZOFFSETFROM:-0500
TZOFFSETTO:-0400
TZNAME:EDT
DTSTART:20250309T070000
END:DAYLIGHT
BEGIN:STANDARD
TZOFFSETFROM:-0400
TZOFFSETTO:-0500
TZNAME:EST
DTSTART:20251102T060000
END:STANDARD
BEGIN:DAYLIGHT
TZOFFSETFROM:-0500
TZOFFSETTO:-0400
TZNAME:EDT
DTSTART:20260308T070000
END:DAYLIGHT
BEGIN:STANDARD
TZOFFSETFROM:-0400
TZOFFSETTO:-0500
TZNAME:EST
DTSTART:20261101T060000
END:STANDARD
END:VTIMEZONE
BEGIN:VEVENT
DTSTART;TZID=America/New_York:20251005T113000
DTEND;TZID=America/New_York:20251005T123000
DTSTAMP:20260423T010633
CREATED:20250822T113531Z
LAST-MODIFIED:20250822T113531Z
UID:10038733-1759663800-1759667400@oceancountytourism.com
SUMMARY:Halloween Crafting and Donut Decorating
DESCRIPTION:  \n \n  \nThe Blooming Rose Paint and Create teams up with Top that donuts for a fun family event of unique crafting and donuts!!! \nWe do these events for all holidays throughout the year with many different art projects including painting and crafting! \nThe Blooming Rose Paint and Create on Facebook spirit3121@aol.com \n(215) 651-0780
URL:https://oceancountytourism.com/event/halloween-crafting-and-donut-decorating/2025-10-05/2/
LOCATION:Top That Donuts\, 210 Ocean Ave\, Point Pleasant\, 08742\, United States
CATEGORIES:Art,Food
ATTACH;FMTTYPE=image/jpeg:https://oceancountytourism.com/wp-content/uploads/2025/08/IMG_9090.jpeg
END:VEVENT
END:VCALENDAR