BEGIN:VCALENDAR
VERSION:2.0
PRODID:-//Ocean County Tourism - ECPv6.15.18//NONSGML v1.0//EN
CALSCALE:GREGORIAN
METHOD:PUBLISH
X-ORIGINAL-URL:https://oceancountytourism.com
X-WR-CALDESC:Events for Ocean County Tourism
REFRESH-INTERVAL;VALUE=DURATION:PT1H
X-Robots-Tag:noindex
X-PUBLISHED-TTL:PT1H
BEGIN:VTIMEZONE
TZID:America/New_York
BEGIN:DAYLIGHT
TZOFFSETFROM:-0500
TZOFFSETTO:-0400
TZNAME:EDT
DTSTART:20240310T070000
END:DAYLIGHT
BEGIN:STANDARD
TZOFFSETFROM:-0400
TZOFFSETTO:-0500
TZNAME:EST
DTSTART:20241103T060000
END:STANDARD
BEGIN:DAYLIGHT
TZOFFSETFROM:-0500
TZOFFSETTO:-0400
TZNAME:EDT
DTSTART:20250309T070000
END:DAYLIGHT
BEGIN:STANDARD
TZOFFSETFROM:-0400
TZOFFSETTO:-0500
TZNAME:EST
DTSTART:20251102T060000
END:STANDARD
BEGIN:DAYLIGHT
TZOFFSETFROM:-0500
TZOFFSETTO:-0400
TZNAME:EDT
DTSTART:20260308T070000
END:DAYLIGHT
BEGIN:STANDARD
TZOFFSETFROM:-0400
TZOFFSETTO:-0500
TZNAME:EST
DTSTART:20261101T060000
END:STANDARD
END:VTIMEZONE
BEGIN:VEVENT
DTSTART;TZID=America/New_York:20251015T173000
DTEND;TZID=America/New_York:20251015T203000
DTSTAMP:20260419T133310
CREATED:20250922T144613Z
LAST-MODIFIED:20250922T144613Z
UID:10039377-1760549400-1760560200@oceancountytourism.com
SUMMARY:TRHSE Food Trucks & Fire Pits
DESCRIPTION:Toms River High School East presents the 5th Annual Food Trucks & Fire Pits Night!\nJoin us for an evening of delicious eats\, cozy fires\, and community fun. Bring your friends\, your appetite\, and your school spirit!\nFood Trucks and Fire Pits | Facebook
URL:https://oceancountytourism.com/event/trhse-food-trucks-fire-pits/
LOCATION:Toms River High School East\, 1225 Raider Way\, Toms River\, NJ\, United States
CATEGORIES:Festivals & Family Fun
ATTACH;FMTTYPE=image/jpeg:https://oceancountytourism.com/wp-content/uploads/2025/09/548827284_1216331093842143_8155447571336722809_n.jpg
END:VEVENT
BEGIN:VEVENT
DTSTART;TZID=America/New_York:20250502T173000
DTEND;TZID=America/New_York:20250502T173000
DTSTAMP:20260419T133310
CREATED:20250310T191623Z
LAST-MODIFIED:20250310T191623Z
UID:10035141-1746207000-1746207000@oceancountytourism.com
SUMMARY:Toms River High School East Class of 2027  Gift Auction Fundraiser!
DESCRIPTION:Join Us! Friday\, May 2nd to support: \nToms River High School East Class of 2027 Gift Auction Fundraiser \nDOOR PRIZES! \n50/50 RAFFLE! \nBIRTHDAY BOARD! \nGIFT AUCTION! \nDoors open @ 5:30pm \nTRE HIGH SCHOOL EAST Cafeteria \n$30 per person \nTables of 10 available (Guests must be 18 or over to enter event) \nCash or Check (Payable to: TRHSE CLASS OF 2027) \nTo: Rachel Barry\, Toms River HSE\, 1225 Raider Way\, Toms River\, NJ 08753 \nQUESTIONS OR FOR MORE INFO EMAIL: rbarry@trschools.com or kdevuyst@trschools.com \n\nhttps://www.trschools.com/hseast/ \nhttps://www.yelp.com/events/toms-river-toms-river-high-school-east-class-of-2027-gift-auction-fundraiser \n 
URL:https://oceancountytourism.com/event/toms-river-high-school-east-class-of-2027-gift-auction-fundraiser/
LOCATION:Toms River High School East\, 1225 Raider Way\, Toms River\, NJ\, United States
ATTACH;FMTTYPE=image/png:https://oceancountytourism.com/wp-content/uploads/2025/03/Toms-River-High-School-East-Class-of-2027-1.png
END:VEVENT
END:VCALENDAR