BEGIN:VCALENDAR
VERSION:2.0
PRODID:-//Ocean County Tourism - ECPv6.15.18//NONSGML v1.0//EN
CALSCALE:GREGORIAN
METHOD:PUBLISH
X-ORIGINAL-URL:https://oceancountytourism.com
X-WR-CALDESC:Events for Ocean County Tourism
REFRESH-INTERVAL;VALUE=DURATION:PT1H
X-Robots-Tag:noindex
X-PUBLISHED-TTL:PT1H
BEGIN:VTIMEZONE
TZID:America/New_York
BEGIN:DAYLIGHT
TZOFFSETFROM:-0500
TZOFFSETTO:-0400
TZNAME:EDT
DTSTART:20250309T070000
END:DAYLIGHT
BEGIN:STANDARD
TZOFFSETFROM:-0400
TZOFFSETTO:-0500
TZNAME:EST
DTSTART:20251102T060000
END:STANDARD
BEGIN:DAYLIGHT
TZOFFSETFROM:-0500
TZOFFSETTO:-0400
TZNAME:EDT
DTSTART:20260308T070000
END:DAYLIGHT
BEGIN:STANDARD
TZOFFSETFROM:-0400
TZOFFSETTO:-0500
TZNAME:EST
DTSTART:20261101T060000
END:STANDARD
BEGIN:DAYLIGHT
TZOFFSETFROM:-0500
TZOFFSETTO:-0400
TZNAME:EDT
DTSTART:20270314T070000
END:DAYLIGHT
BEGIN:STANDARD
TZOFFSETFROM:-0400
TZOFFSETTO:-0500
TZNAME:EST
DTSTART:20271107T060000
END:STANDARD
END:VTIMEZONE
BEGIN:VEVENT
DTSTART;TZID=America/New_York:20260404T110000
DTEND;TZID=America/New_York:20260404T110000
DTSTAMP:20260422T143755
CREATED:20260212T192255Z
LAST-MODIFIED:20260225T163327Z
UID:10041314-1775300400-1775300400@oceancountytourism.com
SUMMARY:Easter Brunch-The Farm on Main
DESCRIPTION:Easter Brunch at the Farm on Main \nSaturday April 4th \n11am & 2pm seatings \n$75 for adults $25 for kids \nTickets include: \nBrunch Buffet – Sunny Rae’s Kitchen \nLive Music – Josh Werner \nEaster Egg Hunt- 12:30pm \nAvailable for purchase: \nMini Photo Sessions – Ann Coen Studio \nCash Bar – Black Dog and Set The Bar \nJewelry sales – West Village Tribe \nGrab and Go Bouquets – Wildflower Florals \nEaster Treats – Sweet Melissa Goodness \n\n\n\n\n\nSpots are limited for each seating\, so be sure to grab your tickets early before they sell out!\nThe Farm On Main | Elevated Barn Wedding Venue in NJ
URL:https://oceancountytourism.com/event/easter-brunch-the-farm-on-main/
LOCATION:The Farm On Main\, 450 Main Street\, West Creek\, 08092\, United States
CATEGORIES:Food
ATTACH;FMTTYPE=image/jpeg:https://oceancountytourism.com/wp-content/uploads/2026/02/Screenshot_12-2-2026_141748_www.facebook.com_.jpeg
END:VEVENT
END:VCALENDAR