BEGIN:VCALENDAR
VERSION:2.0
PRODID:-//Ocean County Tourism - ECPv6.15.18//NONSGML v1.0//EN
CALSCALE:GREGORIAN
METHOD:PUBLISH
X-WR-CALNAME:Ocean County Tourism
X-ORIGINAL-URL:https://oceancountytourism.com
X-WR-CALDESC:Events for Ocean County Tourism
REFRESH-INTERVAL;VALUE=DURATION:PT1H
X-Robots-Tag:noindex
X-PUBLISHED-TTL:PT1H
BEGIN:VTIMEZONE
TZID:America/New_York
BEGIN:DAYLIGHT
TZOFFSETFROM:-0500
TZOFFSETTO:-0400
TZNAME:EDT
DTSTART:20250309T070000
END:DAYLIGHT
BEGIN:STANDARD
TZOFFSETFROM:-0400
TZOFFSETTO:-0500
TZNAME:EST
DTSTART:20251102T060000
END:STANDARD
BEGIN:DAYLIGHT
TZOFFSETFROM:-0500
TZOFFSETTO:-0400
TZNAME:EDT
DTSTART:20260308T070000
END:DAYLIGHT
BEGIN:STANDARD
TZOFFSETFROM:-0400
TZOFFSETTO:-0500
TZNAME:EST
DTSTART:20261101T060000
END:STANDARD
BEGIN:DAYLIGHT
TZOFFSETFROM:-0500
TZOFFSETTO:-0400
TZNAME:EDT
DTSTART:20270314T070000
END:DAYLIGHT
BEGIN:STANDARD
TZOFFSETFROM:-0400
TZOFFSETTO:-0500
TZNAME:EST
DTSTART:20271107T060000
END:STANDARD
END:VTIMEZONE
BEGIN:VEVENT
DTSTART;TZID=America/New_York:20260416T190000
DTEND;TZID=America/New_York:20260416T203000
DTSTAMP:20260423T151631
CREATED:20260303T153229Z
LAST-MODIFIED:20260303T153229Z
UID:10041522-1776366000-1776371400@oceancountytourism.com
SUMMARY:Pro Wrestling Trivia Championship
DESCRIPTION:Pro Wrestling Trivia Championship \nThursday April 16th at 7pm \nLocated at Seaside Social House \nPrizes! \nTop 2 teams win gift cards! Raffle prizes to take home! \nDrink & food specials all night! \nAre you ready for the main event? \nShoreline Trivia Co.
URL:https://oceancountytourism.com/event/pro-wrestling-trivia-championship/
LOCATION:Seaside Social House\, 116 Sumner Ave.\, Seaside Heights
CATEGORIES:Food
ATTACH;FMTTYPE=image/jpeg:https://oceancountytourism.com/wp-content/uploads/2026/03/634794076_122122691223033787_4043934319001179238_n.jpg
ORGANIZER;CN="Shoreline Trivia Co.":MAILTO:shorelinetriviaco@gmail.com
END:VEVENT
BEGIN:VEVENT
DTSTART;TZID=America/New_York:20260412T190000
DTEND;TZID=America/New_York:20260412T203000
DTSTAMP:20260423T151631
CREATED:20260303T152855Z
LAST-MODIFIED:20260303T152855Z
UID:10041521-1776020400-1776025800@oceancountytourism.com
SUMMARY:Disney Pixar Movie Trivia
DESCRIPTION:Disney Pixar Movie Trivia \nSunday April 12th at 7pm at Seaside Social House \nPrizes: Gift cards for top 2 teams \nRaffle for Disney & Pixar prizes to take home! \nDrink & food specials all night! \nSeaside Heights New Jersey
URL:https://oceancountytourism.com/event/disney-pixar-movie-trivia/
LOCATION:Seaside Social House\, 116 Sumner Ave.\, Seaside Heights
CATEGORIES:Food
ATTACH;FMTTYPE=image/jpeg:https://oceancountytourism.com/wp-content/uploads/2026/03/635256924_122122691019033787_5351799640418022232_n.jpg
ORGANIZER;CN="Shoreline Trivia Co.":MAILTO:shorelinetriviaco@gmail.com
END:VEVENT
BEGIN:VEVENT
DTSTART;TZID=America/New_York:20260409T190000
DTEND;TZID=America/New_York:20260409T203000
DTSTAMP:20260423T151631
CREATED:20260303T152350Z
LAST-MODIFIED:20260303T152350Z
UID:10041520-1775761200-1775766600@oceancountytourism.com
SUMMARY:80s Pop Culture Trivia
DESCRIPTION:80s Pop Culture Trivia Thursday April 9th at 7pm \nat Seaside Social House \nPrizes! Gift cards for top 2 teams and raffle prizes! \nDrink & food specials all night! \nSeaside Heights New Jersey
URL:https://oceancountytourism.com/event/80s-pop-culture-trivia/
LOCATION:Seaside Social House\, 116 Sumner Ave.\, Seaside Heights
CATEGORIES:Food
ATTACH;FMTTYPE=image/jpeg:https://oceancountytourism.com/wp-content/uploads/2026/03/634420117_122122690887033787_5413284625648326444_n.jpg
ORGANIZER;CN="Shoreline Trivia Co.":MAILTO:shorelinetriviaco@gmail.com
END:VEVENT
BEGIN:VEVENT
DTSTART;TZID=America/New_York:20260329T190000
DTEND;TZID=America/New_York:20260329T203000
DTSTAMP:20260423T151631
CREATED:20260303T152042Z
LAST-MODIFIED:20260303T152042Z
UID:10041519-1774810800-1774816200@oceancountytourism.com
SUMMARY:Springfield Trivia Night
DESCRIPTION:Springfield Trivia Night \nSunday March 29th at 7pm \nAt Seaside Social House \nPrizes: Gift cards for top 2 teams and raffle prizes to take home! \nDrink & food specials all night! \nSeaside Heights\, New Jersey
URL:https://oceancountytourism.com/event/springfield-trivia-night/
LOCATION:Seaside Social House\, 116 Sumner Ave.\, Seaside Heights
CATEGORIES:Food
ATTACH;FMTTYPE=image/jpeg:https://oceancountytourism.com/wp-content/uploads/2026/03/634724441_122122786605033787_276624001836796231_n.jpg
ORGANIZER;CN="Shoreline Trivia Co.":MAILTO:shorelinetriviaco@gmail.com
END:VEVENT
BEGIN:VEVENT
DTSTART;TZID=America/New_York:20260322T190000
DTEND;TZID=America/New_York:20260322T203000
DTSTAMP:20260423T151631
CREATED:20260303T151558Z
LAST-MODIFIED:20260303T151558Z
UID:10041518-1774206000-1774211400@oceancountytourism.com
SUMMARY:Marvel Movie Trivia
DESCRIPTION:Marvel Movie Trivia \nSunday March 22nd at 7pm \nGift cards for top two teams\, raffle prizes to take home and drink & food specials all night! \nSeaside Social House \nShoreline Trivia Co.
URL:https://oceancountytourism.com/event/marvel-movie-trivia/
LOCATION:Seaside Social House\, 116 Sumner Ave.\, Seaside Heights
CATEGORIES:Food
ATTACH;FMTTYPE=image/jpeg:https://oceancountytourism.com/wp-content/uploads/2026/03/633439024_122122786083033787_5371246726677355005_n.jpg
ORGANIZER;CN="Shoreline Trivia Co.":MAILTO:shorelinetriviaco@gmail.com
END:VEVENT
BEGIN:VEVENT
DTSTART;TZID=America/New_York:20260315T190000
DTEND;TZID=America/New_York:20260315T203000
DTSTAMP:20260423T151631
CREATED:20260303T153549Z
LAST-MODIFIED:20260303T153549Z
UID:10041523-1773601200-1773606600@oceancountytourism.com
SUMMARY:Book Trivia
DESCRIPTION:Book Trivia \nSunday March 15th at 7pm \nPrizes: Gift cards for top 2 teams\, raffles for bookish prizes to take home! \nDrink & food specials all night! \nSeaside Heights New Jersey \nSeaside Social House \nShoreline Trivia Co.
URL:https://oceancountytourism.com/event/book-trivia/
LOCATION:Seaside Social House\, 116 Sumner Ave.\, Seaside Heights
CATEGORIES:Food
ATTACH;FMTTYPE=image/jpeg:https://oceancountytourism.com/wp-content/uploads/2026/03/634981988_122122689513033787_1013550671882442715_n.jpg
ORGANIZER;CN="Shoreline Trivia Co.":MAILTO:shorelinetriviaco@gmail.com
END:VEVENT
BEGIN:VEVENT
DTSTART;TZID=America/New_York:20260215T190000
DTEND;TZID=America/New_York:20260215T190000
DTSTAMP:20260423T151631
CREATED:20260114T173406Z
LAST-MODIFIED:20260114T173406Z
UID:10040637-1771182000-1771182000@oceancountytourism.com
SUMMARY:The Ultimate Rom Com Trivia Night
DESCRIPTION:
URL:https://oceancountytourism.com/event/the-ultimate-rom-com-trivia-night/
LOCATION:Seaside Social House\, 116 Sumner Ave.\, Seaside Heights
CATEGORIES:Food,Live Entertainment
ATTACH;FMTTYPE=image/jpeg:https://oceancountytourism.com/wp-content/uploads/2026/01/602395699_122118102189033787_4313130738228184009_n.jpg
ORGANIZER;CN="Shoreline Trivia Co.":MAILTO:shorelinetriviaco@gmail.com
END:VEVENT
BEGIN:VEVENT
DTSTART;TZID=America/New_York:20260205T190000
DTEND;TZID=America/New_York:20260205T190000
DTSTAMP:20260423T151631
CREATED:20260114T173209Z
LAST-MODIFIED:20260114T173209Z
UID:10040636-1770318000-1770318000@oceancountytourism.com
SUMMARY:Super Bowl Trivia Night
DESCRIPTION:
URL:https://oceancountytourism.com/event/super-bowl-trivia-night/
LOCATION:Seaside Social House\, 116 Sumner Ave.\, Seaside Heights
CATEGORIES:Food,Live Entertainment
ATTACH;FMTTYPE=image/jpeg:https://oceancountytourism.com/wp-content/uploads/2026/01/610941071_122118102063033787_3403721817650023815_n.jpg
ORGANIZER;CN="Shoreline Trivia Co.":MAILTO:shorelinetriviaco@gmail.com
END:VEVENT
BEGIN:VEVENT
DTSTART;TZID=America/New_York:20260201T190000
DTEND;TZID=America/New_York:20260201T190000
DTSTAMP:20260423T151631
CREATED:20260114T173011Z
LAST-MODIFIED:20260114T173011Z
UID:10040635-1769972400-1769972400@oceancountytourism.com
SUMMARY:Olympics Trivia
DESCRIPTION:
URL:https://oceancountytourism.com/event/olympics-trivia/
LOCATION:Seaside Social House\, 116 Sumner Ave.\, Seaside Heights
CATEGORIES:Live Entertainment
ATTACH;FMTTYPE=image/jpeg:https://oceancountytourism.com/wp-content/uploads/2026/01/610848838_122118101937033787_2852140799260644512_n.jpg
ORGANIZER;CN="Shoreline Trivia Co.":MAILTO:shorelinetriviaco@gmail.com
END:VEVENT
BEGIN:VEVENT
DTSTART;TZID=America/New_York:20260125T190000
DTEND;TZID=America/New_York:20260125T190000
DTSTAMP:20260423T151631
CREATED:20260114T172335Z
LAST-MODIFIED:20260123T153745Z
UID:10040632-1769367600-1769367600@oceancountytourism.com
SUMMARY:Disney Parks Trivia *EVENT HAS BEEN POSTPONED DUE TO WEATHER* NEW DATE TBA
DESCRIPTION:✨ Disney Parks Trivia Night at Seaside Social House ✨ | Facebook
URL:https://oceancountytourism.com/event/disney-parks-trivia/
LOCATION:Seaside Social House\, 116 Sumner Ave.\, Seaside Heights
CATEGORIES:Live Entertainment
ATTACH;FMTTYPE=image/jpeg:https://oceancountytourism.com/wp-content/uploads/2026/01/611339997_122118101781033787_8082616467733189141_n.jpg
ORGANIZER;CN="Shoreline Trivia Co.":MAILTO:shorelinetriviaco@gmail.com
END:VEVENT
BEGIN:VEVENT
DTSTART;TZID=America/New_York:20260122T190000
DTEND;TZID=America/New_York:20260122T190000
DTSTAMP:20260423T151631
CREATED:20260114T172712Z
LAST-MODIFIED:20260114T172712Z
UID:10040634-1769108400-1769108400@oceancountytourism.com
SUMMARY:Trivia Night at Seaside Social House
DESCRIPTION:Trivia Night at Seaside Social House | Facebook
URL:https://oceancountytourism.com/event/trivia-night-at-seaside-social-house/2026-01-22/
LOCATION:Seaside Social House\, 116 Sumner Ave.\, Seaside Heights
CATEGORIES:Live Entertainment
ATTACH;FMTTYPE=image/jpeg:https://oceancountytourism.com/wp-content/uploads/2026/01/553910268_122102173821033787_3281199720048400262_n.jpg
ORGANIZER;CN="Shoreline Trivia Co.":MAILTO:shorelinetriviaco@gmail.com
END:VEVENT
END:VCALENDAR