BEGIN:VCALENDAR
VERSION:2.0
PRODID:-//Ocean County Tourism - ECPv6.15.18//NONSGML v1.0//EN
CALSCALE:GREGORIAN
METHOD:PUBLISH
X-WR-CALNAME:Ocean County Tourism
X-ORIGINAL-URL:https://oceancountytourism.com
X-WR-CALDESC:Events for Ocean County Tourism
REFRESH-INTERVAL;VALUE=DURATION:PT1H
X-Robots-Tag:noindex
X-PUBLISHED-TTL:PT1H
BEGIN:VTIMEZONE
TZID:America/New_York
BEGIN:DAYLIGHT
TZOFFSETFROM:-0500
TZOFFSETTO:-0400
TZNAME:EDT
DTSTART:20240310T070000
END:DAYLIGHT
BEGIN:STANDARD
TZOFFSETFROM:-0400
TZOFFSETTO:-0500
TZNAME:EST
DTSTART:20241103T060000
END:STANDARD
BEGIN:DAYLIGHT
TZOFFSETFROM:-0500
TZOFFSETTO:-0400
TZNAME:EDT
DTSTART:20250309T070000
END:DAYLIGHT
BEGIN:STANDARD
TZOFFSETFROM:-0400
TZOFFSETTO:-0500
TZNAME:EST
DTSTART:20251102T060000
END:STANDARD
BEGIN:DAYLIGHT
TZOFFSETFROM:-0500
TZOFFSETTO:-0400
TZNAME:EDT
DTSTART:20260308T070000
END:DAYLIGHT
BEGIN:STANDARD
TZOFFSETFROM:-0400
TZOFFSETTO:-0500
TZNAME:EST
DTSTART:20261101T060000
END:STANDARD
END:VTIMEZONE
BEGIN:VEVENT
DTSTART;TZID=America/New_York:20251213T110000
DTEND;TZID=America/New_York:20251213T140000
DTSTAMP:20260422T205917
CREATED:20251124T124136Z
LAST-MODIFIED:20251124T154048Z
UID:10039928-1765623600-1765634400@oceancountytourism.com
SUMMARY:Jingle Jam 2025
DESCRIPTION:Music\, community\, and local support will come together at Jingle Jam on Saturday\, December 13\, from 11 a.m. to 2 p.m. in Brick\, \nas School of Rock students and community partners celebrate the holiday season with a free\, family-friendly event. \nJingle Jam will feature live demo performances from our talented student musicians along with craft activities\, giveaways\, and booths hosted by local youth-enrichment organization partners. Designed to bring neighbors together and showcase local talent\, the event invites guests to join an instant rock band—no experience needed—and take photos with Santa. \nAdmission is FREE and all ages are welcome! \nhttps://www.schoolofrock.com/locations/brick/events/jingle-jam-2025-december-13-2025
URL:https://oceancountytourism.com/event/jingle-jam-2925/
LOCATION:School of Rock Brick\, 485 Brick Blvd\, Brick\, 08723\, United States
CATEGORIES:Festivals & Family Fun,Free
ATTACH;FMTTYPE=image/png:https://oceancountytourism.com/wp-content/uploads/2025/11/Social.png
END:VEVENT
END:VCALENDAR