BEGIN:VCALENDAR
VERSION:2.0
PRODID:-//Ocean County Tourism - ECPv6.15.18//NONSGML v1.0//EN
CALSCALE:GREGORIAN
METHOD:PUBLISH
X-ORIGINAL-URL:https://oceancountytourism.com
X-WR-CALDESC:Events for Ocean County Tourism
REFRESH-INTERVAL;VALUE=DURATION:PT1H
X-Robots-Tag:noindex
X-PUBLISHED-TTL:PT1H
BEGIN:VTIMEZONE
TZID:America/New_York
BEGIN:DAYLIGHT
TZOFFSETFROM:-0500
TZOFFSETTO:-0400
TZNAME:EDT
DTSTART:20250309T070000
END:DAYLIGHT
BEGIN:STANDARD
TZOFFSETFROM:-0400
TZOFFSETTO:-0500
TZNAME:EST
DTSTART:20251102T060000
END:STANDARD
BEGIN:DAYLIGHT
TZOFFSETFROM:-0500
TZOFFSETTO:-0400
TZNAME:EDT
DTSTART:20260308T070000
END:DAYLIGHT
BEGIN:STANDARD
TZOFFSETFROM:-0400
TZOFFSETTO:-0500
TZNAME:EST
DTSTART:20261101T060000
END:STANDARD
BEGIN:DAYLIGHT
TZOFFSETFROM:-0500
TZOFFSETTO:-0400
TZNAME:EDT
DTSTART:20270314T070000
END:DAYLIGHT
BEGIN:STANDARD
TZOFFSETFROM:-0400
TZOFFSETTO:-0500
TZNAME:EST
DTSTART:20271107T060000
END:STANDARD
END:VTIMEZONE
BEGIN:VEVENT
DTSTART;TZID=America/New_York:20260721T090000
DTEND;TZID=America/New_York:20260721T120000
DTSTAMP:20260420T045922
CREATED:20260406T144415Z
LAST-MODIFIED:20260406T144415Z
UID:10042259-1784624400-1784635200@oceancountytourism.com
SUMMARY:Beginner Pastel - the Next level
DESCRIPTION:New to pastel\, feeling a little rusty\, or looking to return to the basics for fresh inspiration? \nThis course is designed to help you build confidence and discover the joy of pastel painting. \nIdeal for students who have completed the Ultimate Beginner Pastels class or for artists seeking a thoughtful refresher\, this class focuses on the next steps in developing your pastel skills. \nThrough a series of quick painting exercises\, you’ll experiment with mark-making and learn what pastel can do. \nWe’ll also explore a range of techniques to help you develop your own artistic voice. \nJoin us to strengthen your skills\, build confidence\, and unlock new creative possibilities in pastel painting. \nAll levels welcome!  All Supplies included. \nTuition: $60(member)/ $65 (non-member) \nhttp://www.pineshoresartassociation.org \neducation@pineshoresartassociation.org \n6095973557
URL:https://oceancountytourism.com/event/beginner-pastel-the-next-level/2026-07-21/
LOCATION:Pine Shores Art Association\, 94 Stafford Avenue\, Stafford\, NJ\, 08050\, United States
CATEGORIES:Art,Cultural & Heritage
ATTACH;FMTTYPE=image/jpeg:https://oceancountytourism.com/wp-content/uploads/2026/04/Beginner-Pastel2-002.jpg
END:VEVENT
BEGIN:VEVENT
DTSTART;TZID=America/New_York:20260807T100000
DTEND;TZID=America/New_York:20260807T140000
DTSTAMP:20260420T045922
CREATED:20260413T121525Z
LAST-MODIFIED:20260413T121525Z
UID:10042390-1786096800-1786111200@oceancountytourism.com
SUMMARY:The Spirit of the Horse
DESCRIPTION:Students will begin with two weeks of focused drawing\, exploring the anatomy\, proportions\, and graceful movement of the horse. \nFrom there\, the class transitions into painting\, where watercolor or gouache techniques are used to bring these studies to life—capturing form\, light\, and expressive energy with confident brushwork. \nTuition: $140(member)/$180(non-member) \nhttp://www.pineshoresartassociation.org \neducation@pineshoresartassociation.org \n6095973557
URL:https://oceancountytourism.com/event/the-spirit-of-the-horse/2026-08-07/
LOCATION:Pine Shores Art Association\, 94 Stafford Avenue\, Stafford\, NJ\, 08050\, United States
CATEGORIES:Art,Cultural & Heritage
ATTACH;FMTTYPE=image/jpeg:https://oceancountytourism.com/wp-content/uploads/2026/04/spirit-of-horse-002.jpg
END:VEVENT
BEGIN:VEVENT
DTSTART;TZID=America/New_York:20260915T090000
DTEND;TZID=America/New_York:20260915T150000
DTSTAMP:20260420T045923
CREATED:20260413T121801Z
LAST-MODIFIED:20260413T121801Z
UID:10042394-1789462800-1789484400@oceancountytourism.com
SUMMARY:Colored Glass and Clear Glass Reflections in Soft Pastel
DESCRIPTION:In this class\, students will explore the rewarding challenge of painting both colored and clear glass in soft pastel. \nWe will focus on understanding and building realistic reflections by breaking the subject matter into manageable segments and gradually layering light\, color\, and form. \nThis class is suitable for all skill levels and is designed to help artists strengthen their observation skills while enhancing confidence and creativity in pastel painting. \nFollow along with the Renee or bring your own images to work on. \nJoin us to enhance your skills and unlock your creativity in pastel painting! \nTuition:  $60(member)/$65(non-member) \nAll levels welcome.  Please bring your own supplies. \nhttp://www.pineshoresartassociation.org \neducation@pineshoresartassociation.org \n6095973557
URL:https://oceancountytourism.com/event/colored-glass-and-clear-glass-reflections-in-soft-pastel/
LOCATION:Pine Shores Art Association\, 94 Stafford Avenue\, Stafford\, NJ\, 08050\, United States
CATEGORIES:Art,Cultural & Heritage
ATTACH;FMTTYPE=image/jpeg:https://oceancountytourism.com/wp-content/uploads/2026/04/colored-glass-in-soft-pastels-002.jpg
END:VEVENT
BEGIN:VEVENT
DTSTART;TZID=America/New_York:20260921T090000
DTEND;TZID=America/New_York:20260921T150000
DTSTAMP:20260420T045923
CREATED:20260413T120747Z
LAST-MODIFIED:20260413T120747Z
UID:10042388-1789981200-1790002800@oceancountytourism.com
SUMMARY:Collage an Autumn Forest Scene
DESCRIPTION:In this one-day workshop\, students will create a dimensional\, slightly abstract forest scene with layered shapes and rich autumn colors using upcycled watercolor \n(or other water-media) paintings and watercolor paper scraps. \nStudent will learn core collage basics\, focusing on torn-paper techniques and creative ways to reuse “oops” paintings. \nThe class is beginner-friendly\, with optional challenges for returning students who want to build on their skills. \nEvery piece will be unique and will highlight an environmentally mindful approach to materials. \nTuition: $55(member)/$65(non-member) \nhttp://www.pineshoresartassociation.org \neducation@pineshoresartassociation.org \n6095973557
URL:https://oceancountytourism.com/event/collage-an-autumn-forest-scene/
LOCATION:Pine Shores Art Association\, 94 Stafford Avenue\, Stafford\, NJ\, 08050\, United States
CATEGORIES:Art,Cultural & Heritage
ATTACH;FMTTYPE=image/jpeg:https://oceancountytourism.com/wp-content/uploads/2026/04/collage-autumn-landscape-002.jpg
END:VEVENT
BEGIN:VEVENT
DTSTART;TZID=America/New_York:20261005T093000
DTEND;TZID=America/New_York:20261005T163000
DTSTAMP:20260420T045923
CREATED:20260406T132226Z
LAST-MODIFIED:20260406T132226Z
UID:10042219-1791192600-1791217800@oceancountytourism.com
SUMMARY:Watercolor Unleashed - Wet & Wild Ocean! -- with Julie Gilbert Pollard
DESCRIPTION:This workshop will show you how to paint the misty\, salty ocean waves as they crash upon the rocky shore. \nLearn to apply the “anatomy” of an ocean wave – along with how to paint rocks that actually look solid and hard – to a water-media painting. \nThe focus of this workshop will be watercolor – with gouache as a secondary OPTIONAL medium. \nA very versatile painting medium\, gouache can be used in both transparent / translucent and opaque applications. \nAdding gouache to your watercolor toolbox opens up a range of possibilities with the medium\, thereby helping us to capture our artistic vision. \nYou will be encouraged to add gouache white OR a full palette of opaque colors if you wish. The choice is yours!  Review the supply list for more details. \nReference photo material will be shared with you\, but you are welcome to use your own if you prefer. \nThere will be demos\, instruction at all levels\, one-on-one critique and lots of painting time. \nClass time will be structured\, yet open enough to accommodate the artistic spirit within us all. \nAll levels are welcome and encouraged to attend. The only prerequisite is an attitude of joy in the act of painting and some watercolor experience! \nTuition: $475 (member)/$525 (non-member) \nhttp://www.pineshoresartassociation.org \neducation@pineshoresartassociation.org \n6095973557
URL:https://oceancountytourism.com/event/watercolor-unleashed-wet-wild-ocean-with-julie-gilbert-pollard/2026-10-05/
LOCATION:Pine Shores Art Association\, 94 Stafford Avenue\, Stafford\, NJ\, 08050\, United States
CATEGORIES:Art,Cultural & Heritage
ATTACH;FMTTYPE=image/jpeg:https://oceancountytourism.com/wp-content/uploads/2026/04/watercolor-unleashed-002.jpg
END:VEVENT
BEGIN:VEVENT
DTSTART;TZID=America/New_York:20261116T090000
DTEND;TZID=America/New_York:20261116T150000
DTSTAMP:20260420T045923
CREATED:20260413T113815Z
LAST-MODIFIED:20260413T113815Z
UID:10042384-1794819600-1794841200@oceancountytourism.com
SUMMARY:Collage Winter Landscapes into Holiday Greeting Cards
DESCRIPTION:Turn “oops” watercolor paintings and paper scraps into charming holiday greetings in this one-day collage workshop. \nUsing torn-paper techniques\, students will learn the fundamentals of collage while upcycling watercolor remnants into fresh landscape and forest scenes. \nCreate a set of four 5″ x 7″ greeting cards—make each design unique or work in a coordinated series. \nTheme prompts focus on trees and landscapes\, and sample projects will be available for inspiration. \nCollages will be mounted on provided cards for frameable mini works of art. Add an optional calligraphic message inside or leave them blank for gifting. \nTuition:  $55 (member)/ $65 (Non_member) \nhttp://www.pineshoresartassociation.org \neducation@pineshoresartassociation.org \n6095973557 \n 
URL:https://oceancountytourism.com/event/collage-winter-landscapes-into-holiday-greeting-cards/
LOCATION:Pine Shores Art Association\, 94 Stafford Avenue\, Stafford\, NJ\, 08050\, United States
CATEGORIES:Art,Cultural & Heritage
ATTACH;FMTTYPE=image/jpeg:https://oceancountytourism.com/wp-content/uploads/2026/04/collage-winter-landscapes-002.jpg
END:VEVENT
END:VCALENDAR