BEGIN:VCALENDAR
VERSION:2.0
PRODID:-//Ocean County Tourism - ECPv6.15.18//NONSGML v1.0//EN
CALSCALE:GREGORIAN
METHOD:PUBLISH
X-ORIGINAL-URL:https://oceancountytourism.com
X-WR-CALDESC:Events for Ocean County Tourism
REFRESH-INTERVAL;VALUE=DURATION:PT1H
X-Robots-Tag:noindex
X-PUBLISHED-TTL:PT1H
BEGIN:VTIMEZONE
TZID:America/New_York
BEGIN:DAYLIGHT
TZOFFSETFROM:-0500
TZOFFSETTO:-0400
TZNAME:EDT
DTSTART:20240310T070000
END:DAYLIGHT
BEGIN:STANDARD
TZOFFSETFROM:-0400
TZOFFSETTO:-0500
TZNAME:EST
DTSTART:20241103T060000
END:STANDARD
BEGIN:DAYLIGHT
TZOFFSETFROM:-0500
TZOFFSETTO:-0400
TZNAME:EDT
DTSTART:20250309T070000
END:DAYLIGHT
BEGIN:STANDARD
TZOFFSETFROM:-0400
TZOFFSETTO:-0500
TZNAME:EST
DTSTART:20251102T060000
END:STANDARD
BEGIN:DAYLIGHT
TZOFFSETFROM:-0500
TZOFFSETTO:-0400
TZNAME:EDT
DTSTART:20260308T070000
END:DAYLIGHT
BEGIN:STANDARD
TZOFFSETFROM:-0400
TZOFFSETTO:-0500
TZNAME:EST
DTSTART:20261101T060000
END:STANDARD
BEGIN:DAYLIGHT
TZOFFSETFROM:-0500
TZOFFSETTO:-0400
TZNAME:EDT
DTSTART:20270314T070000
END:DAYLIGHT
BEGIN:STANDARD
TZOFFSETFROM:-0400
TZOFFSETTO:-0500
TZNAME:EST
DTSTART:20271107T060000
END:STANDARD
END:VTIMEZONE
BEGIN:VEVENT
DTSTART;TZID=America/New_York:20260210T183000
DTEND;TZID=America/New_York:20260210T183000
DTSTAMP:20260423T163255
CREATED:20260203T143002Z
LAST-MODIFIED:20260203T143002Z
UID:10041172-1770748200-1770748200@oceancountytourism.com
SUMMARY:Mary Fields Trailblazing Stagecoach Driver Delivering the USA Mail
DESCRIPTION:𝗠𝗮𝗿𝘆 𝗙𝗶𝗲𝗹𝗱𝘀 𝗧𝗿𝗮𝗶𝗹𝗯𝗹𝗮𝘇𝗶𝗻𝗴 𝗦𝘁𝗮𝗴𝗲𝗰𝗼𝗮𝗰𝗵 𝗗𝗿𝗶𝘃𝗲𝗿 𝗗𝗲𝗹𝗶𝘃𝗲𝗿𝗶𝗻𝗴 𝘁𝗵𝗲 𝗨𝗦𝗔 𝗠𝗮𝗶𝗹\nJackson Branch • Tuesday\, February 10 • 6:30pm\n𝗥𝗲𝗴𝗶𝘀𝘁𝗲𝗿 𝗵𝗲𝗿𝗲: https://theoceancountylibrary.libnet.info/event/15267068\n\n\nJoin Dr. Daisy Nelson Century as she presents a riveting historical interpretation of Mary Fields.\n\n\nDiscover the remarkable story of Mary Fields\, affectionately known as “Stagecoach Mary.”\nBreaking barriers as the first African American woman to carry U.S. mail\, Mary braved treacherous terrain and harsh weather\, delivering letters and packages across the wild West.\nHer courage\, determination\, and unwavering sense of duty made her a legendary figure in American history.\nJoin us in celebrating the inspiring legacy of a true pioneer who delivered more than mail—she delivered hope and connection to countless communities.\nEnjoy a theatrical representation by Dr. Daisy Nelson Century in honor of Black History Month.\n\n\n𝘚𝘱𝘰𝘯𝘴𝘰𝘳𝘦𝘥 𝘣𝘺 𝘵𝘩𝘦 𝘑𝘢𝘤𝘬𝘴𝘰𝘯 𝘍𝘳𝘪𝘦𝘯𝘥𝘴 𝘰𝘧 𝘵𝘩𝘦 𝘓𝘪𝘣𝘳𝘢𝘳𝘺.
URL:https://oceancountytourism.com/event/mary-fields-trailblazing-stagecoach-driver-delivering-the-usa-mail/
LOCATION:Ocean County Library Jackson Branch\, 2 Jackson Drive\, Jackson\, NJ\, United States
CATEGORIES:History
ATTACH;FMTTYPE=image/jpeg:https://oceancountytourism.com/wp-content/uploads/2026/02/608992662_1285107896991085_457952357298822587_n.jpg
END:VEVENT
BEGIN:VEVENT
DTSTART;TZID=America/New_York:20260207T103000
DTEND;TZID=America/New_York:20260207T103000
DTSTAMP:20260423T163255
CREATED:20260121T134104Z
LAST-MODIFIED:20260121T134104Z
UID:10040948-1770460200-1770460200@oceancountytourism.com
SUMMARY:Mindfulness Meditation
DESCRIPTION:𝗠𝗶𝗻𝗱𝗳𝘂𝗹𝗻𝗲𝘀𝘀 𝗠𝗲𝗱𝗶𝘁𝗮𝘁𝗶𝗼𝗻\nJackson Branch • Saturday\, February 7 • 10:30am\n𝗥𝗲𝗴𝗶𝘀𝘁𝗲𝗿 𝗵𝗲𝗿𝗲: https://theoceancountylibrary.libnet.info/event/15266985\n\n\nJoin us to explore deep and present moment awareness in a guided meditation.\nLearn mindfulness tools to navigate difficult experiences with wisdom and compassion.\nLearn to regulate your emotions\, and strengthen the immune system. Novice and experienced practitioners’ welcome.\nFollowed with Q&A.\n\n\nPresented by Shazia Zaman\, a certified mindfulness meditation teacher and practitioner.
URL:https://oceancountytourism.com/event/mindfulness-meditation/
LOCATION:Ocean County Library Jackson Branch\, 2 Jackson Drive\, Jackson\, NJ\, United States
ATTACH;FMTTYPE=image/jpeg:https://oceancountytourism.com/wp-content/uploads/2026/01/615430658_1290967789738429_3212894802733535181_n.jpg
END:VEVENT
BEGIN:VEVENT
DTSTART;TZID=America/New_York:20251004T143000
DTEND;TZID=America/New_York:20251004T153000
DTSTAMP:20260423T163255
CREATED:20250917T182809Z
LAST-MODIFIED:20250917T182809Z
UID:10039116-1759588200-1759591800@oceancountytourism.com
SUMMARY:Come Learn about Pineland Plants and Animals
DESCRIPTION:Jackson Branch • Saturday\, October 4 • 2:30pmRegister here: https://theoceancountylibrary.libnet.info/event/13969752Join the Pinelands Preservation Alliance for an eye-opening journey through the ancient forces that shaped South Jersey’s landscape and the rare ecosystem they support today.
URL:https://oceancountytourism.com/event/come-learn-about-pineland-plants-and-animals/
LOCATION:Ocean County Library Jackson Branch\, 2 Jackson Drive\, Jackson\, NJ\, United States
CATEGORIES:Nature
ATTACH;FMTTYPE=image/jpeg:https://oceancountytourism.com/wp-content/uploads/2025/09/547273086_1188094363359106_5738375320760930269_n.jpg
END:VEVENT
BEGIN:VEVENT
DTSTART;TZID=America/New_York:20251001T140000
DTEND;TZID=America/New_York:20251001T150000
DTSTAMP:20260423T163255
CREATED:20250917T183521Z
LAST-MODIFIED:20250917T183521Z
UID:10039119-1759327200-1759330800@oceancountytourism.com
SUMMARY:Clatonia Joaquin Dorticus
DESCRIPTION:Jackson Branch • Wednesday\, October 1 • 2pmRegister here: https://theoceancountylibrary.libnet.info/event/14164995C.J. Dorticus emerged as a photographer in 1890 in Newton\, NJ as one of the first Hispanic photographers to operate in the US. \nThis presentation will provide an overview of Dorticus’ life and career.
URL:https://oceancountytourism.com/event/clatonia-joaquin-dorticus/
LOCATION:Ocean County Library Jackson Branch\, 2 Jackson Drive\, Jackson\, NJ\, United States
ATTACH;FMTTYPE=image/jpeg:https://oceancountytourism.com/wp-content/uploads/2025/09/546956126_1188088426693033_7306261831288775820_n.jpg
END:VEVENT
BEGIN:VEVENT
DTSTART;TZID=America/New_York:20250913T140000
DTEND;TZID=America/New_York:20250913T150000
DTSTAMP:20260423T163255
CREATED:20250827T132722Z
LAST-MODIFIED:20250827T132722Z
UID:10038892-1757772000-1757775600@oceancountytourism.com
SUMMARY:Exploring Hispanic Roots with Genealogist Irisnery
DESCRIPTION:Jackson Branch • Saturday\, September 13 • 2pm\nRegister here: https://theoceancountylibrary.libnet.info/event/14123742\n\n\nIn celebration of Hispanic Heritage Month\, learn how to explore your Hispanic Roots with Genealogist Irisnery Flores.\nPlease register.\nThis is an in-person & virtual presentation.
URL:https://oceancountytourism.com/event/exploring-hispanic-roots-with-genealogist-irisnery/
LOCATION:Ocean County Library Jackson Branch\, 2 Jackson Drive\, Jackson\, NJ\, United States
ATTACH;FMTTYPE=image/jpeg:https://oceancountytourism.com/wp-content/uploads/2025/08/532931348_1164207222414487_7832066918786603308_n.jpg
END:VEVENT
BEGIN:VEVENT
DTSTART;TZID=America/New_York:20250913T103000
DTEND;TZID=America/New_York:20250913T113000
DTSTAMP:20260423T163255
CREATED:20250827T132515Z
LAST-MODIFIED:20250827T132515Z
UID:10038891-1757759400-1757763000@oceancountytourism.com
SUMMARY:Introduction to Mindfulness Meditation
DESCRIPTION:Jackson Branch • Saturday\, September 13 • 10:30am\nRegister here: https://theoceancountylibrary.libnet.info/event/14258817\n\n\nJoin us in some quiet time of self-care to experience and embody mindfulness through guided meditation.\nLearn the art of being in the moment and reclaim peace and the simple pleasure of slowing down.
URL:https://oceancountytourism.com/event/introduction-to-mindfulness-meditation/
LOCATION:Ocean County Library Jackson Branch\, 2 Jackson Drive\, Jackson\, NJ\, United States
ATTACH;FMTTYPE=image/jpeg:https://oceancountytourism.com/wp-content/uploads/2025/08/533534774_1164130255755517_759778831277178724_n.jpg
END:VEVENT
BEGIN:VEVENT
DTSTART;TZID=America/New_York:20250908T110000
DTEND;TZID=America/New_York:20250908T120000
DTSTAMP:20260423T163255
CREATED:20250827T132320Z
LAST-MODIFIED:20250827T132320Z
UID:10038890-1757329200-1757332800@oceancountytourism.com
SUMMARY:Nurturing Yourself: Mindfulness For Parents & Caregivers of Young Children
DESCRIPTION:𝗡𝘂𝗿𝘁𝘂𝗿𝗶𝗻𝗴 𝗬𝗼𝘂𝗿𝘀𝗲𝗹𝗳: 𝗠𝗶𝗻𝗱𝗳𝘂𝗹𝗻𝗲𝘀𝘀 𝗳𝗼𝗿 𝗣𝗮𝗿𝗲𝗻𝘁𝘀 𝗮𝗻𝗱 𝗖𝗮𝗿𝗲𝗴𝗶𝘃𝗲𝗿𝘀 𝗼𝗳 𝗬𝗼𝘂𝗻𝗴 𝗖𝗵𝗶𝗹𝗱𝗿𝗲𝗻\nJackson Branch • Monday\, September 8 • 11am\nRegister here: https://theoceancountylibrary.libnet.info/event/14106898\n\n\nThis hour-long interactive mindfulness session is designed specifically for parents and caregivers of children aged 0-5. Presented by Central Jersey Family Health Consortium.\n\n 
URL:https://oceancountytourism.com/event/nurturing-yourself-mindfulness-for-parents-caregivers-of-young-children/
LOCATION:Ocean County Library Jackson Branch\, 2 Jackson Drive\, Jackson\, NJ\, United States
ATTACH;FMTTYPE=image/jpeg:https://oceancountytourism.com/wp-content/uploads/2025/08/533110206_1164130252422184_3949400009789411610_n.jpg
END:VEVENT
BEGIN:VEVENT
DTSTART;TZID=America/New_York:20250806T143000
DTEND;TZID=America/New_York:20250806T143000
DTSTAMP:20260423T163255
CREATED:20250801T191846Z
LAST-MODIFIED:20250801T191846Z
UID:10038293-1754490600-1754490600@oceancountytourism.com
SUMMARY:Learn How to Create a Small-Scale Indoor Compost System with Ocean County Solid Waste Management
DESCRIPTION:𝗟𝗲𝗮𝗿𝗻 𝗛𝗼𝘄 𝘁𝗼 𝗖𝗿𝗲𝗮𝘁𝗲 𝗮 𝗦𝗺𝗮𝗹𝗹-𝗦𝗰𝗮𝗹𝗲 𝗜𝗻𝗱𝗼𝗼𝗿 𝗖𝗼𝗺𝗽𝗼𝘀𝘁 𝗦𝘆𝘀𝘁𝗲𝗺 𝗪𝗶𝘁𝗵 𝗧𝗵𝗲 𝗢𝗰𝗲𝗮𝗻 𝗖𝗼𝘂𝗻𝘁𝘆 𝗗𝗲𝗽𝗮𝗿𝘁𝗺𝗲𝗻𝘁 𝗼𝗳 𝗦𝗼𝗹𝗶𝗱 𝗪𝗮𝘀𝘁𝗲 𝗠𝗮𝗻𝗮𝗴𝗲𝗺𝗲𝗻𝘁Jackson Branch • Wednesday\, August 6 • 2:30pmRegister here: https://theoceancountylibrary.libnet.info/event/13801696Join us for a fun and educational program on Worm Composting!Learn how these amazing creatures can break down food scraps faster than traditional composting\, turning them into nutrient-rich castings that improve your soil. \nWhether you have a small basement or other small space\, worm composting is a great way to recycle organic waste in tight spaces. \nPlus\, it’s an eco-friendly way to reduce landfill waste while creating high-quality compost for your plants. \nDon’t miss out on this sustainable gardening solution!
URL:https://oceancountytourism.com/event/learn-how-to-create-a-small-scale-indoor-compost-system-with-ocean-county-solid-waste-management/
LOCATION:Ocean County Library Jackson Branch\, 2 Jackson Drive\, Jackson\, NJ\, United States
ATTACH;FMTTYPE=image/jpeg:https://oceancountytourism.com/wp-content/uploads/2025/08/515506084_1134171352084741_1261001042146980142_n.jpg
END:VEVENT
BEGIN:VEVENT
DTSTART;TZID=America/New_York:20250805T183000
DTEND;TZID=America/New_York:20250805T183000
DTSTAMP:20260423T163255
CREATED:20250801T192617Z
LAST-MODIFIED:20250801T192617Z
UID:10038299-1754418600-1754418600@oceancountytourism.com
SUMMARY:Got Bluebirds?
DESCRIPTION:Jackson Branch • Tuesday\, August 5 • 6:30pmRegister here: https://theoceancountylibrary.libnet.info/event/13801090Join Jean Montgomerie from the New Jersey Bluebird Society for a presentation about these beautiful North American and Jackson residents.\nRegistrants will be entered into a raffle for a NJ Bluebird Society Nestbox.
URL:https://oceancountytourism.com/event/got-bluebirds/
LOCATION:Ocean County Library Jackson Branch\, 2 Jackson Drive\, Jackson\, NJ\, United States
ATTACH;FMTTYPE=image/jpeg:https://oceancountytourism.com/wp-content/uploads/2025/08/517696922_1134113215423888_8854305271682454760_n.jpg
END:VEVENT
BEGIN:VEVENT
DTSTART;TZID=America/New_York:20250802T140000
DTEND;TZID=America/New_York:20250802T160000
DTSTAMP:20260423T163255
CREATED:20250801T193923Z
LAST-MODIFIED:20250801T193923Z
UID:10038305-1754143200-1754150400@oceancountytourism.com
SUMMARY:Opus Soul Summer Concert
DESCRIPTION:Jackson Branch • Saturday\, August 2 • 2pmRegister here: https://theoceancountylibrary.libnet.info/event/13845058Opus Soul plays an eclectic mix of blues\, funk\, jazz\, and rock. Join us for super summer music in the afternoon!𝘚𝘱𝘰𝘯𝘴𝘰𝘳𝘦𝘥 𝘣𝘺 𝘵𝘩𝘦 𝘑𝘢𝘤𝘬𝘴𝘰𝘯 𝘍𝘳𝘪𝘦𝘯𝘥𝘴 𝘰𝘧 𝘵𝘩𝘦 𝘓𝘪𝘣𝘳𝘢𝘳𝘺.
URL:https://oceancountytourism.com/event/opus-soul-summer-concert/
LOCATION:Ocean County Library Jackson Branch\, 2 Jackson Drive\, Jackson\, NJ\, United States
CATEGORIES:Concerts,Live Entertainment
ATTACH;FMTTYPE=image/jpeg:https://oceancountytourism.com/wp-content/uploads/2025/08/516430780_1134104608758082_744113661023281522_n.jpg
END:VEVENT
BEGIN:VEVENT
DTSTART;TZID=America/New_York:20250728T143000
DTEND;TZID=America/New_York:20250728T143000
DTSTAMP:20260423T163255
CREATED:20250718T193757Z
LAST-MODIFIED:20250718T193757Z
UID:10038097-1753713000-1753713000@oceancountytourism.com
SUMMARY:Stroke Awareness: Find Out if You are at Risk
DESCRIPTION:𝗦𝘁𝗿𝗼𝗸𝗲 𝗔𝘄𝗮𝗿𝗲𝗻𝗲𝘀𝘀: 𝗙𝗶𝗻𝗱 𝗢𝘂𝘁 𝗶𝗳 𝗬𝗼𝘂 𝗔𝗿𝗲 𝗮𝘁 𝗥𝗶𝘀𝗸Jackson Branch • Monday\, July 28 • 2:30pmRegister here: https://theoceancountylibrary.libnet.info/event/13565305According to the American Heart Association\, stroke accounted for about 1 in every 21 deaths in the United States and can be prevented by managing key health factors and behavior.Join expert nurse educators as they discuss the signs\, symptoms\, and risk factors of a stroke. Learn how B.E.F.A.S.T increases a person’s chance of recovery and information that you can share with your family and friends so that they too can B.E.F.A.S.T.Presented by Hackensack Meridian Health.
URL:https://oceancountytourism.com/event/stroke-awareness-find-out-if-you-are-at-risk/
LOCATION:Ocean County Library Jackson Branch\, 2 Jackson Drive\, Jackson\, NJ\, United States
ATTACH;FMTTYPE=image/jpeg:https://oceancountytourism.com/wp-content/uploads/2025/07/503502655_1117543470414196_7445390281525964502_n.jpg
END:VEVENT
BEGIN:VEVENT
DTSTART;TZID=America/New_York:20250614T150000
DTEND;TZID=America/New_York:20250614T150000
DTSTAMP:20260423T163255
CREATED:20250529T174814Z
LAST-MODIFIED:20250529T174814Z
UID:10036578-1749913200-1749913200@oceancountytourism.com
SUMMARY:Early African American Jazz
DESCRIPTION:𝗘𝗮𝗿𝗹𝘆 𝗔𝗳𝗿𝗶𝗰𝗮𝗻 𝗔𝗺𝗲𝗿𝗶𝗰𝗮𝗻 𝗝𝗮𝘇𝘇Jackson Branch • Saturday\, June 14 • 3pmRegister here: https://theoceancountylibrary.libnet.info/event/13365865The Florian Schantz Combo will perform selections that span nearly 50 years of popular music\, from the late 19th Century through the early Swing Era of the 1930s and 1940s.
URL:https://oceancountytourism.com/event/early-african-american-jazz/
LOCATION:Ocean County Library Jackson Branch\, 2 Jackson Drive\, Jackson\, NJ\, United States
ATTACH;FMTTYPE=image/jpeg:https://oceancountytourism.com/wp-content/uploads/2025/05/495477849_1084885670346643_6928181179962651898_n.jpg
END:VEVENT
END:VCALENDAR