BEGIN:VCALENDAR
VERSION:2.0
PRODID:-//Ocean County Tourism - ECPv6.15.18//NONSGML v1.0//EN
CALSCALE:GREGORIAN
METHOD:PUBLISH
X-WR-CALNAME:Ocean County Tourism
X-ORIGINAL-URL:https://oceancountytourism.com
X-WR-CALDESC:Events for Ocean County Tourism
REFRESH-INTERVAL;VALUE=DURATION:PT1H
X-Robots-Tag:noindex
X-PUBLISHED-TTL:PT1H
BEGIN:VTIMEZONE
TZID:America/New_York
BEGIN:DAYLIGHT
TZOFFSETFROM:-0500
TZOFFSETTO:-0400
TZNAME:EDT
DTSTART:20240310T070000
END:DAYLIGHT
BEGIN:STANDARD
TZOFFSETFROM:-0400
TZOFFSETTO:-0500
TZNAME:EST
DTSTART:20241103T060000
END:STANDARD
BEGIN:DAYLIGHT
TZOFFSETFROM:-0500
TZOFFSETTO:-0400
TZNAME:EDT
DTSTART:20250309T070000
END:DAYLIGHT
BEGIN:STANDARD
TZOFFSETFROM:-0400
TZOFFSETTO:-0500
TZNAME:EST
DTSTART:20251102T060000
END:STANDARD
BEGIN:DAYLIGHT
TZOFFSETFROM:-0500
TZOFFSETTO:-0400
TZNAME:EDT
DTSTART:20260308T070000
END:DAYLIGHT
BEGIN:STANDARD
TZOFFSETFROM:-0400
TZOFFSETTO:-0500
TZNAME:EST
DTSTART:20261101T060000
END:STANDARD
END:VTIMEZONE
BEGIN:VEVENT
DTSTART;TZID=America/New_York:20251122T083000
DTEND;TZID=America/New_York:20251122T133000
DTSTAMP:20260421T082246
CREATED:20251114T151107Z
LAST-MODIFIED:20251114T151107Z
UID:10039840-1763800200-1763818200@oceancountytourism.com
SUMMARY:Brick Thanksgiving Farmers Market
DESCRIPTION:
URL:https://oceancountytourism.com/event/brick-thanksgiving-farmers-market/
LOCATION:Windward Beach Park\, 265 Princeton Ave\, Brick\, NJ\, 08724\, United States
CATEGORIES:Tastings & Local Fresh
ATTACH;FMTTYPE=image/jpeg:https://oceancountytourism.com/wp-content/uploads/2025/11/577043943_1274801874682342_434231078271792532_n.jpg
END:VEVENT
BEGIN:VEVENT
DTSTART;TZID=America/New_York:20251018T130000
DTEND;TZID=America/New_York:20251018T190000
DTSTAMP:20260421T082246
CREATED:20250918T150714Z
LAST-MODIFIED:20250918T150714Z
UID:10039234-1760792400-1760814000@oceancountytourism.com
SUMMARY:Brick Township's Fall Fest
DESCRIPTION:
URL:https://oceancountytourism.com/event/brick-townships-fall-fest/
LOCATION:Windward Beach Park\, 265 Princeton Ave\, Brick\, NJ\, 08724\, United States
CATEGORIES:Festivals & Family Fun
ATTACH;FMTTYPE=image/jpeg:https://oceancountytourism.com/wp-content/uploads/2025/09/548618594_1225933606235836_3136520136080409230_n.jpg
END:VEVENT
BEGIN:VEVENT
DTSTART;TZID=America/New_York:20251011T090000
DTEND;TZID=America/New_York:20251011T140000
DTSTAMP:20260421T082246
CREATED:20250825T123507Z
LAST-MODIFIED:20250825T123507Z
UID:10038778-1760173200-1760191200@oceancountytourism.com
SUMMARY:Annual Fall Craft & Vendor Fair
DESCRIPTION:
URL:https://oceancountytourism.com/event/annual-fall-craft-vendor-fair-2/
LOCATION:Windward Beach Park\, 265 Princeton Ave\, Brick\, NJ\, 08724\, United States
CATEGORIES:Art,Festivals & Family Fun
ATTACH;FMTTYPE=image/jpeg:https://oceancountytourism.com/wp-content/uploads/2025/08/536698693_1203293868499810_3472843622104993741_n.jpg
END:VEVENT
BEGIN:VEVENT
DTSTART;TZID=America/New_York:20250927T083000
DTEND;TZID=America/New_York:20250927T133000
DTSTAMP:20260421T082246
CREATED:20250404T162211Z
LAST-MODIFIED:20250404T162211Z
UID:10035795-1758961800-1758979800@oceancountytourism.com
SUMMARY:Brick Farmers Market
DESCRIPTION:
URL:https://oceancountytourism.com/event/brick-farmers-market/2025-09-27/
LOCATION:Windward Beach Park\, 265 Princeton Ave\, Brick\, NJ\, 08724\, United States
ATTACH;FMTTYPE=image/jpeg:https://oceancountytourism.com/wp-content/uploads/2025/04/488642258_1216877597112567_4273185322878007160_n.jpg
END:VEVENT
BEGIN:VEVENT
DTSTART;TZID=America/New_York:20250724T173000
DTEND;TZID=America/New_York:20250724T173000
DTSTAMP:20260421T082246
CREATED:20250604T161150Z
LAST-MODIFIED:20250604T161150Z
UID:10036754-1753378200-1753378200@oceancountytourism.com
SUMMARY:Brick Township's SummerFest
DESCRIPTION:SummerFest 2025 Website
URL:https://oceancountytourism.com/event/brick-townships-summerfest/2025-07-24/
LOCATION:Windward Beach Park\, 265 Princeton Ave\, Brick\, NJ\, 08724\, United States
CATEGORIES:Concerts,Festivals & Family Fun,Live Entertainment
ATTACH;FMTTYPE=image/jpeg:https://oceancountytourism.com/wp-content/uploads/2025/06/503852253_1137070908455440_7489860736616131635_n.jpg
END:VEVENT
END:VCALENDAR