BEGIN:VCALENDAR
VERSION:2.0
PRODID:-//Ocean County Tourism - ECPv6.15.18//NONSGML v1.0//EN
CALSCALE:GREGORIAN
METHOD:PUBLISH
X-WR-CALNAME:Ocean County Tourism
X-ORIGINAL-URL:https://oceancountytourism.com
X-WR-CALDESC:Events for Ocean County Tourism
REFRESH-INTERVAL;VALUE=DURATION:PT1H
X-Robots-Tag:noindex
X-PUBLISHED-TTL:PT1H
BEGIN:VTIMEZONE
TZID:America/New_York
BEGIN:DAYLIGHT
TZOFFSETFROM:-0500
TZOFFSETTO:-0400
TZNAME:EDT
DTSTART:20240310T070000
END:DAYLIGHT
BEGIN:STANDARD
TZOFFSETFROM:-0400
TZOFFSETTO:-0500
TZNAME:EST
DTSTART:20241103T060000
END:STANDARD
BEGIN:DAYLIGHT
TZOFFSETFROM:-0500
TZOFFSETTO:-0400
TZNAME:EDT
DTSTART:20250309T070000
END:DAYLIGHT
BEGIN:STANDARD
TZOFFSETFROM:-0400
TZOFFSETTO:-0500
TZNAME:EST
DTSTART:20251102T060000
END:STANDARD
BEGIN:DAYLIGHT
TZOFFSETFROM:-0500
TZOFFSETTO:-0400
TZNAME:EDT
DTSTART:20260308T070000
END:DAYLIGHT
BEGIN:STANDARD
TZOFFSETFROM:-0400
TZOFFSETTO:-0500
TZNAME:EST
DTSTART:20261101T060000
END:STANDARD
END:VTIMEZONE
BEGIN:VEVENT
DTSTART;TZID=America/New_York:20250701T190000
DTEND;TZID=America/New_York:20250701T190000
DTSTAMP:20260419T165537
CREATED:20250611T121034Z
LAST-MODIFIED:20250611T121034Z
UID:10036955-1751396400-1751396400@oceancountytourism.com
SUMMARY:Toms River Tuesday Concert - Tupelo Honey
DESCRIPTION:Toms River Tuesday Concert – Tupelo Honey | Facebook
URL:https://oceancountytourism.com/event/toms-river-tuesday-concert-tupelo-honey/
LOCATION:Shelter Cove Beach\, 1390 Bay Ave\, Toms River\, 08753\, United States
CATEGORIES:Concerts,Festivals & Family Fun,Free
ATTACH;FMTTYPE=image/jpeg:https://oceancountytourism.com/wp-content/uploads/2025/06/concert.jpg
END:VEVENT
BEGIN:VEVENT
DTSTART;TZID=America/New_York:20250624T190000
DTEND;TZID=America/New_York:20250624T190000
DTSTAMP:20260419T165537
CREATED:20250611T115942Z
LAST-MODIFIED:20250624T144620Z
UID:10036954-1750791600-1750791600@oceancountytourism.com
SUMMARY:Toms River Tuesday: Mr. Ray Kid's Concert
DESCRIPTION:Bring a blanket\, bring a chair\, and bring your family to enjoy food & live music!. \nPlease call with questions: 732-341-1000 ext. 8414 \nrecreation@tomsrivertownship.com \nToms River Tuesday mr. Ray Kid’s Concert | Facebook
URL:https://oceancountytourism.com/event/toms-river-tuesday-mr-ray-kids-concert/
LOCATION:Shelter Cove Beach\, 1390 Bay Ave\, Toms River\, 08753\, United States
CATEGORIES:Free,Live Entertainment
ATTACH;FMTTYPE=image/jpeg:https://oceancountytourism.com/wp-content/uploads/2025/06/504095960_1125611912927859_8493957807104272026_n.jpg
END:VEVENT
BEGIN:VEVENT
DTSTART;TZID=America/New_York:20250621T083000
DTEND;TZID=America/New_York:20250621T083000
DTSTAMP:20260419T165537
CREATED:20250328T194220Z
LAST-MODIFIED:20250328T194220Z
UID:10035575-1750494600-1750494600@oceancountytourism.com
SUMMARY:Tennis Lesson with USA Sports & Toms River Recreation
DESCRIPTION:Dates: April 26 – June 21.  No class May 24.  Rain Date June 28. \nTime:  8:30am – 9:15am \nLocation: Snug Harbor Tennis Courts\, 1810 Warren Point Road \nAges: 3-5    8:30am – 9:15am \nAges 5-8     9:20am-10:10am \nAges 8-11   10:20am -11:10am \nAges 8-11   12:20pm – 1:10pm \nAges 11-14 11:20am-12:10pm \nDescription:  Weekly tennis lessons with USA Sport Group with Toms River Recreation \nRequirements:  Bring sunscreen\, towel\, drinks\, bug repellent\, and wear appropriate footwear. \nAll equipment required for the class will be provided by USA Sports.  You may bring your own tennis racket. \n*REGISTRATION INFORMATION* \nFollow the directions below to access the online system: \n1)  Log on to http://register.communitypass.net/tomsriver \n2)  Click on “Create Your Account Now” or Log In \n3)  Complete the account information and click submit \n4)  Click on “Register Now” to begin registering for \n      programs \nPlease call with questions: 732-341-1000 ext. 8437 or 8414
URL:https://oceancountytourism.com/event/tennis-lesson-with-usa-sports-toms-river-recreation/2025-06-21/
LOCATION:Snug Harbor Tennis Courts\, 1810 Warren Rd\, Toms River\, 08753\, United States
ATTACH;FMTTYPE=image/jpeg:https://oceancountytourism.com/wp-content/uploads/2025/03/Flyer-Tennis-USA-Sport-4-26-25-scaled.jpg
END:VEVENT
BEGIN:VEVENT
DTSTART;TZID=America/New_York:20250620T200000
DTEND;TZID=America/New_York:20250620T220000
DTSTAMP:20260419T165537
CREATED:20250415T150757Z
LAST-MODIFIED:20250415T150757Z
UID:10035886-1750449600-1750456800@oceancountytourism.com
SUMMARY:Bonfire on the Beach
DESCRIPTION:
URL:https://oceancountytourism.com/event/bonfire-on-the-beach-2/
LOCATION:Shelter Cove Beach\, 1390 Bay Ave\, Toms River\, 08753\, United States
CATEGORIES:Festivals & Family Fun
ATTACH;FMTTYPE=image/jpeg:https://oceancountytourism.com/wp-content/uploads/2025/04/490706651_1083411740481210_7473746847326384171_n.jpg
END:VEVENT
BEGIN:VEVENT
DTSTART;TZID=America/New_York:20250607T090000
DTEND;TZID=America/New_York:20250607T110000
DTSTAMP:20260419T165537
CREATED:20250415T151110Z
LAST-MODIFIED:20250606T162450Z
UID:10035887-1749286800-1749294000@oceancountytourism.com
SUMMARY:Fishing Derby
DESCRIPTION:FREE 2nd Annual Fishing Derby   This Saturday\, June 7th at Veterans Park\, 1630 North Bay Ave.  9am-11am \nPrizes for the heaviest bass and the longest bass.  Limited supply of loaner poles. \nBring your own bait.   No registration\, sign-in when you arrive!!  Ages 16 & under. \nhttps://www.facebook.com/tomsrivernj/ \nrecreation@tomsrivertownship.com \n732 341 1000 x 8414 or x8437
URL:https://oceancountytourism.com/event/fishing-derby-2/
LOCATION:Veterans Park Toms River\, 1630 North Bay Ave\, Toms River\, 08753\, United States
CATEGORIES:Festivals & Family Fun,Free
ATTACH;FMTTYPE=image/jpeg:https://oceancountytourism.com/wp-content/uploads/2025/04/490273414_1083404570481927_7603758980881717289_n.jpg
END:VEVENT
BEGIN:VEVENT
DTSTART;TZID=America/New_York:20250517T110000
DTEND;TZID=America/New_York:20250517T110000
DTSTAMP:20260419T165537
CREATED:20250415T152304Z
LAST-MODIFIED:20250515T115956Z
UID:10035888-1747479600-1747479600@oceancountytourism.com
SUMMARY:Toms River Founders Day *Cancelled*
DESCRIPTION:  \nDue to the rain in the forecast\, Saturday’s Founders Day is cancelled but we will be rescheduling the Event again for a future date in June.
URL:https://oceancountytourism.com/event/toms-river-founders-day-2/
LOCATION:Washington Street\, 101 Washington Street\, Toms River\, NJ\, 08753\, United States
CATEGORIES:Festivals & Family Fun
ATTACH;FMTTYPE=image/jpeg:https://oceancountytourism.com/wp-content/uploads/2025/04/490587473_1083398267149224_8554366229364790677_n.jpg
END:VEVENT
BEGIN:VEVENT
DTSTART;TZID=America/New_York:20250425T110000
DTEND;TZID=America/New_York:20250425T123000
DTSTAMP:20260419T165537
CREATED:20250328T134652Z
LAST-MODIFIED:20250328T134652Z
UID:10035566-1745578800-1745584200@oceancountytourism.com
SUMMARY:Skateboarding Adventure Camp with Coastal Adventures & Toms River Recreation
DESCRIPTION:Dates: Monday\, April 21 – Friday\, April 25\, 2025.  Rain Date – April 26th \nTime:  11:00am – 12:30pm  Intermediate \nLocation: Skate Park in Oak Park \nAges: 6 – 15 years old \nDescription:  We’ll guide your child through the exciting world of skateboarding\, from mastering the basics to confidently tackling intermediate-level skills.  Led by experienced\, first aid and CPR-certified instructors in a safe and supportive environment\, our program ensures personalized instruction\, enabling all participants to advance at their own pace.  Intermediate skills include park familiarization\, etiquette\, safety\, reviewing and  honing basic skills\, ollies\, shuv its\, bowl and ramp riding\, and extra tricks. \nhttps://tomsrivertownship.com/211/Recreation \n*REGISTRATION INFORMATION* \nFollow the directions below to access the online system: \n1)  Log on to http://register.communitypass.net/tomsriver \n2)  Click on “Create Your Account Now” or Log In \n3)  Complete the account information and click submit \n4)  Click on “Register Now” to begin registering for \n      programs \nPlease call with questions: 732-341-1000 ext. 8437 or 8414 \n 
URL:https://oceancountytourism.com/event/skateboarding-adventure-camp-with-coastal-adventures-toms-river-recreation-2/2025-04-25/
LOCATION:Toms River Skate Park\, 1511 North Bay Ave\, Toms River\, NJ
CATEGORIES:Festivals & Family Fun
ATTACH;FMTTYPE=image/png:https://oceancountytourism.com/wp-content/uploads/2025/03/Flyer-Skateboard-Camp-4-21-25-cp.png
END:VEVENT
BEGIN:VEVENT
DTSTART;TZID=America/New_York:20250425T090000
DTEND;TZID=America/New_York:20250425T103000
DTSTAMP:20260419T165537
CREATED:20250328T134310Z
LAST-MODIFIED:20250328T134310Z
UID:10035561-1745571600-1745577000@oceancountytourism.com
SUMMARY:Skateboarding Adventure Camp with Coastal Adventures & Toms River Recreation
DESCRIPTION:Dates: Monday\, April 21 – Friday\, April 25\, 2025.  Rain Date – April 26th \nTime:  9:00am – 10:30am  Beginner \nLocation: Skate Park in Oak Park \nAges: 6 – 15 years old \n\nDescription:  We’ll guide your child through the exciting world of skateboarding\, from mastering the basics to confidently tackling intermediate-level skills.  Led by experienced\, first aid and CPR-certified instructors in a safe and supportive environment\, our program ensures personalized instruction\, enabling all participants to advance at their own pace.  Beginner skills include equipment orientation\, park familiarization\, etiquette\, safety\, stances\, balances\, pushing\, gliding\, stopping\, tik tac/kick turning\, and introduction to ramps. \n*REGISTRATION INFORMATION* \nFollow the directions below to access the online system: \n1)  Log on to http://register.communitypass.net/tomsriver \n2)  Click on “Create Your Account Now” or Log In \n3)  Complete the account information and click submit \n4)  Click on “Register Now” to begin registering for \n      programs \nPlease call with questions: 732-341-1000 ext. 8437 or 8414 \nhttps://tomsrivertownship.com/211/Recreation \nrecreation@tomsrivertownship.com
URL:https://oceancountytourism.com/event/skateboarding-adventure-camp-with-coastal-adventures-toms-river-recreation/2025-04-25/
LOCATION:Toms River Skate Park\, 1511 North Bay Ave\, Toms River\, NJ
CATEGORIES:Festivals & Family Fun
ATTACH;FMTTYPE=image/png:https://oceancountytourism.com/wp-content/uploads/2025/03/Flyer-Skateboard-Camp-4-21-25-cp.png
END:VEVENT
END:VCALENDAR