BEGIN:VCALENDAR
VERSION:2.0
PRODID:-//Ocean County Tourism - ECPv6.15.18//NONSGML v1.0//EN
CALSCALE:GREGORIAN
METHOD:PUBLISH
X-WR-CALNAME:Ocean County Tourism
X-ORIGINAL-URL:https://oceancountytourism.com
X-WR-CALDESC:Events for Ocean County Tourism
REFRESH-INTERVAL;VALUE=DURATION:PT1H
X-Robots-Tag:noindex
X-PUBLISHED-TTL:PT1H
BEGIN:VTIMEZONE
TZID:America/New_York
BEGIN:DAYLIGHT
TZOFFSETFROM:-0500
TZOFFSETTO:-0400
TZNAME:EDT
DTSTART:20240310T070000
END:DAYLIGHT
BEGIN:STANDARD
TZOFFSETFROM:-0400
TZOFFSETTO:-0500
TZNAME:EST
DTSTART:20241103T060000
END:STANDARD
BEGIN:DAYLIGHT
TZOFFSETFROM:-0500
TZOFFSETTO:-0400
TZNAME:EDT
DTSTART:20250309T070000
END:DAYLIGHT
BEGIN:STANDARD
TZOFFSETFROM:-0400
TZOFFSETTO:-0500
TZNAME:EST
DTSTART:20251102T060000
END:STANDARD
BEGIN:DAYLIGHT
TZOFFSETFROM:-0500
TZOFFSETTO:-0400
TZNAME:EDT
DTSTART:20260308T070000
END:DAYLIGHT
BEGIN:STANDARD
TZOFFSETFROM:-0400
TZOFFSETTO:-0500
TZNAME:EST
DTSTART:20261101T060000
END:STANDARD
BEGIN:DAYLIGHT
TZOFFSETFROM:-0500
TZOFFSETTO:-0400
TZNAME:EDT
DTSTART:20270314T070000
END:DAYLIGHT
BEGIN:STANDARD
TZOFFSETFROM:-0400
TZOFFSETTO:-0500
TZNAME:EST
DTSTART:20271107T060000
END:STANDARD
END:VTIMEZONE
BEGIN:VEVENT
DTSTART;TZID=America/New_York:20260329T110000
DTEND;TZID=America/New_York:20260329T130000
DTSTAMP:20260419T220609
CREATED:20260227T170815Z
LAST-MODIFIED:20260227T170815Z
UID:10041503-1774782000-1774789200@oceancountytourism.com
SUMMARY:Stafford Recreation Easter Egg-Stravaganza
DESCRIPTION:Stafford Recreation Easter Egg-Stravaganza\nSunday March 29th    11am-1pm\nStafford Township Municipal Building\n260 East Bay Avenue\nFood • Games • Easter Bunny • Eggs\nFor more information\, contact 609-597-1000 Ext. 8573
URL:https://oceancountytourism.com/event/stafford-recreation-easter-egg-stravaganza/
LOCATION:Stafford Township Municipal Complex\, 260 East Bay Ave.\, Manahawkin\, NJ\, United States
CATEGORIES:Festivals & Family Fun
ATTACH;FMTTYPE=image/jpeg:https://oceancountytourism.com/wp-content/uploads/2026/02/643457956_1401837308648284_7860463623971772300_n.jpg
END:VEVENT
BEGIN:VEVENT
DTSTART;TZID=America/New_York:20251213T110000
DTEND;TZID=America/New_York:20251213T170000
DTSTAMP:20260419T220609
CREATED:20251119T163912Z
LAST-MODIFIED:20251119T163912Z
UID:10039858-1765623600-1765645200@oceancountytourism.com
SUMMARY:Holiday Wonderland & Christmas Market
DESCRIPTION:
URL:https://oceancountytourism.com/event/holiday-wonderland-christmas-market/
LOCATION:Heritage Park\, 49 West Bay Avenue\, Manahawkin\, NJ\, 08050\, United States
CATEGORIES:Festivals & Family Fun
ATTACH;FMTTYPE=image/jpeg:https://oceancountytourism.com/wp-content/uploads/2025/11/event.jpg
END:VEVENT
BEGIN:VEVENT
DTSTART;TZID=America/New_York:20251012T120000
DTEND;TZID=America/New_York:20251012T170000
DTSTAMP:20260419T220609
CREATED:20250911T144542Z
LAST-MODIFIED:20250911T150927Z
UID:10039082-1760270400-1760288400@oceancountytourism.com
SUMMARY:18th Annual Stafford Township Fall Harvest & Wine Festival
DESCRIPTION:
URL:https://oceancountytourism.com/event/18th-annual-stafford-township-fall-harvest-wine-festival/2025-10-12/
LOCATION:Manahawkin Lake Park\, 86 N Main St\, Manahawkin\, NJ\, 08050\, United States
CATEGORIES:Festivals & Family Fun,Food,Live Entertainment
ATTACH;FMTTYPE=image/jpeg:https://oceancountytourism.com/wp-content/uploads/2025/09/545809144_1259727976192552_6042519566259587353_n.jpg
END:VEVENT
BEGIN:VEVENT
DTSTART;TZID=America/New_York:20251011T120000
DTEND;TZID=America/New_York:20251011T120000
DTSTAMP:20260419T220609
CREATED:20250911T144008Z
LAST-MODIFIED:20250911T144008Z
UID:10039080-1760184000-1760184000@oceancountytourism.com
SUMMARY:Stafford Recreation Halloween Parade
DESCRIPTION:
URL:https://oceancountytourism.com/event/stafford-recreation-halloween-parade/
LOCATION:Stafford Fire House\, 133 Stafford Ave.\, Manahawkin
CATEGORIES:Festivals & Family Fun
ATTACH;FMTTYPE=image/jpeg:https://oceancountytourism.com/wp-content/uploads/2025/09/517658642_1259728152859201_7005987362176060803_n.jpg
END:VEVENT
BEGIN:VEVENT
DTSTART;TZID=America/New_York:20250805T170000
DTEND;TZID=America/New_York:20250805T200000
DTSTAMP:20260419T220609
CREATED:20250717T194358Z
LAST-MODIFIED:20250717T194358Z
UID:10038090-1754413200-1754424000@oceancountytourism.com
SUMMARY:18th Annual Cardboard Boat Regatta
DESCRIPTION:The 18th Annual Cardboard Boat Regatta is setting sail once again!\n\n\nTuesday August 5 – Manahawkin Lake Park 5:00 PM\nBoat Inspection 4:00 PM\n\n\nRegister today at https://www.staffordnj.gov/406/Cardboard-Boat-Regatta\n\n\nStay at the park afterwards for all the fun of National Night Out from 5 – 8 pm.\nNational Night Out and the annual Cardboard Boat Regatta bring the entire community together for an evening of fun and relationship building between residents and law enforcement.
URL:https://oceancountytourism.com/event/18th-annual-cardboard-boat-regatta/
LOCATION:Manahawkin Lake Park\, 86 N Main St\, Manahawkin\, NJ\, 08050\, United States
CATEGORIES:Festivals & Family Fun
ATTACH;FMTTYPE=image/jpeg:https://oceancountytourism.com/wp-content/uploads/2025/07/518219617_1214581367373880_1030105245352357302_n.jpg
END:VEVENT
END:VCALENDAR