BEGIN:VCALENDAR
VERSION:2.0
PRODID:-//Ocean County Tourism - ECPv6.15.18//NONSGML v1.0//EN
CALSCALE:GREGORIAN
METHOD:PUBLISH
X-ORIGINAL-URL:https://oceancountytourism.com
X-WR-CALDESC:Events for Ocean County Tourism
REFRESH-INTERVAL;VALUE=DURATION:PT1H
X-Robots-Tag:noindex
X-PUBLISHED-TTL:PT1H
BEGIN:VTIMEZONE
TZID:America/New_York
BEGIN:DAYLIGHT
TZOFFSETFROM:-0500
TZOFFSETTO:-0400
TZNAME:EDT
DTSTART:20240310T070000
END:DAYLIGHT
BEGIN:STANDARD
TZOFFSETFROM:-0400
TZOFFSETTO:-0500
TZNAME:EST
DTSTART:20241103T060000
END:STANDARD
BEGIN:DAYLIGHT
TZOFFSETFROM:-0500
TZOFFSETTO:-0400
TZNAME:EDT
DTSTART:20250309T070000
END:DAYLIGHT
BEGIN:STANDARD
TZOFFSETFROM:-0400
TZOFFSETTO:-0500
TZNAME:EST
DTSTART:20251102T060000
END:STANDARD
BEGIN:DAYLIGHT
TZOFFSETFROM:-0500
TZOFFSETTO:-0400
TZNAME:EDT
DTSTART:20260308T070000
END:DAYLIGHT
BEGIN:STANDARD
TZOFFSETFROM:-0400
TZOFFSETTO:-0500
TZNAME:EST
DTSTART:20261101T060000
END:STANDARD
BEGIN:DAYLIGHT
TZOFFSETFROM:-0500
TZOFFSETTO:-0400
TZNAME:EDT
DTSTART:20270314T070000
END:DAYLIGHT
BEGIN:STANDARD
TZOFFSETFROM:-0400
TZOFFSETTO:-0500
TZNAME:EST
DTSTART:20271107T060000
END:STANDARD
END:VTIMEZONE
BEGIN:VEVENT
DTSTART;TZID=America/New_York:20260307T110000
DTEND;TZID=America/New_York:20260307T170000
DTSTAMP:20260424T062446
CREATED:20260116T162431Z
LAST-MODIFIED:20260225T124637Z
UID:10040712-1772881200-1772902800@oceancountytourism.com
SUMMARY:11th Annual Arctic Outreach
DESCRIPTION:Eleventh Annual Arctic Outreach \nA Community event of arctic proportions Saturday March 7\, 2026   11am-5pm @ Hollow Pines \nIn loving memory of Mallory E. McBrien \nAll profits benefit the Jetty Rock Foundation \nLive music\, auctions\, raffles\, craft beer\, wine & hot spiked beverages and kids’ activities. \nFor more information visit: Arctic Outreach – Jetty Rock Foundation
URL:https://oceancountytourism.com/event/11th-annual-arctic-outreach/
LOCATION:Hollow Pines\, 475 Main Street\, West Creek\, 08092\, United States
CATEGORIES:Festivals & Family Fun
ATTACH;FMTTYPE=image/jpeg:https://oceancountytourism.com/wp-content/uploads/2026/01/611741122_1322090753296744_3368620249648724051_n.jpg
END:VEVENT
BEGIN:VEVENT
DTSTART;TZID=America/New_York:20251011T110000
DTEND;TZID=America/New_York:20251011T160000
DTSTAMP:20260424T062446
CREATED:20250916T190229Z
LAST-MODIFIED:20250916T190229Z
UID:10039105-1760180400-1760198400@oceancountytourism.com
SUMMARY:7th Annual Shellabration
DESCRIPTION:Join us for our 7th Annual Shellabration! \nThis community event spotlights oysters and their role in clean water and keeping our coastal ecosystem healthy. \nCome learn about this magnificent bivalve as you enjoy coastal fare and live music. \nAll proceeds will benefit the Jetty Rock Foundation’s Oyster Recycling Programs and related initiatives. \nFun for all ages! More information: https://jettyrockfoundation.org/pages/shellabration
URL:https://oceancountytourism.com/event/7th-annual-shellabration/
LOCATION:Long Beach Township Municipal Building\, 6805 Long Beach Blvd\, Long Beach Township\, 08008\, United States
CATEGORIES:Festivals & Family Fun
ATTACH;FMTTYPE=image/jpeg:https://oceancountytourism.com/wp-content/uploads/2025/09/547501091_1225575226281631_7630391158232987334_n-scaled.jpg
END:VEVENT
BEGIN:VEVENT
DTSTART;TZID=America/New_York:20250906T080000
DTEND;TZID=America/New_York:20250906T170000
DTSTAMP:20260424T062446
CREATED:20250812T171349Z
LAST-MODIFIED:20250812T171349Z
UID:10038471-1757145600-1757178000@oceancountytourism.com
SUMMARY:19th Annual Clam Jam
DESCRIPTION: The contest waiting period begins Saturday\, September 6\, 2025. \nThe event is run on a Saturday or Sunday in September or October when the waves and weather are favorable. \nTo register visit: Clam Jam – Jetty Rock Foundation
URL:https://oceancountytourism.com/event/19th-annual-clam-jam/
LOCATION:68th Street Brant Beach\, 68th St.\, Brant Beach\, 08008
CATEGORIES:Festivals & Family Fun
ATTACH;FMTTYPE=image/jpeg:https://oceancountytourism.com/wp-content/uploads/2025/08/528050607_1189277359911418_7376201063866221595_n-scaled.jpg
END:VEVENT
BEGIN:VEVENT
DTSTART;TZID=America/New_York:20250816T080000
DTEND;TZID=America/New_York:20250816T120000
DTSTAMP:20260424T062446
CREATED:20250508T140737Z
LAST-MODIFIED:20250508T140737Z
UID:10036153-1755331200-1755345600@oceancountytourism.com
SUMMARY:3rd Annual Littleneck Jam
DESCRIPTION:The goal of the Littleneck Jam is to foster the next generation of the surfing community with good vibes while teaching them the basic ropes of contest surfing. \nThe Littleneck Jam will be open to surfers 12 and under\, assistance from local surf instructors and parents will be allowed. \nTo register visit: Littleneck Jam – Jetty Rock Foundation
URL:https://oceancountytourism.com/event/3rd-annual-littleneck-jam/
LOCATION:68th Street Brant Beach\, 68th St.\, Brant Beach\, 08008
CATEGORIES:Festivals & Family Fun
ATTACH;FMTTYPE=image/jpeg:https://oceancountytourism.com/wp-content/uploads/2025/05/495597225_1116501413855680_5981540901037615213_n.jpg
END:VEVENT
BEGIN:VEVENT
DTSTART;TZID=America/New_York:20250720T080000
DTEND;TZID=America/New_York:20250720T170000
DTSTAMP:20260424T062446
CREATED:20250508T140252Z
LAST-MODIFIED:20250508T140252Z
UID:10036152-1752998400-1753030800@oceancountytourism.com
SUMMARY:17th Annual Coquina Jam
DESCRIPTION:A Powerful All-Women’s Surf Contest where we surf and compete for a cause. All proceeds benefit families affected by cancer via David’s Dream & Believe Cancer Foundation. \nTo register visit: Coquina Jam – Jetty Rock Foundation \n17th Annual Coquina Jam | Facebook
URL:https://oceancountytourism.com/event/17th-annual-coquina-jam/
LOCATION:68th Street Brant Beach\, 68th St.\, Brant Beach\, 08008
ATTACH;FMTTYPE=image/jpeg:https://oceancountytourism.com/wp-content/uploads/2025/05/494695381_1112500600922428_2316973473870187464_n.jpg
END:VEVENT
BEGIN:VEVENT
DTSTART;TZID=America/New_York:20250614T110000
DTEND;TZID=America/New_York:20250614T170000
DTSTAMP:20260424T062446
CREATED:20250421T193449Z
LAST-MODIFIED:20250421T193449Z
UID:10035979-1749898800-1749920400@oceancountytourism.com
SUMMARY:Hopsauce Festival
DESCRIPTION:For more information visit: Hop Sauce Festival – Jetty Rock Foundation
URL:https://oceancountytourism.com/event/hopsauce-festival/
LOCATION:Taylor Ave Parking Lot\, Taylor Ave.\, Beach Haven\, NJ\, 08008\, United States
CATEGORIES:Festivals & Family Fun,Food,Live Entertainment
ATTACH;FMTTYPE=image/jpeg:https://oceancountytourism.com/wp-content/uploads/2025/04/487562337_1088026536703168_5606492362127319559_n.jpg
END:VEVENT
END:VCALENDAR