BEGIN:VCALENDAR
VERSION:2.0
PRODID:-//Ocean County Tourism - ECPv6.15.18//NONSGML v1.0//EN
CALSCALE:GREGORIAN
METHOD:PUBLISH
X-WR-CALNAME:Ocean County Tourism
X-ORIGINAL-URL:https://oceancountytourism.com
X-WR-CALDESC:Events for Ocean County Tourism
REFRESH-INTERVAL;VALUE=DURATION:PT1H
X-Robots-Tag:noindex
X-PUBLISHED-TTL:PT1H
BEGIN:VTIMEZONE
TZID:America/New_York
BEGIN:DAYLIGHT
TZOFFSETFROM:-0500
TZOFFSETTO:-0400
TZNAME:EDT
DTSTART:20250309T070000
END:DAYLIGHT
BEGIN:STANDARD
TZOFFSETFROM:-0400
TZOFFSETTO:-0500
TZNAME:EST
DTSTART:20251102T060000
END:STANDARD
BEGIN:DAYLIGHT
TZOFFSETFROM:-0500
TZOFFSETTO:-0400
TZNAME:EDT
DTSTART:20260308T070000
END:DAYLIGHT
BEGIN:STANDARD
TZOFFSETFROM:-0400
TZOFFSETTO:-0500
TZNAME:EST
DTSTART:20261101T060000
END:STANDARD
BEGIN:DAYLIGHT
TZOFFSETFROM:-0500
TZOFFSETTO:-0400
TZNAME:EDT
DTSTART:20270314T070000
END:DAYLIGHT
BEGIN:STANDARD
TZOFFSETFROM:-0400
TZOFFSETTO:-0500
TZNAME:EST
DTSTART:20271107T060000
END:STANDARD
END:VTIMEZONE
BEGIN:VEVENT
DTSTART;TZID=America/New_York:20260523T100000
DTEND;TZID=America/New_York:20260523T150000
DTSTAMP:20260423T180343
CREATED:20260422T121052Z
LAST-MODIFIED:20260422T121052Z
UID:10042540-1779530400-1779548400@oceancountytourism.com
SUMMARY:Craft and Vendor Fair
DESCRIPTION:HS South Marching Band Spring Vendor & Craft Fair \nSaturday\, May 23\, 2026 \n10am-3pm \nToms River Elks \n600 Washington St Toms River \n• Beads on Blanchard\n• Pens & Pearls\n• Strawberry Moon\nCreatives\n• Plan Bee\n• Fran daisy Crochet\n• Jewelry by Erin Dale\n• For Gourd’s Sake\n• Luna’s Bootique\n• Fashion Rose\n• Sassy Creations\n• What the Shelly\n• Bun up & Bead\n• Grumpy Sauce and Spices \n• Neckcessories\n• Lela Marie Creations\n• Once Upon A Book\n• Baked Goods for Bowie\n• Ida’s Creations\n• NJ Beach Walks\n• Field of Magnets\n• The Crafty Cat\n• Tara’s Color Creations\n• For Keeps LLC\n• Sweet P’s Creations \n• Decoupaged Shells\n• Madam Metatron Tarot Reading\n• Mousepads\, Slate Tiles\, Cutting Boards & More\n• M & M Designs\n• Bath Time Princess\n• Coastal Candle Company\n• Morning Bloom Boutique\n• Tumblers\, Coffee Cups & Keychains\n• Scentsy \n• Bone & Soul Threadworks \n• Charcuterie Boards & Hand Crafted Wood Handles\n• Handmade Wood Burnings\n• Custom Creations by Jayne\n• Pickled Aliens\n• Moonlight Glass\n• Stay Fresh Creations \n• Big Chunks of Love\n• The Jersey Bee Girls\n• Red Hour Glass Creations\n• Leaf Cigars Bayville\n• Cumberland Air Solutions\n• Kiwis Krochet\n• Bits of Love Mosaics\n• Careless Creations\n• Just Like the Real Thing\n(Almost)\n• Abby Woo Productions\n• Chic Stitch Duo\n• Susan’s Tumber Crafts\n• Joey’s Book Nook\n• Edible Art\n• Ben’s Pillow Shop\n• KJ’s Knitted Treasures\n• DJ Designs\n• Handmade purses\, tote bags\, wallets\n• Beach Art & Sea Glass\n• Reach Art\n• JHZ Designs\n• Pearl and Tide Boutique\n• Cainboywoodworking
URL:https://oceancountytourism.com/event/craft-and-vendor-fair/
LOCATION:Toms River Elks Lodge #1875\, 600 Washington Street\, Toms River\, NJ\, 08753\, United States
CATEGORIES:Festivals & Family Fun
ATTACH;FMTTYPE=image/png:https://oceancountytourism.com/wp-content/uploads/2026/04/Vendor-Craft-Fair-Flyer.png
END:VEVENT
END:VCALENDAR