BEGIN:VCALENDAR
VERSION:2.0
PRODID:-//Ocean County Tourism - ECPv6.15.18//NONSGML v1.0//EN
CALSCALE:GREGORIAN
METHOD:PUBLISH
X-WR-CALNAME:Ocean County Tourism
X-ORIGINAL-URL:https://oceancountytourism.com
X-WR-CALDESC:Events for Ocean County Tourism
REFRESH-INTERVAL;VALUE=DURATION:PT1H
X-Robots-Tag:noindex
X-PUBLISHED-TTL:PT1H
BEGIN:VTIMEZONE
TZID:America/New_York
BEGIN:DAYLIGHT
TZOFFSETFROM:-0500
TZOFFSETTO:-0400
TZNAME:EDT
DTSTART:20250309T070000
END:DAYLIGHT
BEGIN:STANDARD
TZOFFSETFROM:-0400
TZOFFSETTO:-0500
TZNAME:EST
DTSTART:20251102T060000
END:STANDARD
BEGIN:DAYLIGHT
TZOFFSETFROM:-0500
TZOFFSETTO:-0400
TZNAME:EDT
DTSTART:20260308T070000
END:DAYLIGHT
BEGIN:STANDARD
TZOFFSETFROM:-0400
TZOFFSETTO:-0500
TZNAME:EST
DTSTART:20261101T060000
END:STANDARD
BEGIN:DAYLIGHT
TZOFFSETFROM:-0500
TZOFFSETTO:-0400
TZNAME:EDT
DTSTART:20270314T070000
END:DAYLIGHT
BEGIN:STANDARD
TZOFFSETFROM:-0400
TZOFFSETTO:-0500
TZNAME:EST
DTSTART:20271107T060000
END:STANDARD
END:VTIMEZONE
BEGIN:VEVENT
DTSTART;TZID=America/New_York:20260702T201500
DTEND;TZID=America/New_York:20260702T213000
DTSTAMP:20260423T003444
CREATED:20260422T162853Z
LAST-MODIFIED:20260422T162853Z
UID:10042572-1783023300-1783027800@oceancountytourism.com
SUMMARY:Bubbles & Beats
DESCRIPTION:Bubbles & Beats \nYou asked for more bubbles… \nGet ready to dance\, glow and POP into the fun with Bubbles & Beats happening every Thursday night in July this summer before the fireworks with DJ Case Ace our friends from NJ Bubbles Parties! \nJoin us on the beach for a high-energy party featuring: \nGlow bubbles filling the sky \nLive DJ spinning summer vibes \nBeachside fun for all ages! \nLocation: Pavilion Beach Stage (on the beach in front of the Aquarium) \nCome early\, catch the beats\, chase the bubbles and stay for the fireworks—it’s the ultimate Thursday night summer kickoff! \n*Weather and wind permitting. \nhttps://jenkinsons.com/event/bubbles-beats/2026-07-02/ \ninformation@jenkinsons.com \n7328920600
URL:https://oceancountytourism.com/event/bubbles-beats/2026-07-02/
LOCATION:Jenkinson’s Boardwalk\, 300 Ocean Ave.\, Point Pleasant Beach\, NJ\, 08742\, United States
CATEGORIES:Festivals & Family Fun
ATTACH;FMTTYPE=image/jpeg:https://oceancountytourism.com/wp-content/uploads/2026/04/31798-BubblesBeats-SQ.jpg
END:VEVENT
BEGIN:VEVENT
DTSTART;TZID=America/New_York:20260709T201500
DTEND;TZID=America/New_York:20260709T213000
DTSTAMP:20260423T003444
CREATED:20260422T162853Z
LAST-MODIFIED:20260422T162853Z
UID:10042573-1783628100-1783632600@oceancountytourism.com
SUMMARY:Bubbles & Beats
DESCRIPTION:Bubbles & Beats \nYou asked for more bubbles… \nGet ready to dance\, glow and POP into the fun with Bubbles & Beats happening every Thursday night in July this summer before the fireworks with DJ Case Ace our friends from NJ Bubbles Parties! \nJoin us on the beach for a high-energy party featuring: \nGlow bubbles filling the sky \nLive DJ spinning summer vibes \nBeachside fun for all ages! \nLocation: Pavilion Beach Stage (on the beach in front of the Aquarium) \nCome early\, catch the beats\, chase the bubbles and stay for the fireworks—it’s the ultimate Thursday night summer kickoff! \n*Weather and wind permitting. \nhttps://jenkinsons.com/event/bubbles-beats/2026-07-02/ \ninformation@jenkinsons.com \n7328920600
URL:https://oceancountytourism.com/event/bubbles-beats/2026-07-09/
LOCATION:Jenkinson’s Boardwalk\, 300 Ocean Ave.\, Point Pleasant Beach\, NJ\, 08742\, United States
CATEGORIES:Festivals & Family Fun
ATTACH;FMTTYPE=image/jpeg:https://oceancountytourism.com/wp-content/uploads/2026/04/31798-BubblesBeats-SQ.jpg
END:VEVENT
BEGIN:VEVENT
DTSTART;TZID=America/New_York:20260716T201500
DTEND;TZID=America/New_York:20260716T213000
DTSTAMP:20260423T003444
CREATED:20260422T162853Z
LAST-MODIFIED:20260422T162853Z
UID:10042574-1784232900-1784237400@oceancountytourism.com
SUMMARY:Bubbles & Beats
DESCRIPTION:Bubbles & Beats \nYou asked for more bubbles… \nGet ready to dance\, glow and POP into the fun with Bubbles & Beats happening every Thursday night in July this summer before the fireworks with DJ Case Ace our friends from NJ Bubbles Parties! \nJoin us on the beach for a high-energy party featuring: \nGlow bubbles filling the sky \nLive DJ spinning summer vibes \nBeachside fun for all ages! \nLocation: Pavilion Beach Stage (on the beach in front of the Aquarium) \nCome early\, catch the beats\, chase the bubbles and stay for the fireworks—it’s the ultimate Thursday night summer kickoff! \n*Weather and wind permitting. \nhttps://jenkinsons.com/event/bubbles-beats/2026-07-02/ \ninformation@jenkinsons.com \n7328920600
URL:https://oceancountytourism.com/event/bubbles-beats/2026-07-16/
LOCATION:Jenkinson’s Boardwalk\, 300 Ocean Ave.\, Point Pleasant Beach\, NJ\, 08742\, United States
CATEGORIES:Festivals & Family Fun
ATTACH;FMTTYPE=image/jpeg:https://oceancountytourism.com/wp-content/uploads/2026/04/31798-BubblesBeats-SQ.jpg
END:VEVENT
BEGIN:VEVENT
DTSTART;TZID=America/New_York:20260723T201500
DTEND;TZID=America/New_York:20260723T213000
DTSTAMP:20260423T003444
CREATED:20260422T162853Z
LAST-MODIFIED:20260422T162853Z
UID:10042575-1784837700-1784842200@oceancountytourism.com
SUMMARY:Bubbles & Beats
DESCRIPTION:Bubbles & Beats \nYou asked for more bubbles… \nGet ready to dance\, glow and POP into the fun with Bubbles & Beats happening every Thursday night in July this summer before the fireworks with DJ Case Ace our friends from NJ Bubbles Parties! \nJoin us on the beach for a high-energy party featuring: \nGlow bubbles filling the sky \nLive DJ spinning summer vibes \nBeachside fun for all ages! \nLocation: Pavilion Beach Stage (on the beach in front of the Aquarium) \nCome early\, catch the beats\, chase the bubbles and stay for the fireworks—it’s the ultimate Thursday night summer kickoff! \n*Weather and wind permitting. \nhttps://jenkinsons.com/event/bubbles-beats/2026-07-02/ \ninformation@jenkinsons.com \n7328920600
URL:https://oceancountytourism.com/event/bubbles-beats/2026-07-23/
LOCATION:Jenkinson’s Boardwalk\, 300 Ocean Ave.\, Point Pleasant Beach\, NJ\, 08742\, United States
CATEGORIES:Festivals & Family Fun
ATTACH;FMTTYPE=image/jpeg:https://oceancountytourism.com/wp-content/uploads/2026/04/31798-BubblesBeats-SQ.jpg
END:VEVENT
BEGIN:VEVENT
DTSTART;TZID=America/New_York:20260730T201500
DTEND;TZID=America/New_York:20260730T213000
DTSTAMP:20260423T003444
CREATED:20260422T162853Z
LAST-MODIFIED:20260422T162853Z
UID:10042576-1785442500-1785447000@oceancountytourism.com
SUMMARY:Bubbles & Beats
DESCRIPTION:Bubbles & Beats \nYou asked for more bubbles… \nGet ready to dance\, glow and POP into the fun with Bubbles & Beats happening every Thursday night in July this summer before the fireworks with DJ Case Ace our friends from NJ Bubbles Parties! \nJoin us on the beach for a high-energy party featuring: \nGlow bubbles filling the sky \nLive DJ spinning summer vibes \nBeachside fun for all ages! \nLocation: Pavilion Beach Stage (on the beach in front of the Aquarium) \nCome early\, catch the beats\, chase the bubbles and stay for the fireworks—it’s the ultimate Thursday night summer kickoff! \n*Weather and wind permitting. \nhttps://jenkinsons.com/event/bubbles-beats/2026-07-02/ \ninformation@jenkinsons.com \n7328920600
URL:https://oceancountytourism.com/event/bubbles-beats/2026-07-30/
LOCATION:Jenkinson’s Boardwalk\, 300 Ocean Ave.\, Point Pleasant Beach\, NJ\, 08742\, United States
CATEGORIES:Festivals & Family Fun
ATTACH;FMTTYPE=image/jpeg:https://oceancountytourism.com/wp-content/uploads/2026/04/31798-BubblesBeats-SQ.jpg
END:VEVENT
END:VCALENDAR