BEGIN:VCALENDAR
VERSION:2.0
PRODID:-//Ocean County Tourism - ECPv6.15.18//NONSGML v1.0//EN
CALSCALE:GREGORIAN
METHOD:PUBLISH
X-WR-CALNAME:Ocean County Tourism
X-ORIGINAL-URL:https://oceancountytourism.com
X-WR-CALDESC:Events for Ocean County Tourism
REFRESH-INTERVAL;VALUE=DURATION:PT1H
X-Robots-Tag:noindex
X-PUBLISHED-TTL:PT1H
BEGIN:VTIMEZONE
TZID:America/New_York
BEGIN:DAYLIGHT
TZOFFSETFROM:-0500
TZOFFSETTO:-0400
TZNAME:EDT
DTSTART:20250309T070000
END:DAYLIGHT
BEGIN:STANDARD
TZOFFSETFROM:-0400
TZOFFSETTO:-0500
TZNAME:EST
DTSTART:20251102T060000
END:STANDARD
BEGIN:DAYLIGHT
TZOFFSETFROM:-0500
TZOFFSETTO:-0400
TZNAME:EDT
DTSTART:20260308T070000
END:DAYLIGHT
BEGIN:STANDARD
TZOFFSETFROM:-0400
TZOFFSETTO:-0500
TZNAME:EST
DTSTART:20261101T060000
END:STANDARD
BEGIN:DAYLIGHT
TZOFFSETFROM:-0500
TZOFFSETTO:-0400
TZNAME:EDT
DTSTART:20270314T070000
END:DAYLIGHT
BEGIN:STANDARD
TZOFFSETFROM:-0400
TZOFFSETTO:-0500
TZNAME:EST
DTSTART:20271107T060000
END:STANDARD
END:VTIMEZONE
BEGIN:VEVENT
DTSTART;TZID=America/New_York:20260826T190000
DTEND;TZID=America/New_York:20260826T203000
DTSTAMP:20260423T223813
CREATED:20260422T154511Z
LAST-MODIFIED:20260422T154511Z
UID:10042557-1787770800-1787776200@oceancountytourism.com
SUMMARY:Cirque-Tacular
DESCRIPTION:August 26 & 27 \nPrepare to be amazed at Casino Pier with Cirque-Tacular — a spectacular acrobatic show that brings the magic of the circus to the pier!\nThis high-energy performance combines ground-breaking stunts and breathtaking aerial feats\, showcasing the skill\, strength\, and artistry of world-class performers.\nFrom daring flips and gravity-defying aerial routines to mesmerizing choreography on the pier\, every moment of Cirque-Tacular is designed to thrill and inspire audiences of all ages.\nPerfect for families and thrill-seekers alike\, this show blends artistry\, athleticism\, and excitement in a way you won’t see anywhere else on the Jersey Shore.\nIt’s a must-see experience for anyone looking for fun\, wonder\, and jaw-dropping entertainment.\nFree Shows at 7pm & 8pm on the Pier Stage by the Ferris Wheel\nDon’t miss this awe-inspiring performance — the pier becomes your stage\, and the sky is the limit!
URL:https://oceancountytourism.com/event/cirque-tacular/2026-08-26/
LOCATION:Casino Pier & Breakwater Beach\, 800 Ocean Terrace\, Seaside Heights\, NJ\, 08751\, United States
CATEGORIES:Live Entertainment
ATTACH;FMTTYPE=image/jpeg:https://oceancountytourism.com/wp-content/uploads/2026/04/673996045_1412703490902383_7226817218567405646_n.jpg
END:VEVENT
BEGIN:VEVENT
DTSTART;TZID=America/New_York:20260827T190000
DTEND;TZID=America/New_York:20260827T203000
DTSTAMP:20260423T223813
CREATED:20260422T154511Z
LAST-MODIFIED:20260422T154511Z
UID:10042558-1787857200-1787862600@oceancountytourism.com
SUMMARY:Cirque-Tacular
DESCRIPTION:August 26 & 27 \nPrepare to be amazed at Casino Pier with Cirque-Tacular — a spectacular acrobatic show that brings the magic of the circus to the pier!\nThis high-energy performance combines ground-breaking stunts and breathtaking aerial feats\, showcasing the skill\, strength\, and artistry of world-class performers.\nFrom daring flips and gravity-defying aerial routines to mesmerizing choreography on the pier\, every moment of Cirque-Tacular is designed to thrill and inspire audiences of all ages.\nPerfect for families and thrill-seekers alike\, this show blends artistry\, athleticism\, and excitement in a way you won’t see anywhere else on the Jersey Shore.\nIt’s a must-see experience for anyone looking for fun\, wonder\, and jaw-dropping entertainment.\nFree Shows at 7pm & 8pm on the Pier Stage by the Ferris Wheel\nDon’t miss this awe-inspiring performance — the pier becomes your stage\, and the sky is the limit!
URL:https://oceancountytourism.com/event/cirque-tacular/2026-08-27/
LOCATION:Casino Pier & Breakwater Beach\, 800 Ocean Terrace\, Seaside Heights\, NJ\, 08751\, United States
CATEGORIES:Live Entertainment
ATTACH;FMTTYPE=image/jpeg:https://oceancountytourism.com/wp-content/uploads/2026/04/673996045_1412703490902383_7226817218567405646_n.jpg
END:VEVENT
END:VCALENDAR