BEGIN:VCALENDAR
VERSION:2.0
PRODID:-//Ocean County Tourism - ECPv6.15.18//NONSGML v1.0//EN
CALSCALE:GREGORIAN
METHOD:PUBLISH
X-WR-CALNAME:Ocean County Tourism
X-ORIGINAL-URL:https://oceancountytourism.com
X-WR-CALDESC:Events for Ocean County Tourism
REFRESH-INTERVAL;VALUE=DURATION:PT1H
X-Robots-Tag:noindex
X-PUBLISHED-TTL:PT1H
BEGIN:VTIMEZONE
TZID:America/New_York
BEGIN:DAYLIGHT
TZOFFSETFROM:-0500
TZOFFSETTO:-0400
TZNAME:EDT
DTSTART:20250309T070000
END:DAYLIGHT
BEGIN:STANDARD
TZOFFSETFROM:-0400
TZOFFSETTO:-0500
TZNAME:EST
DTSTART:20251102T060000
END:STANDARD
BEGIN:DAYLIGHT
TZOFFSETFROM:-0500
TZOFFSETTO:-0400
TZNAME:EDT
DTSTART:20260308T070000
END:DAYLIGHT
BEGIN:STANDARD
TZOFFSETFROM:-0400
TZOFFSETTO:-0500
TZNAME:EST
DTSTART:20261101T060000
END:STANDARD
BEGIN:DAYLIGHT
TZOFFSETFROM:-0500
TZOFFSETTO:-0400
TZNAME:EDT
DTSTART:20270314T070000
END:DAYLIGHT
BEGIN:STANDARD
TZOFFSETFROM:-0400
TZOFFSETTO:-0500
TZNAME:EST
DTSTART:20271107T060000
END:STANDARD
END:VTIMEZONE
BEGIN:VEVENT
DTSTART;TZID=America/New_York:20260717T173000
DTEND;TZID=America/New_York:20260717T190000
DTSTAMP:20260424T224708
CREATED:20260422T120205Z
LAST-MODIFIED:20260422T120205Z
UID:10042538-1784309400-1784314800@oceancountytourism.com
SUMMARY:Sandsastional Sports Games
DESCRIPTION:Sandsastional Sports Games \nGet ready for action-packed beach relay races that keep kids moving\, laughing and working together as they race through the sand! \nWe partnered up with G-Funk Entertainment for a fun & exciting time on the beach this summer! \nFriday\, July 17th \n5:30pm\, 6pm and 6:30pm \nPavilion Beach Stage (on the beach in front of the Aquarium) \n\nFriday\, August 21st \n5:30pm\, 6pm and 6:30pm \nPavilion Beach Stage (on the beach in front of the Aquarium) \n*Weather permitting. \nhttps://jenkinsons.com/ \ninformation@jenkinsons.com \n7328920600 \n 
URL:https://oceancountytourism.com/event/sandsastional-sports-games/2026-07-17/
LOCATION:Jenkinson’s Boardwalk\, 300 Ocean Ave.\, Point Pleasant Beach\, NJ\, 08742\, United States
CATEGORIES:Festivals & Family Fun
ATTACH;FMTTYPE=image/jpeg:https://oceancountytourism.com/wp-content/uploads/2026/04/31574-SandsationalSports-SQ.jpg
END:VEVENT
BEGIN:VEVENT
DTSTART;TZID=America/New_York:20260821T173000
DTEND;TZID=America/New_York:20260821T190000
DTSTAMP:20260424T224708
CREATED:20260422T120205Z
LAST-MODIFIED:20260422T120205Z
UID:10042539-1787333400-1787338800@oceancountytourism.com
SUMMARY:Sandsastional Sports Games
DESCRIPTION:Sandsastional Sports Games \nGet ready for action-packed beach relay races that keep kids moving\, laughing and working together as they race through the sand! \nWe partnered up with G-Funk Entertainment for a fun & exciting time on the beach this summer! \nFriday\, July 17th \n5:30pm\, 6pm and 6:30pm \nPavilion Beach Stage (on the beach in front of the Aquarium) \n\nFriday\, August 21st \n5:30pm\, 6pm and 6:30pm \nPavilion Beach Stage (on the beach in front of the Aquarium) \n*Weather permitting. \nhttps://jenkinsons.com/ \ninformation@jenkinsons.com \n7328920600 \n 
URL:https://oceancountytourism.com/event/sandsastional-sports-games/2026-08-21/
LOCATION:Jenkinson’s Boardwalk\, 300 Ocean Ave.\, Point Pleasant Beach\, NJ\, 08742\, United States
CATEGORIES:Festivals & Family Fun
ATTACH;FMTTYPE=image/jpeg:https://oceancountytourism.com/wp-content/uploads/2026/04/31574-SandsationalSports-SQ.jpg
END:VEVENT
END:VCALENDAR