BEGIN:VCALENDAR
VERSION:2.0
PRODID:-//Ocean County Tourism - ECPv6.15.18//NONSGML v1.0//EN
CALSCALE:GREGORIAN
METHOD:PUBLISH
X-WR-CALNAME:Ocean County Tourism
X-ORIGINAL-URL:https://oceancountytourism.com
X-WR-CALDESC:Events for Ocean County Tourism
REFRESH-INTERVAL;VALUE=DURATION:PT1H
X-Robots-Tag:noindex
X-PUBLISHED-TTL:PT1H
BEGIN:VTIMEZONE
TZID:America/New_York
BEGIN:DAYLIGHT
TZOFFSETFROM:-0500
TZOFFSETTO:-0400
TZNAME:EDT
DTSTART:20250309T070000
END:DAYLIGHT
BEGIN:STANDARD
TZOFFSETFROM:-0400
TZOFFSETTO:-0500
TZNAME:EST
DTSTART:20251102T060000
END:STANDARD
BEGIN:DAYLIGHT
TZOFFSETFROM:-0500
TZOFFSETTO:-0400
TZNAME:EDT
DTSTART:20260308T070000
END:DAYLIGHT
BEGIN:STANDARD
TZOFFSETFROM:-0400
TZOFFSETTO:-0500
TZNAME:EST
DTSTART:20261101T060000
END:STANDARD
BEGIN:DAYLIGHT
TZOFFSETFROM:-0500
TZOFFSETTO:-0400
TZNAME:EDT
DTSTART:20270314T070000
END:DAYLIGHT
BEGIN:STANDARD
TZOFFSETFROM:-0400
TZOFFSETTO:-0500
TZNAME:EST
DTSTART:20271107T060000
END:STANDARD
END:VTIMEZONE
BEGIN:VEVENT
DTSTART;TZID=America/New_York:20260707T203000
DTEND;TZID=America/New_York:20260707T203000
DTSTAMP:20260421T010109
CREATED:20260420T152323Z
LAST-MODIFIED:20260420T152323Z
UID:10042519-1783456200-1783456200@oceancountytourism.com
SUMMARY:Movies on the Bay
DESCRIPTION:The Borough of Lavallette presents: Movies on the Bay Summer 2026 \nFree movie nights on the bayfront! \nschedule @ www.enjoylavallette.com/movies-on-the-bay \nTuesdays \nJuly 7\, July 14\, July 21\, July 28\, Aug 4\, Aug 11\, Aug 18\, Aug 25 and Sept 1.
URL:https://oceancountytourism.com/event/movies-on-the-bay/2026-07-07/
LOCATION:Lavallette Gazebo & Bayfront\, Philadelphia Avenue\, Lavallette\, NJ\, 08735\, United States
CATEGORIES:Festivals & Family Fun,Free,Movies
ATTACH;FMTTYPE=image/jpeg:https://oceancountytourism.com/wp-content/uploads/2026/04/Event-Poster-Web-Movies.jpg
ORGANIZER;CN="Enjoy Lavallette":MAILTO:info@enjoylavallette.com
END:VEVENT
BEGIN:VEVENT
DTSTART;TZID=America/New_York:20260714T203000
DTEND;TZID=America/New_York:20260714T203000
DTSTAMP:20260421T010109
CREATED:20260420T152323Z
LAST-MODIFIED:20260420T152323Z
UID:10042520-1784061000-1784061000@oceancountytourism.com
SUMMARY:Movies on the Bay
DESCRIPTION:The Borough of Lavallette presents: Movies on the Bay Summer 2026 \nFree movie nights on the bayfront! \nschedule @ www.enjoylavallette.com/movies-on-the-bay \nTuesdays \nJuly 7\, July 14\, July 21\, July 28\, Aug 4\, Aug 11\, Aug 18\, Aug 25 and Sept 1.
URL:https://oceancountytourism.com/event/movies-on-the-bay/2026-07-14/
LOCATION:Lavallette Gazebo & Bayfront\, Philadelphia Avenue\, Lavallette\, NJ\, 08735\, United States
CATEGORIES:Festivals & Family Fun,Free,Movies
ATTACH;FMTTYPE=image/jpeg:https://oceancountytourism.com/wp-content/uploads/2026/04/Event-Poster-Web-Movies.jpg
ORGANIZER;CN="Enjoy Lavallette":MAILTO:info@enjoylavallette.com
END:VEVENT
BEGIN:VEVENT
DTSTART;TZID=America/New_York:20260721T203000
DTEND;TZID=America/New_York:20260721T203000
DTSTAMP:20260421T010109
CREATED:20260420T152323Z
LAST-MODIFIED:20260420T152323Z
UID:10042521-1784665800-1784665800@oceancountytourism.com
SUMMARY:Movies on the Bay
DESCRIPTION:The Borough of Lavallette presents: Movies on the Bay Summer 2026 \nFree movie nights on the bayfront! \nschedule @ www.enjoylavallette.com/movies-on-the-bay \nTuesdays \nJuly 7\, July 14\, July 21\, July 28\, Aug 4\, Aug 11\, Aug 18\, Aug 25 and Sept 1.
URL:https://oceancountytourism.com/event/movies-on-the-bay/2026-07-21/
LOCATION:Lavallette Gazebo & Bayfront\, Philadelphia Avenue\, Lavallette\, NJ\, 08735\, United States
CATEGORIES:Festivals & Family Fun,Free,Movies
ATTACH;FMTTYPE=image/jpeg:https://oceancountytourism.com/wp-content/uploads/2026/04/Event-Poster-Web-Movies.jpg
ORGANIZER;CN="Enjoy Lavallette":MAILTO:info@enjoylavallette.com
END:VEVENT
BEGIN:VEVENT
DTSTART;TZID=America/New_York:20260728T203000
DTEND;TZID=America/New_York:20260728T203000
DTSTAMP:20260421T010109
CREATED:20260420T152323Z
LAST-MODIFIED:20260420T152323Z
UID:10042522-1785270600-1785270600@oceancountytourism.com
SUMMARY:Movies on the Bay
DESCRIPTION:The Borough of Lavallette presents: Movies on the Bay Summer 2026 \nFree movie nights on the bayfront! \nschedule @ www.enjoylavallette.com/movies-on-the-bay \nTuesdays \nJuly 7\, July 14\, July 21\, July 28\, Aug 4\, Aug 11\, Aug 18\, Aug 25 and Sept 1.
URL:https://oceancountytourism.com/event/movies-on-the-bay/2026-07-28/
LOCATION:Lavallette Gazebo & Bayfront\, Philadelphia Avenue\, Lavallette\, NJ\, 08735\, United States
CATEGORIES:Festivals & Family Fun,Free,Movies
ATTACH;FMTTYPE=image/jpeg:https://oceancountytourism.com/wp-content/uploads/2026/04/Event-Poster-Web-Movies.jpg
ORGANIZER;CN="Enjoy Lavallette":MAILTO:info@enjoylavallette.com
END:VEVENT
BEGIN:VEVENT
DTSTART;TZID=America/New_York:20260804T203000
DTEND;TZID=America/New_York:20260804T203000
DTSTAMP:20260421T010110
CREATED:20260420T152323Z
LAST-MODIFIED:20260420T152323Z
UID:10042523-1785875400-1785875400@oceancountytourism.com
SUMMARY:Movies on the Bay
DESCRIPTION:The Borough of Lavallette presents: Movies on the Bay Summer 2026 \nFree movie nights on the bayfront! \nschedule @ www.enjoylavallette.com/movies-on-the-bay \nTuesdays \nJuly 7\, July 14\, July 21\, July 28\, Aug 4\, Aug 11\, Aug 18\, Aug 25 and Sept 1.
URL:https://oceancountytourism.com/event/movies-on-the-bay/2026-08-04/
LOCATION:Lavallette Gazebo & Bayfront\, Philadelphia Avenue\, Lavallette\, NJ\, 08735\, United States
CATEGORIES:Festivals & Family Fun,Free,Movies
ATTACH;FMTTYPE=image/jpeg:https://oceancountytourism.com/wp-content/uploads/2026/04/Event-Poster-Web-Movies.jpg
ORGANIZER;CN="Enjoy Lavallette":MAILTO:info@enjoylavallette.com
END:VEVENT
BEGIN:VEVENT
DTSTART;TZID=America/New_York:20260811T203000
DTEND;TZID=America/New_York:20260811T203000
DTSTAMP:20260421T010110
CREATED:20260420T152323Z
LAST-MODIFIED:20260420T152323Z
UID:10042524-1786480200-1786480200@oceancountytourism.com
SUMMARY:Movies on the Bay
DESCRIPTION:The Borough of Lavallette presents: Movies on the Bay Summer 2026 \nFree movie nights on the bayfront! \nschedule @ www.enjoylavallette.com/movies-on-the-bay \nTuesdays \nJuly 7\, July 14\, July 21\, July 28\, Aug 4\, Aug 11\, Aug 18\, Aug 25 and Sept 1.
URL:https://oceancountytourism.com/event/movies-on-the-bay/2026-08-11/
LOCATION:Lavallette Gazebo & Bayfront\, Philadelphia Avenue\, Lavallette\, NJ\, 08735\, United States
CATEGORIES:Festivals & Family Fun,Free,Movies
ATTACH;FMTTYPE=image/jpeg:https://oceancountytourism.com/wp-content/uploads/2026/04/Event-Poster-Web-Movies.jpg
ORGANIZER;CN="Enjoy Lavallette":MAILTO:info@enjoylavallette.com
END:VEVENT
BEGIN:VEVENT
DTSTART;TZID=America/New_York:20260818T203000
DTEND;TZID=America/New_York:20260818T203000
DTSTAMP:20260421T010110
CREATED:20260420T152323Z
LAST-MODIFIED:20260420T152323Z
UID:10042525-1787085000-1787085000@oceancountytourism.com
SUMMARY:Movies on the Bay
DESCRIPTION:The Borough of Lavallette presents: Movies on the Bay Summer 2026 \nFree movie nights on the bayfront! \nschedule @ www.enjoylavallette.com/movies-on-the-bay \nTuesdays \nJuly 7\, July 14\, July 21\, July 28\, Aug 4\, Aug 11\, Aug 18\, Aug 25 and Sept 1.
URL:https://oceancountytourism.com/event/movies-on-the-bay/2026-08-18/
LOCATION:Lavallette Gazebo & Bayfront\, Philadelphia Avenue\, Lavallette\, NJ\, 08735\, United States
CATEGORIES:Festivals & Family Fun,Free,Movies
ATTACH;FMTTYPE=image/jpeg:https://oceancountytourism.com/wp-content/uploads/2026/04/Event-Poster-Web-Movies.jpg
ORGANIZER;CN="Enjoy Lavallette":MAILTO:info@enjoylavallette.com
END:VEVENT
BEGIN:VEVENT
DTSTART;TZID=America/New_York:20260825T203000
DTEND;TZID=America/New_York:20260825T203000
DTSTAMP:20260421T010110
CREATED:20260420T152323Z
LAST-MODIFIED:20260420T152323Z
UID:10042526-1787689800-1787689800@oceancountytourism.com
SUMMARY:Movies on the Bay
DESCRIPTION:The Borough of Lavallette presents: Movies on the Bay Summer 2026 \nFree movie nights on the bayfront! \nschedule @ www.enjoylavallette.com/movies-on-the-bay \nTuesdays \nJuly 7\, July 14\, July 21\, July 28\, Aug 4\, Aug 11\, Aug 18\, Aug 25 and Sept 1.
URL:https://oceancountytourism.com/event/movies-on-the-bay/2026-08-25/
LOCATION:Lavallette Gazebo & Bayfront\, Philadelphia Avenue\, Lavallette\, NJ\, 08735\, United States
CATEGORIES:Festivals & Family Fun,Free,Movies
ATTACH;FMTTYPE=image/jpeg:https://oceancountytourism.com/wp-content/uploads/2026/04/Event-Poster-Web-Movies.jpg
ORGANIZER;CN="Enjoy Lavallette":MAILTO:info@enjoylavallette.com
END:VEVENT
BEGIN:VEVENT
DTSTART;TZID=America/New_York:20260901T203000
DTEND;TZID=America/New_York:20260901T203000
DTSTAMP:20260421T010110
CREATED:20260420T152323Z
LAST-MODIFIED:20260420T152323Z
UID:10042527-1788294600-1788294600@oceancountytourism.com
SUMMARY:Movies on the Bay
DESCRIPTION:The Borough of Lavallette presents: Movies on the Bay Summer 2026 \nFree movie nights on the bayfront! \nschedule @ www.enjoylavallette.com/movies-on-the-bay \nTuesdays \nJuly 7\, July 14\, July 21\, July 28\, Aug 4\, Aug 11\, Aug 18\, Aug 25 and Sept 1.
URL:https://oceancountytourism.com/event/movies-on-the-bay/2026-09-01/
LOCATION:Lavallette Gazebo & Bayfront\, Philadelphia Avenue\, Lavallette\, NJ\, 08735\, United States
CATEGORIES:Festivals & Family Fun,Free,Movies
ATTACH;FMTTYPE=image/jpeg:https://oceancountytourism.com/wp-content/uploads/2026/04/Event-Poster-Web-Movies.jpg
ORGANIZER;CN="Enjoy Lavallette":MAILTO:info@enjoylavallette.com
END:VEVENT
END:VCALENDAR