BEGIN:VCALENDAR
VERSION:2.0
PRODID:-//Ocean County Tourism - ECPv6.15.18//NONSGML v1.0//EN
CALSCALE:GREGORIAN
METHOD:PUBLISH
X-WR-CALNAME:Ocean County Tourism
X-ORIGINAL-URL:https://oceancountytourism.com
X-WR-CALDESC:Events for Ocean County Tourism
REFRESH-INTERVAL;VALUE=DURATION:PT1H
X-Robots-Tag:noindex
X-PUBLISHED-TTL:PT1H
BEGIN:VTIMEZONE
TZID:America/New_York
BEGIN:DAYLIGHT
TZOFFSETFROM:-0500
TZOFFSETTO:-0400
TZNAME:EDT
DTSTART:20250309T070000
END:DAYLIGHT
BEGIN:STANDARD
TZOFFSETFROM:-0400
TZOFFSETTO:-0500
TZNAME:EST
DTSTART:20251102T060000
END:STANDARD
BEGIN:DAYLIGHT
TZOFFSETFROM:-0500
TZOFFSETTO:-0400
TZNAME:EDT
DTSTART:20260308T070000
END:DAYLIGHT
BEGIN:STANDARD
TZOFFSETFROM:-0400
TZOFFSETTO:-0500
TZNAME:EST
DTSTART:20261101T060000
END:STANDARD
BEGIN:DAYLIGHT
TZOFFSETFROM:-0500
TZOFFSETTO:-0400
TZNAME:EDT
DTSTART:20270314T070000
END:DAYLIGHT
BEGIN:STANDARD
TZOFFSETFROM:-0400
TZOFFSETTO:-0500
TZNAME:EST
DTSTART:20271107T060000
END:STANDARD
END:VTIMEZONE
BEGIN:VEVENT
DTSTART;TZID=America/New_York:20260424T170000
DTEND;TZID=America/New_York:20260424T210000
DTSTAMP:20260421T034814
CREATED:20260420T143823Z
LAST-MODIFIED:20260420T143823Z
UID:10042510-1777050000-1777064400@oceancountytourism.com
SUMMARY:Ladies Night in Lavallette
DESCRIPTION:Ladies Night in Lavallette! \nMarch 20\, April 24\, May 15\, June 19\, July 24\, September 18\, October 23\, November 20 and December 18. \nMom’s Day out \nMay 9 \nDrinks\, shopping and dining
URL:https://oceancountytourism.com/event/ladies-night-in-lavallette/2026-04-24/
LOCATION:Lavallette\, Lavallette\, NJ\, 08735\, United States
CATEGORIES:Town Garage Sale/Sidewalk Sale
ATTACH;FMTTYPE=image/jpeg:https://oceancountytourism.com/wp-content/uploads/2026/04/Event-Poster-Web-LadiesNIghts.jpg
ORGANIZER;CN="Enjoy Lavallette":MAILTO:info@enjoylavallette.com
END:VEVENT
BEGIN:VEVENT
DTSTART;TZID=America/New_York:20260515T170000
DTEND;TZID=America/New_York:20260515T210000
DTSTAMP:20260421T034814
CREATED:20260420T143823Z
LAST-MODIFIED:20260420T143823Z
UID:10042511-1778864400-1778878800@oceancountytourism.com
SUMMARY:Ladies Night in Lavallette
DESCRIPTION:Ladies Night in Lavallette! \nMarch 20\, April 24\, May 15\, June 19\, July 24\, September 18\, October 23\, November 20 and December 18. \nMom’s Day out \nMay 9 \nDrinks\, shopping and dining
URL:https://oceancountytourism.com/event/ladies-night-in-lavallette/2026-05-15/
LOCATION:Lavallette\, Lavallette\, NJ\, 08735\, United States
CATEGORIES:Town Garage Sale/Sidewalk Sale
ATTACH;FMTTYPE=image/jpeg:https://oceancountytourism.com/wp-content/uploads/2026/04/Event-Poster-Web-LadiesNIghts.jpg
ORGANIZER;CN="Enjoy Lavallette":MAILTO:info@enjoylavallette.com
END:VEVENT
BEGIN:VEVENT
DTSTART;TZID=America/New_York:20260619T170000
DTEND;TZID=America/New_York:20260619T210000
DTSTAMP:20260421T034814
CREATED:20260420T143823Z
LAST-MODIFIED:20260420T143823Z
UID:10042512-1781888400-1781902800@oceancountytourism.com
SUMMARY:Ladies Night in Lavallette
DESCRIPTION:Ladies Night in Lavallette! \nMarch 20\, April 24\, May 15\, June 19\, July 24\, September 18\, October 23\, November 20 and December 18. \nMom’s Day out \nMay 9 \nDrinks\, shopping and dining
URL:https://oceancountytourism.com/event/ladies-night-in-lavallette/2026-06-19/
LOCATION:Lavallette\, Lavallette\, NJ\, 08735\, United States
CATEGORIES:Town Garage Sale/Sidewalk Sale
ATTACH;FMTTYPE=image/jpeg:https://oceancountytourism.com/wp-content/uploads/2026/04/Event-Poster-Web-LadiesNIghts.jpg
ORGANIZER;CN="Enjoy Lavallette":MAILTO:info@enjoylavallette.com
END:VEVENT
BEGIN:VEVENT
DTSTART;TZID=America/New_York:20260724T170000
DTEND;TZID=America/New_York:20260724T210000
DTSTAMP:20260421T034814
CREATED:20260420T143823Z
LAST-MODIFIED:20260420T143823Z
UID:10042513-1784912400-1784926800@oceancountytourism.com
SUMMARY:Ladies Night in Lavallette
DESCRIPTION:Ladies Night in Lavallette! \nMarch 20\, April 24\, May 15\, June 19\, July 24\, September 18\, October 23\, November 20 and December 18. \nMom’s Day out \nMay 9 \nDrinks\, shopping and dining
URL:https://oceancountytourism.com/event/ladies-night-in-lavallette/2026-07-24/
LOCATION:Lavallette\, Lavallette\, NJ\, 08735\, United States
CATEGORIES:Town Garage Sale/Sidewalk Sale
ATTACH;FMTTYPE=image/jpeg:https://oceancountytourism.com/wp-content/uploads/2026/04/Event-Poster-Web-LadiesNIghts.jpg
ORGANIZER;CN="Enjoy Lavallette":MAILTO:info@enjoylavallette.com
END:VEVENT
BEGIN:VEVENT
DTSTART;TZID=America/New_York:20260918T170000
DTEND;TZID=America/New_York:20260918T210000
DTSTAMP:20260421T034814
CREATED:20260420T143823Z
LAST-MODIFIED:20260420T143823Z
UID:10042514-1789750800-1789765200@oceancountytourism.com
SUMMARY:Ladies Night in Lavallette
DESCRIPTION:Ladies Night in Lavallette! \nMarch 20\, April 24\, May 15\, June 19\, July 24\, September 18\, October 23\, November 20 and December 18. \nMom’s Day out \nMay 9 \nDrinks\, shopping and dining
URL:https://oceancountytourism.com/event/ladies-night-in-lavallette/2026-09-18/
LOCATION:Lavallette\, Lavallette\, NJ\, 08735\, United States
CATEGORIES:Town Garage Sale/Sidewalk Sale
ATTACH;FMTTYPE=image/jpeg:https://oceancountytourism.com/wp-content/uploads/2026/04/Event-Poster-Web-LadiesNIghts.jpg
ORGANIZER;CN="Enjoy Lavallette":MAILTO:info@enjoylavallette.com
END:VEVENT
BEGIN:VEVENT
DTSTART;TZID=America/New_York:20261023T170000
DTEND;TZID=America/New_York:20261023T210000
DTSTAMP:20260421T034814
CREATED:20260420T143823Z
LAST-MODIFIED:20260420T143823Z
UID:10042515-1792774800-1792789200@oceancountytourism.com
SUMMARY:Ladies Night in Lavallette
DESCRIPTION:Ladies Night in Lavallette! \nMarch 20\, April 24\, May 15\, June 19\, July 24\, September 18\, October 23\, November 20 and December 18. \nMom’s Day out \nMay 9 \nDrinks\, shopping and dining
URL:https://oceancountytourism.com/event/ladies-night-in-lavallette/2026-10-23/
LOCATION:Lavallette\, Lavallette\, NJ\, 08735\, United States
CATEGORIES:Town Garage Sale/Sidewalk Sale
ATTACH;FMTTYPE=image/jpeg:https://oceancountytourism.com/wp-content/uploads/2026/04/Event-Poster-Web-LadiesNIghts.jpg
ORGANIZER;CN="Enjoy Lavallette":MAILTO:info@enjoylavallette.com
END:VEVENT
BEGIN:VEVENT
DTSTART;TZID=America/New_York:20261120T170000
DTEND;TZID=America/New_York:20261120T210000
DTSTAMP:20260421T034814
CREATED:20260420T143823Z
LAST-MODIFIED:20260420T143823Z
UID:10042516-1795194000-1795208400@oceancountytourism.com
SUMMARY:Ladies Night in Lavallette
DESCRIPTION:Ladies Night in Lavallette! \nMarch 20\, April 24\, May 15\, June 19\, July 24\, September 18\, October 23\, November 20 and December 18. \nMom’s Day out \nMay 9 \nDrinks\, shopping and dining
URL:https://oceancountytourism.com/event/ladies-night-in-lavallette/2026-11-20/
LOCATION:Lavallette\, Lavallette\, NJ\, 08735\, United States
CATEGORIES:Town Garage Sale/Sidewalk Sale
ATTACH;FMTTYPE=image/jpeg:https://oceancountytourism.com/wp-content/uploads/2026/04/Event-Poster-Web-LadiesNIghts.jpg
ORGANIZER;CN="Enjoy Lavallette":MAILTO:info@enjoylavallette.com
END:VEVENT
BEGIN:VEVENT
DTSTART;TZID=America/New_York:20261218T170000
DTEND;TZID=America/New_York:20261218T210000
DTSTAMP:20260421T034814
CREATED:20260420T143823Z
LAST-MODIFIED:20260420T143823Z
UID:10042517-1797613200-1797627600@oceancountytourism.com
SUMMARY:Ladies Night in Lavallette
DESCRIPTION:Ladies Night in Lavallette! \nMarch 20\, April 24\, May 15\, June 19\, July 24\, September 18\, October 23\, November 20 and December 18. \nMom’s Day out \nMay 9 \nDrinks\, shopping and dining
URL:https://oceancountytourism.com/event/ladies-night-in-lavallette/2026-12-18/
LOCATION:Lavallette\, Lavallette\, NJ\, 08735\, United States
CATEGORIES:Town Garage Sale/Sidewalk Sale
ATTACH;FMTTYPE=image/jpeg:https://oceancountytourism.com/wp-content/uploads/2026/04/Event-Poster-Web-LadiesNIghts.jpg
ORGANIZER;CN="Enjoy Lavallette":MAILTO:info@enjoylavallette.com
END:VEVENT
END:VCALENDAR