BEGIN:VCALENDAR
VERSION:2.0
PRODID:-//Ocean County Tourism - ECPv6.15.18//NONSGML v1.0//EN
CALSCALE:GREGORIAN
METHOD:PUBLISH
X-WR-CALNAME:Ocean County Tourism
X-ORIGINAL-URL:https://oceancountytourism.com
X-WR-CALDESC:Events for Ocean County Tourism
REFRESH-INTERVAL;VALUE=DURATION:PT1H
X-Robots-Tag:noindex
X-PUBLISHED-TTL:PT1H
BEGIN:VTIMEZONE
TZID:America/New_York
BEGIN:DAYLIGHT
TZOFFSETFROM:-0500
TZOFFSETTO:-0400
TZNAME:EDT
DTSTART:20250309T070000
END:DAYLIGHT
BEGIN:STANDARD
TZOFFSETFROM:-0400
TZOFFSETTO:-0500
TZNAME:EST
DTSTART:20251102T060000
END:STANDARD
BEGIN:DAYLIGHT
TZOFFSETFROM:-0500
TZOFFSETTO:-0400
TZNAME:EDT
DTSTART:20260308T070000
END:DAYLIGHT
BEGIN:STANDARD
TZOFFSETFROM:-0400
TZOFFSETTO:-0500
TZNAME:EST
DTSTART:20261101T060000
END:STANDARD
BEGIN:DAYLIGHT
TZOFFSETFROM:-0500
TZOFFSETTO:-0400
TZNAME:EDT
DTSTART:20270314T070000
END:DAYLIGHT
BEGIN:STANDARD
TZOFFSETFROM:-0400
TZOFFSETTO:-0500
TZNAME:EST
DTSTART:20271107T060000
END:STANDARD
END:VTIMEZONE
BEGIN:VEVENT
DTSTART;TZID=America/New_York:20260722T180000
DTEND;TZID=America/New_York:20260722T203000
DTSTAMP:20260419T115505
CREATED:20260417T142726Z
LAST-MODIFIED:20260417T142726Z
UID:10042470-1784743200-1784752200@oceancountytourism.com
SUMMARY:Amazing Aerialist Show
DESCRIPTION:Experience breathtaking entertainment high above the boardwalk at Casino Pier!\nJoin us for a spectacular Aerialist Show featuring dazzling Nikki Rush soaring\, spinning\, and twisting through the sky in a stunning display of strength\, grace\, and artistry.\nSet against the backdrop of the ride pier\, this high-flying performance will captivate guests of all ages.\nWatch in awe as Nikki perform incredible routines suspended above the pier\, combining acrobatics and elegance for a truly unforgettable experience.\nIt’s the perfect blend of thrill and beauty — and a must-see addition to your day at the shore.\nAnd a special Christmas in July Aerialist Show on Friday\, July 24th!\nShows at 6pm\, 7pm & 8pm by Pirate’s HideawayJuly 22\, 23\, 24\nDon’t miss this sky-high spectacle — excitement is in the air!
URL:https://oceancountytourism.com/event/amazing-aerialist-show/2026-07-22/
LOCATION:Casino Pier & Breakwater Beach\, 800 Ocean Terrace\, Seaside Heights\, NJ\, 08751\, United States
CATEGORIES:Festivals & Family Fun
ATTACH;FMTTYPE=image/jpeg:https://oceancountytourism.com/wp-content/uploads/2026/04/672677334_1410186967820702_4058096282972198717_n.jpg
END:VEVENT
BEGIN:VEVENT
DTSTART;TZID=America/New_York:20260723T180000
DTEND;TZID=America/New_York:20260723T203000
DTSTAMP:20260419T115505
CREATED:20260417T142726Z
LAST-MODIFIED:20260417T142726Z
UID:10042471-1784829600-1784838600@oceancountytourism.com
SUMMARY:Amazing Aerialist Show
DESCRIPTION:Experience breathtaking entertainment high above the boardwalk at Casino Pier!\nJoin us for a spectacular Aerialist Show featuring dazzling Nikki Rush soaring\, spinning\, and twisting through the sky in a stunning display of strength\, grace\, and artistry.\nSet against the backdrop of the ride pier\, this high-flying performance will captivate guests of all ages.\nWatch in awe as Nikki perform incredible routines suspended above the pier\, combining acrobatics and elegance for a truly unforgettable experience.\nIt’s the perfect blend of thrill and beauty — and a must-see addition to your day at the shore.\nAnd a special Christmas in July Aerialist Show on Friday\, July 24th!\nShows at 6pm\, 7pm & 8pm by Pirate’s HideawayJuly 22\, 23\, 24\nDon’t miss this sky-high spectacle — excitement is in the air!
URL:https://oceancountytourism.com/event/amazing-aerialist-show/2026-07-23/
LOCATION:Casino Pier & Breakwater Beach\, 800 Ocean Terrace\, Seaside Heights\, NJ\, 08751\, United States
CATEGORIES:Festivals & Family Fun
ATTACH;FMTTYPE=image/jpeg:https://oceancountytourism.com/wp-content/uploads/2026/04/672677334_1410186967820702_4058096282972198717_n.jpg
END:VEVENT
BEGIN:VEVENT
DTSTART;TZID=America/New_York:20260724T180000
DTEND;TZID=America/New_York:20260724T203000
DTSTAMP:20260419T115505
CREATED:20260417T142726Z
LAST-MODIFIED:20260417T142726Z
UID:10042472-1784916000-1784925000@oceancountytourism.com
SUMMARY:Amazing Aerialist Show
DESCRIPTION:Experience breathtaking entertainment high above the boardwalk at Casino Pier!\nJoin us for a spectacular Aerialist Show featuring dazzling Nikki Rush soaring\, spinning\, and twisting through the sky in a stunning display of strength\, grace\, and artistry.\nSet against the backdrop of the ride pier\, this high-flying performance will captivate guests of all ages.\nWatch in awe as Nikki perform incredible routines suspended above the pier\, combining acrobatics and elegance for a truly unforgettable experience.\nIt’s the perfect blend of thrill and beauty — and a must-see addition to your day at the shore.\nAnd a special Christmas in July Aerialist Show on Friday\, July 24th!\nShows at 6pm\, 7pm & 8pm by Pirate’s HideawayJuly 22\, 23\, 24\nDon’t miss this sky-high spectacle — excitement is in the air!
URL:https://oceancountytourism.com/event/amazing-aerialist-show/2026-07-24/
LOCATION:Casino Pier & Breakwater Beach\, 800 Ocean Terrace\, Seaside Heights\, NJ\, 08751\, United States
CATEGORIES:Festivals & Family Fun
ATTACH;FMTTYPE=image/jpeg:https://oceancountytourism.com/wp-content/uploads/2026/04/672677334_1410186967820702_4058096282972198717_n.jpg
END:VEVENT
END:VCALENDAR