BEGIN:VCALENDAR
VERSION:2.0
PRODID:-//Ocean County Tourism - ECPv6.15.18//NONSGML v1.0//EN
CALSCALE:GREGORIAN
METHOD:PUBLISH
X-WR-CALNAME:Ocean County Tourism
X-ORIGINAL-URL:https://oceancountytourism.com
X-WR-CALDESC:Events for Ocean County Tourism
REFRESH-INTERVAL;VALUE=DURATION:PT1H
X-Robots-Tag:noindex
X-PUBLISHED-TTL:PT1H
BEGIN:VTIMEZONE
TZID:America/New_York
BEGIN:DAYLIGHT
TZOFFSETFROM:-0500
TZOFFSETTO:-0400
TZNAME:EDT
DTSTART:20250309T070000
END:DAYLIGHT
BEGIN:STANDARD
TZOFFSETFROM:-0400
TZOFFSETTO:-0500
TZNAME:EST
DTSTART:20251102T060000
END:STANDARD
BEGIN:DAYLIGHT
TZOFFSETFROM:-0500
TZOFFSETTO:-0400
TZNAME:EDT
DTSTART:20260308T070000
END:DAYLIGHT
BEGIN:STANDARD
TZOFFSETFROM:-0400
TZOFFSETTO:-0500
TZNAME:EST
DTSTART:20261101T060000
END:STANDARD
BEGIN:DAYLIGHT
TZOFFSETFROM:-0500
TZOFFSETTO:-0400
TZNAME:EDT
DTSTART:20270314T070000
END:DAYLIGHT
BEGIN:STANDARD
TZOFFSETFROM:-0400
TZOFFSETTO:-0500
TZNAME:EST
DTSTART:20271107T060000
END:STANDARD
END:VTIMEZONE
BEGIN:VEVENT
DTSTART;TZID=America/New_York:20260711T100000
DTEND;TZID=America/New_York:20260711T100000
DTSTAMP:20260420T045021
CREATED:20260417T111532Z
LAST-MODIFIED:20260417T111532Z
UID:10042460-1783764000-1783764000@oceancountytourism.com
SUMMARY:Drawing the Undraped Figure with Joseph Rogine
DESCRIPTION:Drawing the Undraped Figure with Joseph Rogine \n$80.00 for members \n$100.00 for non-members \nJuly 11th & July 25th \nA two-session standing pose workshop consisting of learning to layout the figure using the gesture\, angles\, proper proportion\, \nelementary anatomy\, and turning form with light and shade and edges. \nProper use of media explained.  Students may use pencil\, fine charcoal\, black/brown charcoal or pastel pencils. \nStudents are to arrive AT LEAST 15-20 minutes early for set up. \nLimited enrollment. \nhttps://www.ocartistsguild.org/event/drawing-the-undraped-figure-with-joseph-rogine/ \ninfo@ocartistsguild.org \n732-270-3111
URL:https://oceancountytourism.com/event/drawing-the-undraped-figure-with-joseph-rogine/2026-07-11/
LOCATION:Ocean County Artists Guild\, 22 Chestnut Avenue\, Island Heights\, NJ\, 08732\, United States
CATEGORIES:Art,Cultural & Heritage
ATTACH;FMTTYPE=image/jpeg:https://oceancountytourism.com/wp-content/uploads/2026/01/OCAGPrimary-Color-Logo@2x-100.jpg
END:VEVENT
BEGIN:VEVENT
DTSTART;TZID=America/New_York:20260725T100000
DTEND;TZID=America/New_York:20260725T100000
DTSTAMP:20260420T045021
CREATED:20260417T111532Z
LAST-MODIFIED:20260417T111532Z
UID:10042461-1784973600-1784973600@oceancountytourism.com
SUMMARY:Drawing the Undraped Figure with Joseph Rogine
DESCRIPTION:Drawing the Undraped Figure with Joseph Rogine \n$80.00 for members \n$100.00 for non-members \nJuly 11th & July 25th \nA two-session standing pose workshop consisting of learning to layout the figure using the gesture\, angles\, proper proportion\, \nelementary anatomy\, and turning form with light and shade and edges. \nProper use of media explained.  Students may use pencil\, fine charcoal\, black/brown charcoal or pastel pencils. \nStudents are to arrive AT LEAST 15-20 minutes early for set up. \nLimited enrollment. \nhttps://www.ocartistsguild.org/event/drawing-the-undraped-figure-with-joseph-rogine/ \ninfo@ocartistsguild.org \n732-270-3111
URL:https://oceancountytourism.com/event/drawing-the-undraped-figure-with-joseph-rogine/2026-07-25/
LOCATION:Ocean County Artists Guild\, 22 Chestnut Avenue\, Island Heights\, NJ\, 08732\, United States
CATEGORIES:Art,Cultural & Heritage
ATTACH;FMTTYPE=image/jpeg:https://oceancountytourism.com/wp-content/uploads/2026/01/OCAGPrimary-Color-Logo@2x-100.jpg
END:VEVENT
END:VCALENDAR