BEGIN:VCALENDAR
VERSION:2.0
PRODID:-//Ocean County Tourism - ECPv6.15.18//NONSGML v1.0//EN
CALSCALE:GREGORIAN
METHOD:PUBLISH
X-WR-CALNAME:Ocean County Tourism
X-ORIGINAL-URL:https://oceancountytourism.com
X-WR-CALDESC:Events for Ocean County Tourism
REFRESH-INTERVAL;VALUE=DURATION:PT1H
X-Robots-Tag:noindex
X-PUBLISHED-TTL:PT1H
BEGIN:VTIMEZONE
TZID:America/New_York
BEGIN:DAYLIGHT
TZOFFSETFROM:-0500
TZOFFSETTO:-0400
TZNAME:EDT
DTSTART:20250309T070000
END:DAYLIGHT
BEGIN:STANDARD
TZOFFSETFROM:-0400
TZOFFSETTO:-0500
TZNAME:EST
DTSTART:20251102T060000
END:STANDARD
BEGIN:DAYLIGHT
TZOFFSETFROM:-0500
TZOFFSETTO:-0400
TZNAME:EDT
DTSTART:20260308T070000
END:DAYLIGHT
BEGIN:STANDARD
TZOFFSETFROM:-0400
TZOFFSETTO:-0500
TZNAME:EST
DTSTART:20261101T060000
END:STANDARD
BEGIN:DAYLIGHT
TZOFFSETFROM:-0500
TZOFFSETTO:-0400
TZNAME:EDT
DTSTART:20270314T070000
END:DAYLIGHT
BEGIN:STANDARD
TZOFFSETFROM:-0400
TZOFFSETTO:-0500
TZNAME:EST
DTSTART:20271107T060000
END:STANDARD
END:VTIMEZONE
BEGIN:VEVENT
DTSTART;TZID=America/New_York:20260807T100000
DTEND;TZID=America/New_York:20260807T140000
DTSTAMP:20260419T211716
CREATED:20260413T121525Z
LAST-MODIFIED:20260413T121525Z
UID:10042390-1786096800-1786111200@oceancountytourism.com
SUMMARY:The Spirit of the Horse
DESCRIPTION:Students will begin with two weeks of focused drawing\, exploring the anatomy\, proportions\, and graceful movement of the horse. \nFrom there\, the class transitions into painting\, where watercolor or gouache techniques are used to bring these studies to life—capturing form\, light\, and expressive energy with confident brushwork. \nTuition: $140(member)/$180(non-member) \nhttp://www.pineshoresartassociation.org \neducation@pineshoresartassociation.org \n6095973557
URL:https://oceancountytourism.com/event/the-spirit-of-the-horse/2026-08-07/
LOCATION:Pine Shores Art Association\, 94 Stafford Avenue\, Stafford\, NJ\, 08050\, United States
CATEGORIES:Art,Cultural & Heritage
ATTACH;FMTTYPE=image/jpeg:https://oceancountytourism.com/wp-content/uploads/2026/04/spirit-of-horse-002.jpg
END:VEVENT
BEGIN:VEVENT
DTSTART;TZID=America/New_York:20260814T100000
DTEND;TZID=America/New_York:20260814T140000
DTSTAMP:20260419T211716
CREATED:20260413T121525Z
LAST-MODIFIED:20260413T121525Z
UID:10042391-1786701600-1786716000@oceancountytourism.com
SUMMARY:The Spirit of the Horse
DESCRIPTION:Students will begin with two weeks of focused drawing\, exploring the anatomy\, proportions\, and graceful movement of the horse. \nFrom there\, the class transitions into painting\, where watercolor or gouache techniques are used to bring these studies to life—capturing form\, light\, and expressive energy with confident brushwork. \nTuition: $140(member)/$180(non-member) \nhttp://www.pineshoresartassociation.org \neducation@pineshoresartassociation.org \n6095973557
URL:https://oceancountytourism.com/event/the-spirit-of-the-horse/2026-08-14/
LOCATION:Pine Shores Art Association\, 94 Stafford Avenue\, Stafford\, NJ\, 08050\, United States
CATEGORIES:Art,Cultural & Heritage
ATTACH;FMTTYPE=image/jpeg:https://oceancountytourism.com/wp-content/uploads/2026/04/spirit-of-horse-002.jpg
END:VEVENT
BEGIN:VEVENT
DTSTART;TZID=America/New_York:20260821T100000
DTEND;TZID=America/New_York:20260821T140000
DTSTAMP:20260419T211716
CREATED:20260413T121525Z
LAST-MODIFIED:20260413T121525Z
UID:10042392-1787306400-1787320800@oceancountytourism.com
SUMMARY:The Spirit of the Horse
DESCRIPTION:Students will begin with two weeks of focused drawing\, exploring the anatomy\, proportions\, and graceful movement of the horse. \nFrom there\, the class transitions into painting\, where watercolor or gouache techniques are used to bring these studies to life—capturing form\, light\, and expressive energy with confident brushwork. \nTuition: $140(member)/$180(non-member) \nhttp://www.pineshoresartassociation.org \neducation@pineshoresartassociation.org \n6095973557
URL:https://oceancountytourism.com/event/the-spirit-of-the-horse/2026-08-21/
LOCATION:Pine Shores Art Association\, 94 Stafford Avenue\, Stafford\, NJ\, 08050\, United States
CATEGORIES:Art,Cultural & Heritage
ATTACH;FMTTYPE=image/jpeg:https://oceancountytourism.com/wp-content/uploads/2026/04/spirit-of-horse-002.jpg
END:VEVENT
BEGIN:VEVENT
DTSTART;TZID=America/New_York:20260828T100000
DTEND;TZID=America/New_York:20260828T140000
DTSTAMP:20260419T211716
CREATED:20260413T121525Z
LAST-MODIFIED:20260413T121525Z
UID:10042393-1787911200-1787925600@oceancountytourism.com
SUMMARY:The Spirit of the Horse
DESCRIPTION:Students will begin with two weeks of focused drawing\, exploring the anatomy\, proportions\, and graceful movement of the horse. \nFrom there\, the class transitions into painting\, where watercolor or gouache techniques are used to bring these studies to life—capturing form\, light\, and expressive energy with confident brushwork. \nTuition: $140(member)/$180(non-member) \nhttp://www.pineshoresartassociation.org \neducation@pineshoresartassociation.org \n6095973557
URL:https://oceancountytourism.com/event/the-spirit-of-the-horse/2026-08-28/
LOCATION:Pine Shores Art Association\, 94 Stafford Avenue\, Stafford\, NJ\, 08050\, United States
CATEGORIES:Art,Cultural & Heritage
ATTACH;FMTTYPE=image/jpeg:https://oceancountytourism.com/wp-content/uploads/2026/04/spirit-of-horse-002.jpg
END:VEVENT
END:VCALENDAR