BEGIN:VCALENDAR
VERSION:2.0
PRODID:-//Ocean County Tourism - ECPv6.15.18//NONSGML v1.0//EN
CALSCALE:GREGORIAN
METHOD:PUBLISH
X-WR-CALNAME:Ocean County Tourism
X-ORIGINAL-URL:https://oceancountytourism.com
X-WR-CALDESC:Events for Ocean County Tourism
REFRESH-INTERVAL;VALUE=DURATION:PT1H
X-Robots-Tag:noindex
X-PUBLISHED-TTL:PT1H
BEGIN:VTIMEZONE
TZID:America/New_York
BEGIN:DAYLIGHT
TZOFFSETFROM:-0500
TZOFFSETTO:-0400
TZNAME:EDT
DTSTART:20250309T070000
END:DAYLIGHT
BEGIN:STANDARD
TZOFFSETFROM:-0400
TZOFFSETTO:-0500
TZNAME:EST
DTSTART:20251102T060000
END:STANDARD
BEGIN:DAYLIGHT
TZOFFSETFROM:-0500
TZOFFSETTO:-0400
TZNAME:EDT
DTSTART:20260308T070000
END:DAYLIGHT
BEGIN:STANDARD
TZOFFSETFROM:-0400
TZOFFSETTO:-0500
TZNAME:EST
DTSTART:20261101T060000
END:STANDARD
BEGIN:DAYLIGHT
TZOFFSETFROM:-0500
TZOFFSETTO:-0400
TZNAME:EDT
DTSTART:20270314T070000
END:DAYLIGHT
BEGIN:STANDARD
TZOFFSETFROM:-0400
TZOFFSETTO:-0500
TZNAME:EST
DTSTART:20271107T060000
END:STANDARD
END:VTIMEZONE
BEGIN:VEVENT
DTSTART;TZID=America/New_York:20260425T130000
DTEND;TZID=America/New_York:20260425T130000
DTSTAMP:20260424T004111
CREATED:20260218T142630Z
LAST-MODIFIED:20260218T142630Z
UID:10041366-1777122000-1777122000@oceancountytourism.com
SUMMARY:Mutts Gone Nuts
DESCRIPTION:Expect the unexpected\, as canines and comedy collide in a smash hit performance\, that’s leaving audiences everywhere howling for more. \nFrom shelters to showbiz\, these amazing mutts unleash havoc and hilarity in a breathtaking\, action-packed\, comedy dog spectacular\, featuring some of the world’s most talented 4 legged performers. \nDeemed ‘A Must See’ by the Washington Post\, the dogs are sure to steal your heart\, and then your socks! \n\nThe 4:00 PM Performance will be a Relaxed Performance. Relaxed performances are designed to create a welcoming environment for all visitors\, including individuals with neurodiversity and sensory needs. These dedicated performances will feature all the joy of a typical theater setting\, with a few adjustments to help attendees feel more comfortable. This can include adjustments to lighting and sound\, an environment that allows for movement and breaks when needed\, and an inclusive staff that welcomes guests from the moment they arrive. Families who do not require these accommodations are still welcome to attend. \n\nAbout the Dogs \nMutts Gone Nuts Mission & Assurances: Our show’s dogs were adopted from animal shelters or from rescue groups. We use all positive\, reward-based training methods\, which means: We reward and reinforce the behaviors that we want (with treats\, toys\, praise) and we ignore the behaviors we don’t want. We look for what our dogs like to do naturally\, and cultivate those talents. \n\nLiving Conditions for our dogs: Our dogs travel in large\, padded\, climate-controlled kennels for their safety when on tour. They have 2 acres of fenced area to run when at home. All of our dogs live indoors and are never kept outside in kennels\, and are USDA APHIS (Animal Welfare) registered. \n\nhttps://www.grunincenter.org/event/mutts-gone-nuts-2/2026-04-25/2/ \ngrunincenter@ocean.edu \n732-255-0500
URL:https://oceancountytourism.com/event/mutts-gone-nuts/2026-04-25/1/
LOCATION:Jay and Linda Grunin Center for The Arts\, College Drive\, Toms River\, NJ\, 08754\, United States
CATEGORIES:Live Entertainment
ATTACH;FMTTYPE=image/jpeg:https://oceancountytourism.com/wp-content/uploads/2026/02/Mutts-2026-1920x1080-1.jpg
END:VEVENT
BEGIN:VEVENT
DTSTART;TZID=America/New_York:20260425T160000
DTEND;TZID=America/New_York:20260425T160000
DTSTAMP:20260424T004111
CREATED:20260218T142630Z
LAST-MODIFIED:20260218T142630Z
UID:10041367-1777132800-1777132800@oceancountytourism.com
SUMMARY:Mutts Gone Nuts
DESCRIPTION:Expect the unexpected\, as canines and comedy collide in a smash hit performance\, that’s leaving audiences everywhere howling for more. \nFrom shelters to showbiz\, these amazing mutts unleash havoc and hilarity in a breathtaking\, action-packed\, comedy dog spectacular\, featuring some of the world’s most talented 4 legged performers. \nDeemed ‘A Must See’ by the Washington Post\, the dogs are sure to steal your heart\, and then your socks! \n\nThe 4:00 PM Performance will be a Relaxed Performance. Relaxed performances are designed to create a welcoming environment for all visitors\, including individuals with neurodiversity and sensory needs. These dedicated performances will feature all the joy of a typical theater setting\, with a few adjustments to help attendees feel more comfortable. This can include adjustments to lighting and sound\, an environment that allows for movement and breaks when needed\, and an inclusive staff that welcomes guests from the moment they arrive. Families who do not require these accommodations are still welcome to attend. \n\nAbout the Dogs \nMutts Gone Nuts Mission & Assurances: Our show’s dogs were adopted from animal shelters or from rescue groups. We use all positive\, reward-based training methods\, which means: We reward and reinforce the behaviors that we want (with treats\, toys\, praise) and we ignore the behaviors we don’t want. We look for what our dogs like to do naturally\, and cultivate those talents. \n\nLiving Conditions for our dogs: Our dogs travel in large\, padded\, climate-controlled kennels for their safety when on tour. They have 2 acres of fenced area to run when at home. All of our dogs live indoors and are never kept outside in kennels\, and are USDA APHIS (Animal Welfare) registered. \n\nhttps://www.grunincenter.org/event/mutts-gone-nuts-2/2026-04-25/2/ \ngrunincenter@ocean.edu \n732-255-0500
URL:https://oceancountytourism.com/event/mutts-gone-nuts/2026-04-25/2/
LOCATION:Jay and Linda Grunin Center for The Arts\, College Drive\, Toms River\, NJ\, 08754\, United States
CATEGORIES:Live Entertainment
ATTACH;FMTTYPE=image/jpeg:https://oceancountytourism.com/wp-content/uploads/2026/02/Mutts-2026-1920x1080-1.jpg
END:VEVENT
END:VCALENDAR