BEGIN:VCALENDAR
VERSION:2.0
PRODID:-//Ocean County Tourism - ECPv6.15.18//NONSGML v1.0//EN
CALSCALE:GREGORIAN
METHOD:PUBLISH
X-WR-CALNAME:Ocean County Tourism
X-ORIGINAL-URL:https://oceancountytourism.com
X-WR-CALDESC:Events for Ocean County Tourism
REFRESH-INTERVAL;VALUE=DURATION:PT1H
X-Robots-Tag:noindex
X-PUBLISHED-TTL:PT1H
BEGIN:VTIMEZONE
TZID:America/New_York
BEGIN:DAYLIGHT
TZOFFSETFROM:-0500
TZOFFSETTO:-0400
TZNAME:EDT
DTSTART:20250309T070000
END:DAYLIGHT
BEGIN:STANDARD
TZOFFSETFROM:-0400
TZOFFSETTO:-0500
TZNAME:EST
DTSTART:20251102T060000
END:STANDARD
BEGIN:DAYLIGHT
TZOFFSETFROM:-0500
TZOFFSETTO:-0400
TZNAME:EDT
DTSTART:20260308T070000
END:DAYLIGHT
BEGIN:STANDARD
TZOFFSETFROM:-0400
TZOFFSETTO:-0500
TZNAME:EST
DTSTART:20261101T060000
END:STANDARD
BEGIN:DAYLIGHT
TZOFFSETFROM:-0500
TZOFFSETTO:-0400
TZNAME:EDT
DTSTART:20270314T070000
END:DAYLIGHT
BEGIN:STANDARD
TZOFFSETFROM:-0400
TZOFFSETTO:-0500
TZNAME:EST
DTSTART:20271107T060000
END:STANDARD
END:VTIMEZONE
BEGIN:VEVENT
DTSTART;TZID=America/New_York:20260629T170000
DTEND;TZID=America/New_York:20260629T170000
DTSTAMP:20260421T113227
CREATED:20251218T165746Z
LAST-MODIFIED:20251218T165746Z
UID:10040250-1782752400-1782752400@oceancountytourism.com
SUMMARY:Beginnings - Chicago Tribute Band
DESCRIPTION:  \n \nThe Ultimate Chicago Tribute Band! Beginnings formed in 2002 as a tribute to the music of super-group Chicago. \nThe band is based in New York City and regularly performs for highly enthusiastic and loyal audiences all over the United States and beyond. \nPerforming in Chicago’s original\, classic-era 7pc. Configuration\, Beginnings delivers the world’s most authentic live Chicago concert experience\, bringing the legendary band’s extensive catalog to life\, with stunning detail\, accuracy\, and intensity. Fueled by world class musicianship and a passion for performance\, the band is a live music experience not to be missed. \nThe group’s love of the music and dedication to their fans makes for an outstanding and electrifying show every time. Come see the band live\, and they promise to “Make You Smile”! \n\nhttps://surflight.org/ \ninfo@surflight.org \n609-492-9477
URL:https://oceancountytourism.com/event/beginnings-chicago-tribute-band/2026-06-29/1/
LOCATION:Surflight Theatre\, 201 Engleside Ave.\, Beach Haven\, NJ\, 08008\, United States
CATEGORIES:Theatre
ATTACH;FMTTYPE=image/png:https://oceancountytourism.com/wp-content/uploads/2025/12/beginnings2-edit.png
END:VEVENT
BEGIN:VEVENT
DTSTART;TZID=America/New_York:20260629T200000
DTEND;TZID=America/New_York:20260629T200000
DTSTAMP:20260421T113227
CREATED:20251218T165746Z
LAST-MODIFIED:20251218T165746Z
UID:10040251-1782763200-1782763200@oceancountytourism.com
SUMMARY:Beginnings - Chicago Tribute Band
DESCRIPTION:  \n \nThe Ultimate Chicago Tribute Band! Beginnings formed in 2002 as a tribute to the music of super-group Chicago. \nThe band is based in New York City and regularly performs for highly enthusiastic and loyal audiences all over the United States and beyond. \nPerforming in Chicago’s original\, classic-era 7pc. Configuration\, Beginnings delivers the world’s most authentic live Chicago concert experience\, bringing the legendary band’s extensive catalog to life\, with stunning detail\, accuracy\, and intensity. Fueled by world class musicianship and a passion for performance\, the band is a live music experience not to be missed. \nThe group’s love of the music and dedication to their fans makes for an outstanding and electrifying show every time. Come see the band live\, and they promise to “Make You Smile”! \n\nhttps://surflight.org/ \ninfo@surflight.org \n609-492-9477
URL:https://oceancountytourism.com/event/beginnings-chicago-tribute-band/2026-06-29/2/
LOCATION:Surflight Theatre\, 201 Engleside Ave.\, Beach Haven\, NJ\, 08008\, United States
CATEGORIES:Theatre
ATTACH;FMTTYPE=image/png:https://oceancountytourism.com/wp-content/uploads/2025/12/beginnings2-edit.png
END:VEVENT
END:VCALENDAR