BEGIN:VCALENDAR
VERSION:2.0
PRODID:-//Ocean County Tourism - ECPv6.15.18//NONSGML v1.0//EN
CALSCALE:GREGORIAN
METHOD:PUBLISH
X-WR-CALNAME:Ocean County Tourism
X-ORIGINAL-URL:https://oceancountytourism.com
X-WR-CALDESC:Events for Ocean County Tourism
REFRESH-INTERVAL;VALUE=DURATION:PT1H
X-Robots-Tag:noindex
X-PUBLISHED-TTL:PT1H
BEGIN:VTIMEZONE
TZID:America/New_York
BEGIN:DAYLIGHT
TZOFFSETFROM:-0500
TZOFFSETTO:-0400
TZNAME:EDT
DTSTART:20250309T070000
END:DAYLIGHT
BEGIN:STANDARD
TZOFFSETFROM:-0400
TZOFFSETTO:-0500
TZNAME:EST
DTSTART:20251102T060000
END:STANDARD
BEGIN:DAYLIGHT
TZOFFSETFROM:-0500
TZOFFSETTO:-0400
TZNAME:EDT
DTSTART:20260308T070000
END:DAYLIGHT
BEGIN:STANDARD
TZOFFSETFROM:-0400
TZOFFSETTO:-0500
TZNAME:EST
DTSTART:20261101T060000
END:STANDARD
BEGIN:DAYLIGHT
TZOFFSETFROM:-0500
TZOFFSETTO:-0400
TZNAME:EDT
DTSTART:20270314T070000
END:DAYLIGHT
BEGIN:STANDARD
TZOFFSETFROM:-0400
TZOFFSETTO:-0500
TZNAME:EST
DTSTART:20271107T060000
END:STANDARD
END:VTIMEZONE
BEGIN:VEVENT
DTSTART;TZID=America/New_York:20260819T180000
DTEND;TZID=America/New_York:20260819T180000
DTSTAMP:20260420T170438
CREATED:20251218T161132Z
LAST-MODIFIED:20260218T155603Z
UID:10040205-1787162400-1787162400@oceancountytourism.com
SUMMARY:Wizard Of Oz
DESCRIPTION:Presenting your favorite children’s stories with our own twist. Geared for children 3-10. \nhttps://surflight.org/ \ninfo@surflight.org \n609-492-9477
URL:https://oceancountytourism.com/event/wizard-of-oz-4/2026-08-19/
LOCATION:Surflight Theatre\, 201 Engleside Ave.\, Beach Haven\, NJ\, 08008\, United States
CATEGORIES:Theatre
ATTACH;FMTTYPE=image/jpeg:https://oceancountytourism.com/wp-content/uploads/2025/12/wizlogo2-002.jpg
END:VEVENT
BEGIN:VEVENT
DTSTART;TZID=America/New_York:20260820T180000
DTEND;TZID=America/New_York:20260820T180000
DTSTAMP:20260420T170438
CREATED:20251218T161132Z
LAST-MODIFIED:20260218T155603Z
UID:10040206-1787248800-1787248800@oceancountytourism.com
SUMMARY:Wizard Of Oz
DESCRIPTION:Presenting your favorite children’s stories with our own twist. Geared for children 3-10. \nhttps://surflight.org/ \ninfo@surflight.org \n609-492-9477
URL:https://oceancountytourism.com/event/wizard-of-oz-4/2026-08-20/
LOCATION:Surflight Theatre\, 201 Engleside Ave.\, Beach Haven\, NJ\, 08008\, United States
CATEGORIES:Theatre
ATTACH;FMTTYPE=image/jpeg:https://oceancountytourism.com/wp-content/uploads/2025/12/wizlogo2-002.jpg
END:VEVENT
BEGIN:VEVENT
DTSTART;TZID=America/New_York:20260821T180000
DTEND;TZID=America/New_York:20260821T180000
DTSTAMP:20260420T170438
CREATED:20251218T161132Z
LAST-MODIFIED:20260218T155603Z
UID:10040207-1787335200-1787335200@oceancountytourism.com
SUMMARY:Wizard Of Oz
DESCRIPTION:Presenting your favorite children’s stories with our own twist. Geared for children 3-10. \nhttps://surflight.org/ \ninfo@surflight.org \n609-492-9477
URL:https://oceancountytourism.com/event/wizard-of-oz-4/2026-08-21/
LOCATION:Surflight Theatre\, 201 Engleside Ave.\, Beach Haven\, NJ\, 08008\, United States
CATEGORIES:Theatre
ATTACH;FMTTYPE=image/jpeg:https://oceancountytourism.com/wp-content/uploads/2025/12/wizlogo2-002.jpg
END:VEVENT
BEGIN:VEVENT
DTSTART;TZID=America/New_York:20260822T180000
DTEND;TZID=America/New_York:20260822T180000
DTSTAMP:20260420T170438
CREATED:20251218T161132Z
LAST-MODIFIED:20260218T155603Z
UID:10040208-1787421600-1787421600@oceancountytourism.com
SUMMARY:Wizard Of Oz
DESCRIPTION:Presenting your favorite children’s stories with our own twist. Geared for children 3-10. \nhttps://surflight.org/ \ninfo@surflight.org \n609-492-9477
URL:https://oceancountytourism.com/event/wizard-of-oz-4/2026-08-22/
LOCATION:Surflight Theatre\, 201 Engleside Ave.\, Beach Haven\, NJ\, 08008\, United States
CATEGORIES:Theatre
ATTACH;FMTTYPE=image/jpeg:https://oceancountytourism.com/wp-content/uploads/2025/12/wizlogo2-002.jpg
END:VEVENT
BEGIN:VEVENT
DTSTART;TZID=America/New_York:20260823T180000
DTEND;TZID=America/New_York:20260823T180000
DTSTAMP:20260420T170438
CREATED:20251218T161132Z
LAST-MODIFIED:20260218T155603Z
UID:10040209-1787508000-1787508000@oceancountytourism.com
SUMMARY:Wizard Of Oz
DESCRIPTION:Presenting your favorite children’s stories with our own twist. Geared for children 3-10. \nhttps://surflight.org/ \ninfo@surflight.org \n609-492-9477
URL:https://oceancountytourism.com/event/wizard-of-oz-4/2026-08-23/
LOCATION:Surflight Theatre\, 201 Engleside Ave.\, Beach Haven\, NJ\, 08008\, United States
CATEGORIES:Theatre
ATTACH;FMTTYPE=image/jpeg:https://oceancountytourism.com/wp-content/uploads/2025/12/wizlogo2-002.jpg
END:VEVENT
END:VCALENDAR