BEGIN:VCALENDAR
VERSION:2.0
PRODID:-//Ocean County Tourism - ECPv6.15.18//NONSGML v1.0//EN
CALSCALE:GREGORIAN
METHOD:PUBLISH
X-WR-CALNAME:Ocean County Tourism
X-ORIGINAL-URL:https://oceancountytourism.com
X-WR-CALDESC:Events for Ocean County Tourism
REFRESH-INTERVAL;VALUE=DURATION:PT1H
X-Robots-Tag:noindex
X-PUBLISHED-TTL:PT1H
BEGIN:VTIMEZONE
TZID:America/New_York
BEGIN:DAYLIGHT
TZOFFSETFROM:-0500
TZOFFSETTO:-0400
TZNAME:EDT
DTSTART:20250309T070000
END:DAYLIGHT
BEGIN:STANDARD
TZOFFSETFROM:-0400
TZOFFSETTO:-0500
TZNAME:EST
DTSTART:20251102T060000
END:STANDARD
BEGIN:DAYLIGHT
TZOFFSETFROM:-0500
TZOFFSETTO:-0400
TZNAME:EDT
DTSTART:20260308T070000
END:DAYLIGHT
BEGIN:STANDARD
TZOFFSETFROM:-0400
TZOFFSETTO:-0500
TZNAME:EST
DTSTART:20261101T060000
END:STANDARD
BEGIN:DAYLIGHT
TZOFFSETFROM:-0500
TZOFFSETTO:-0400
TZNAME:EDT
DTSTART:20270314T070000
END:DAYLIGHT
BEGIN:STANDARD
TZOFFSETFROM:-0400
TZOFFSETTO:-0500
TZNAME:EST
DTSTART:20271107T060000
END:STANDARD
END:VTIMEZONE
BEGIN:VEVENT
DTSTART;TZID=America/New_York:20261229T083000
DTEND;TZID=America/New_York:20261229T093000
DTSTAMP:20260420T013401
CREATED:20260108T125258Z
LAST-MODIFIED:20260217T145311Z
UID:10040520-1798533000-1798536600@oceancountytourism.com
SUMMARY:Yoga at the Guild
DESCRIPTION:Yoga at the Guild! \nStretch\, strengthen and center yourself! \nEvery Tuesday Starting 6/2/26 through 12/29/26 \n8:30am-9:30am \n$40 for members for the month or $10/session. \n$60 for non members for the month or $15/session. \n22 Chestnut Ave\, Island Heights \nhttps://www.ocartistsguild.org/event/yoga-7-15/2026-06-02/ \ninfo@ocartistsguild.org \n732-270-3111
URL:https://oceancountytourism.com/event/69824/2026-12-29/
LOCATION:Ocean County Artists Guild\, 22 Chestnut Avenue\, Island Heights\, NJ\, 08732\, United States
CATEGORIES:Art,Cultural & Heritage
ATTACH;FMTTYPE=image/png:https://oceancountytourism.com/wp-content/uploads/2025/09/OCAG-Yoga-Class-Flyer-500x889-1.png
END:VEVENT
BEGIN:VEVENT
DTSTART;TZID=America/New_York:20261229T103000
DTEND;TZID=America/New_York:20261229T113000
DTSTAMP:20260420T013401
CREATED:20251212T123756Z
LAST-MODIFIED:20260217T143029Z
UID:10040118-1798540200-1798543800@oceancountytourism.com
SUMMARY:Mobility Moves
DESCRIPTION:New “Mobility Moves” class begins on 1/6/26 through 12/29/26 at Ocean Acres Community Center. \nClasses are held every Tuesday at 10:30AM and will be a hybrid of chair and standing exercises. \nThe class is designed for older adults\, specifically those with age-related conditions that want to work on mobility\, range of motion and balance. \nJoin certified yoga and fitness instructors\, Angie and Stephanie new classes c/o Stafford Township Rec Department \nFunctional fitness routines with the use of a chair\, light weights and bands that allow you to feel stronger and move easier at every age. \nTo prevent falls\, exercise \nExercise is the only intervention that significantly reduces a person’s risk of falling\, among older people. This class is designed for people with movement disorders and age-related conditions like Parkinsons and Rheumatoid Arthritis in mind but it is open to anyone. \nResearch is beginning to show how exercise changes the brain for the better and can help people gain back some of their automatic reflex. \nWe help with: Joint pain and arthritis\, balance & fall prevention\, muscle weakness\, limited range of motion\, chronic pain \n$10 suggested donation \nVisit us: Tuesdays @OACC 489 Nautilus Drive\, Manahawkin \nContact us: \nStephanie: 732-406-0172 \nAngie: 310-775-1521 \nocean8yoga.com
URL:https://oceancountytourism.com/event/mobility-moves/2026-12-29/
LOCATION:OACC\, 489 Nautilus Drive\, Manahawkin\, 08050\, United States
ATTACH;FMTTYPE=image/png:https://oceancountytourism.com/wp-content/uploads/2025/12/Mobility-Moves-class-Tuesday-Flyer.png
END:VEVENT
BEGIN:VEVENT
DTSTART;TZID=America/New_York:20261231T193000
DTEND;TZID=America/New_York:20261231T193000
DTSTAMP:20260420T013401
CREATED:20260120T145728Z
LAST-MODIFIED:20260217T134432Z
UID:10040820-1798745400-1798745400@oceancountytourism.com
SUMMARY:Bingo Night
DESCRIPTION:Every Thursday night bingo starts at 7:30 with RKP productions! \nPlay\, eat\, drink\, win Thursday is the new Friday \nStarting 1/22/26 through 12/31/26
URL:https://oceancountytourism.com/event/bingo-night/2026-12-31/
LOCATION:Caffrey’s\, 440 Route 9\, Forked River\, NJ\, United States
ATTACH;FMTTYPE=image/jpeg:https://oceancountytourism.com/wp-content/uploads/2026/01/618929667_1491391052991368_3970365556947217490_n.jpg
END:VEVENT
BEGIN:VEVENT
DTSTART;TZID=America/New_York:20261231T200000
DTEND;TZID=America/New_York:20261231T200000
DTSTAMP:20260420T013401
CREATED:20251218T162634Z
LAST-MODIFIED:20260212T201539Z
UID:10040241-1798747200-1798747200@oceancountytourism.com
SUMMARY:New Year’s Eve Bubbly Bash with The Rave-Ons
DESCRIPTION:The Rave-Ons return to the Surflight Theatre on New Year’s Eve! Todd Meredith & The Rave-Ons are a high energy rock and roll band originally formed to revitalize the music of Buddy Holly and the Crickets. \nThey produce and star in two different Buddy Holly tribute shows as well as a 50’s and 60’s rock and roll tribute. \nFor concerts\, they have over a hundred and fifty rock and roll tunes from all decades in their repertoire. \nThey have played together all over the world\, dazzling audiences at such venues as: Celebrity Cruise Lines\, Holland America Cruise Lines\, and BB Kings Blues Club\, NYC and numerous other clubs\, theaters\, restaurants\, and civic centers from coast to coast – including Buddy Holly’s hometown of Lubbock\, Texas! \nAudiences agree\, the Rave-Ons give their shows an energy and exuberance that cannot be matched! \n12/31/26 at 8pm \nhttps://surflight.org/ \ninfo@surflight.org \n609-492-9477
URL:https://oceancountytourism.com/event/new-years-eve-bubbly-bash-with-the-rave-ons-2/
LOCATION:Surflight Theatre\, 201 Engleside Ave.\, Beach Haven\, NJ\, 08008\, United States
CATEGORIES:Theatre
ATTACH;FMTTYPE=image/png:https://oceancountytourism.com/wp-content/uploads/2025/12/Rave-ons-logo-PR-Logo.png
END:VEVENT
END:VCALENDAR