BEGIN:VCALENDAR
VERSION:2.0
PRODID:-//Ocean County Tourism - ECPv6.15.18//NONSGML v1.0//EN
CALSCALE:GREGORIAN
METHOD:PUBLISH
X-WR-CALNAME:Ocean County Tourism
X-ORIGINAL-URL:https://oceancountytourism.com
X-WR-CALDESC:Events for Ocean County Tourism
REFRESH-INTERVAL;VALUE=DURATION:PT1H
X-Robots-Tag:noindex
X-PUBLISHED-TTL:PT1H
BEGIN:VTIMEZONE
TZID:America/New_York
BEGIN:DAYLIGHT
TZOFFSETFROM:-0500
TZOFFSETTO:-0400
TZNAME:EDT
DTSTART:20240310T070000
END:DAYLIGHT
BEGIN:STANDARD
TZOFFSETFROM:-0400
TZOFFSETTO:-0500
TZNAME:EST
DTSTART:20241103T060000
END:STANDARD
BEGIN:DAYLIGHT
TZOFFSETFROM:-0500
TZOFFSETTO:-0400
TZNAME:EDT
DTSTART:20250309T070000
END:DAYLIGHT
BEGIN:STANDARD
TZOFFSETFROM:-0400
TZOFFSETTO:-0500
TZNAME:EST
DTSTART:20251102T060000
END:STANDARD
BEGIN:DAYLIGHT
TZOFFSETFROM:-0500
TZOFFSETTO:-0400
TZNAME:EDT
DTSTART:20260308T070000
END:DAYLIGHT
BEGIN:STANDARD
TZOFFSETFROM:-0400
TZOFFSETTO:-0500
TZNAME:EST
DTSTART:20261101T060000
END:STANDARD
END:VTIMEZONE
BEGIN:VEVENT
DTSTART;TZID=America/New_York:20250420T140000
DTEND;TZID=America/New_York:20250420T160000
DTSTAMP:20260420T202429
CREATED:20241106T134338Z
LAST-MODIFIED:20241106T134338Z
UID:10033231-1745157600-1745164800@oceancountytourism.com
SUMMARY:Portrait Group – Sunday Afternoons
DESCRIPTION:*Pricing available on the OCAG website* \n\nMembers/non-members: Portrait Group (weekly) View Gallery \nDate: Sunday afternoons (2nd\, 3rd\, & 4th Sundays); (dates subject to change. Contact Monitor) \nTime: 2:00 PM – 4:00 PM Duration: On Going\, I’m Interested \nMonitor: To be determined \nSundays – Studio Portraits from live clothed models in long poses in all mediums. \nNOTE: member fee increase beginning January 2024 Members Model fee $20\, non-members $25; NEW: Teen members\, college & high school students $10.00. payable to monitor at each class. \n\nhttps://www.ocartistsguild.org/event/portrait-group-sunday-afternoons/2024-12-08/ \ninfo@ocartistsguild.org \n732-270-3111
URL:https://oceancountytourism.com/event/portrait-group-sunday-afternoons-2/2025-04-20/
LOCATION:Ocean County Artists Guild\, 22 Chestnut Avenue\, Island Heights\, NJ\, 08732\, United States
CATEGORIES:Art,Cultural & Heritage
ATTACH;FMTTYPE=image/jpeg:https://oceancountytourism.com/wp-content/uploads/2022/04/icon-art.jpg
END:VEVENT
BEGIN:VEVENT
DTSTART;TZID=America/New_York:20250420T130000
DTEND;TZID=America/New_York:20250420T170000
DTSTAMP:20260420T202429
CREATED:20250226T202851Z
LAST-MODIFIED:20250226T202851Z
UID:10034952-1745154000-1745168400@oceancountytourism.com
SUMMARY:Easter Weekend at the Tiki Bar!
DESCRIPTION:Easter Weekend @ Tiki Bar! | Facebook
URL:https://oceancountytourism.com/event/easter-weekend-at-the-tiki-bar/2025-04-20/
LOCATION:Martell’s Tiki Bar\, 312 Boardwalk\, Point Pleasant Beach\, NJ\, 08742\, United States
CATEGORIES:Food,Live Entertainment
ATTACH;FMTTYPE=image/jpeg:https://oceancountytourism.com/wp-content/uploads/2025/02/TikiEasterWeekend2025.jpeg
END:VEVENT
BEGIN:VEVENT
DTSTART;TZID=America/New_York:20250420T130000
DTEND;TZID=America/New_York:20250420T150000
DTSTAMP:20260420T202429
CREATED:20250224T184352Z
LAST-MODIFIED:20250224T184352Z
UID:10034888-1745154000-1745161200@oceancountytourism.com
SUMMARY:Photos with the Easter Bunny
DESCRIPTION:Say Hi to the Easter Bunny and get adorable photos for the Easter Holiday! \nPhotos will be in the Arcade\, 1pm-3pm \nhttps://casinopiernj.com/specials-events \ninfo@casinopiernj.com \n732-793-6488 \n 
URL:https://oceancountytourism.com/event/photos-with-the-easter-bunny-5/
LOCATION:Casino Pier\, 800 Ocean Terrace\, Seaside Heights\, NJ\, 08751\, United States
CATEGORIES:Festivals & Family Fun,Free
ATTACH;FMTTYPE=image/jpeg:https://oceancountytourism.com/wp-content/uploads/2025/02/Spring-Events-Web-Block_Apr-20-Easter-Bunny-1-scaled.jpg
END:VEVENT
BEGIN:VEVENT
DTSTART;TZID=America/New_York:20250420T130000
DTEND;TZID=America/New_York:20250420T140000
DTSTAMP:20260420T202429
CREATED:20250210T181314Z
LAST-MODIFIED:20250214T205126Z
UID:10034689-1745154000-1745157600@oceancountytourism.com
SUMMARY:Easter Parade Jenkinson's Boardwalk
DESCRIPTION:The Easter parade is back! Join us for the annual Easter Parade on Jenkinson’s Boardwalk on Sunday\, April 20th at 1pm! \nSponsored by the Point Pleasant Beach Chamber of Commerce. \nRegistration runs from 11:30am to 12:30pm in front of Joey Tomato’s\, Easter Parade will begin at 1pm. \nCategories Include: \nChildren: 0-3\, 4-6 and 7-10 years old \nFloat \nMultiples \nBonnet \nPrizes awarded for each of the categories consisting of prizes from the boardwalk and from local businesses in town! \nhttps://jenkinsons.com/event/easter-parade-3/
URL:https://oceancountytourism.com/event/easter-parade-jenkinsons-boardwalk/
LOCATION:Jenkinson’s Boardwalk\, 300 Ocean Ave.\, Point Pleasant Beach\, NJ\, 08742\, United States
CATEGORIES:Festivals & Family Fun
ATTACH;FMTTYPE=image/jpeg:https://oceancountytourism.com/wp-content/uploads/2025/02/476485266_1018991976927261_9100164057449643717_n.jpg
END:VEVENT
BEGIN:VEVENT
DTSTART;TZID=America/New_York:20250420T130000
DTEND;TZID=America/New_York:20250420T130000
DTSTAMP:20260420T202429
CREATED:20250416T174013Z
LAST-MODIFIED:20250416T174013Z
UID:10035915-1745154000-1745154000@oceancountytourism.com
SUMMARY:Easter Promenade
DESCRIPTION:
URL:https://oceancountytourism.com/event/easter-promenade/
LOCATION:Seaside Heights Boardwalk\, 410 Boardwalk\, Seaside Heights\, NJ\, 08751\, United States
CATEGORIES:Festivals & Family Fun
ATTACH;FMTTYPE=image/jpeg:https://oceancountytourism.com/wp-content/uploads/2025/04/491441157_18500045743009805_8216027341096090630_n.jpg
END:VEVENT
BEGIN:VEVENT
DTSTART;TZID=America/New_York:20250420T130000
DTEND;TZID=America/New_York:20250420T130000
DTSTAMP:20260420T202429
CREATED:20250224T185314Z
LAST-MODIFIED:20250224T185314Z
UID:10034891-1745154000-1745154000@oceancountytourism.com
SUMMARY:Animal Show
DESCRIPTION:Calling all animal lovers! Casino Pier is hosting our exotic animal show just for you with Rizzo’s Wildlife World! \nCome out and see a variety of exotic animals on the Pier Stage The FREE wildlife program brings 8-10 animals \n(snakes\, lizards\, frogs\, turtles\, insects\, and small mammals) as well as a baby alligator! \nThis fun and informative presentation allows the children in attendance to learn about each animal; where they are from\, what they like to eat\, etc. \nBest of all\, the children will be able to interact with and/or touch a majority of the animals we bring! \nThis show is a one of a kind experience the children will never forget! \n\nhttps://casinopiernj.com/specials-events \nmaria@casinopiernj.com \n732-793-6488
URL:https://oceancountytourism.com/event/animal-show/
LOCATION:Casino Pier\, 800 Ocean Terrace\, Seaside Heights\, NJ\, 08751\, United States
CATEGORIES:Festivals & Family Fun,Nature
ATTACH;FMTTYPE=image/jpeg:https://oceancountytourism.com/wp-content/uploads/2025/02/Spring-Events-Web-Block_Apr-20-Animal-Show-1-scaled.jpg
END:VEVENT
BEGIN:VEVENT
DTSTART;TZID=America/New_York:20250420T110000
DTEND;TZID=America/New_York:20250420T180000
DTSTAMP:20260420T202429
CREATED:20250303T123609Z
LAST-MODIFIED:20250303T123609Z
UID:10035004-1745146800-1745172000@oceancountytourism.com
SUMMARY:Casino Pier Easter Sale
DESCRIPTION:It is time for the BEST deal of the year at Casino Pier! \nSummer Savings on Rides\, Waterpark\, Go Karts\, Mini Golf and Games! \nOnline: April 17th – April 21st \nOn Property: April 18th – April 20th\, 11am to 6 pm \nThe biggest discounts offered for family fun at Casino Pier & Breakwater Beach! \nBetter yet\, our Easter Cards NEVER expire! So if you can’t make it this summer\, don’t worry just save them for the next! \nWe have some FREE fun events during our Easter Sale as well on the Pier! \nSaturday\, April 19th\, Petting Zoo 1pm-3pm Saturday\, April 19th\, Magic Show 3pm Sunday\, April 20th\, Animal Show\, 1pm Sunday\, April 20th\, Photos with the Easter Bunny 1pm-3pm \nSave the date and make sure to shop at www.casinopiernj.com/eastersale Easter Weekend! \ninfo@casinopiernj.com \n732-793-6488
URL:https://oceancountytourism.com/event/casino-pier-easter-sale/2025-04-20/
LOCATION:Casino Pier\, 800 Ocean Terrace\, Seaside Heights\, NJ\, 08751\, United States
CATEGORIES:Festivals & Family Fun
ATTACH;FMTTYPE=image/jpeg:https://oceancountytourism.com/wp-content/uploads/2025/03/Easter-Sale-Web-Block-scaled.jpg
END:VEVENT
BEGIN:VEVENT
DTSTART;TZID=America/New_York:20250420T110000
DTEND;TZID=America/New_York:20250420T110000
DTSTAMP:20260420T202429
CREATED:20250304T135202Z
LAST-MODIFIED:20250304T135202Z
UID:10035029-1745146800-1745146800@oceancountytourism.com
SUMMARY:Jenkinson's Boardwalk Easter Sale
DESCRIPTION:Don’t miss Jenkinson’s Boardwalk’s biggest sale of the year\, April 18\, 19\, & 20\, with huge savings on summer fun online or on site!For more information\, please visit: https://jenkinsons.com/2025-easter-sale/
URL:https://oceancountytourism.com/event/jenkinsons-boardwalk-easter-sale/2025-04-20/
LOCATION:Jenkinson’s Boardwalk\, 300 Ocean Ave.\, Point Pleasant Beach\, NJ\, 08742\, United States
CATEGORIES:Festivals & Family Fun
ATTACH;FMTTYPE=image/jpeg:https://oceancountytourism.com/wp-content/uploads/2025/03/480815248_1035909728568819_5285160097457620535_n-scaled.jpg
END:VEVENT
BEGIN:VEVENT
DTSTART;TZID=America/New_York:20250420T103000
DTEND;TZID=America/New_York:20250420T150000
DTSTAMP:20260420T202429
CREATED:20250226T160941Z
LAST-MODIFIED:20250226T160941Z
UID:10034950-1745145000-1745161200@oceancountytourism.com
SUMMARY:Easter Brunch at LBI National Golf & Resort
DESCRIPTION: Annual Easter Brunch at LBI National Golf & Resort! \nIndulge in a variety of brunch delights. The Easter Bunny will be making a special appearance. \nFollowing the brunch\, embark on an exciting Easter egg hunt. \nFor menu and tickets visit: Easter Brunch Tickets\, Sun\, Apr 20\, 2025 at 2:30 PM | Eventbrite
URL:https://oceancountytourism.com/event/easter-brunch-at-lbi-national-golf-resort/
LOCATION:LBI National Golf & Resort\, 99 Golf View Drive\, Little Egg Harbor\, NJ\, United States
CATEGORIES:Food
ATTACH;FMTTYPE=image/jpeg:https://oceancountytourism.com/wp-content/uploads/2025/02/480229714_622482840541193_5575224711108589468_n.jpg
END:VEVENT
BEGIN:VEVENT
DTSTART;TZID=America/New_York:20250419T203000
DTEND;TZID=America/New_York:20250419T203000
DTSTAMP:20260420T202429
CREATED:20250416T161031Z
LAST-MODIFIED:20250416T161031Z
UID:10035904-1745094600-1745094600@oceancountytourism.com
SUMMARY:Laser Grateful Dead
DESCRIPTION:America’s greatest cosmic rock & roll band\, from kaleidoscopic psychedelia to homespun country rock to epic live jams and beyond\, \nThe Grateful Dead’s songs are woven into the very fabric of music itself. Now experience “The Dead” on a whole other level – through laser light! \nLaser Show \nRunning Time: 55 minutes \n[CW // pregnancy and/or childbirth] \nShow Playlist: \nTouch of Grey \nFire on the Mountain \nTruckin’ \nFriend of the Devil \nSugar Magnolia \nDrums/Space \nUncle John’s Band \nMe and My Uncle \nScarlet Begonias \nRipple \nOne More Saturday Night \n\nRunning Time: 55 minutes \n\nhttps://booking.ocean.edu/EventAvailability?EventId=4201 \nplanetarium@ocean.edu \n732-255-0343 \n 
URL:https://oceancountytourism.com/event/laser-grateful-dead/2025-04-19/
LOCATION:Robert J. Novins Planetarium\, 1 College Drive Ocean County College Building 13\, Toms River\, NJ\, 08754\, United States
CATEGORIES:Live Entertainment
ATTACH;FMTTYPE=image/jpeg:https://oceancountytourism.com/wp-content/uploads/2025/04/grateful-dead-1920x1080_symbols.jpg
END:VEVENT
BEGIN:VEVENT
DTSTART;TZID=America/New_York:20250419T193000
DTEND;TZID=America/New_York:20250419T193000
DTSTAMP:20260420T202429
CREATED:20250404T144022Z
LAST-MODIFIED:20250404T144022Z
UID:10035706-1745091000-1745091000@oceancountytourism.com
SUMMARY:Laser Taylor Swift
DESCRIPTION:What’s better than a Tay Swift playlist? A Tay Swift playlist set to laser lights! \nEnjoy unforgettable hits from all of her ten distinct eras. Sing along to all your favorites and let the show transport you through different stories as only laser light can. \nPlayers gonna play\, haters gonna hate\, fakers gonna fake\, so shake it off! \nLaser Show \nRuntime Approx. 50 Minutes \nhttps://booking.ocean.edu/EventAvailability?EventId=201 \nplanetarium@ocean.edu \n732-255-0343
URL:https://oceancountytourism.com/event/laser-taylor-swift-4/
LOCATION:Robert J. Novins Planetarium\, 1 College Drive Ocean County College Building 13\, Toms River\, NJ\, 08754\, United States
CATEGORIES:Festivals & Family Fun
ATTACH;FMTTYPE=image/jpeg:https://oceancountytourism.com/wp-content/uploads/2025/04/Laser-Taylor-Swift-1920x1080-symbols.jpg
END:VEVENT
BEGIN:VEVENT
DTSTART;TZID=America/New_York:20250419T193000
DTEND;TZID=America/New_York:20250419T193000
DTSTAMP:20260420T202429
CREATED:20250303T152814Z
LAST-MODIFIED:20250303T152814Z
UID:10035018-1745091000-1745091000@oceancountytourism.com
SUMMARY:The Keyes-Bergson-Hooks Band
DESCRIPTION:Dave Keyes \nDave has played with some of the most important figures of blues\, roots and folk music\, having had long musical relationships with Odetta\, David Johansen\, Bo Diddley\, rockabilly legend Sleepy LaBeef and gospel great Marie Knight among many others. \n\nChris Bergson \nChris Bergson is an internationally acclaimed American born guitarist\, singer\, and songwriter. “Chris Bergson plays the kind of guitar you can build a house on – it’s B.B. meets Steve Cropper meets John Scofield.” (ROLL Magazine) Hailed as “the New York street poet with a blues soul” (MOJO) and “one of the most inventive songwriters in modern blues music. \n\nEllis Hooks  is an American soul blues and electric blues singer and songwriter\, who has released six albums to date. \nThe Allmusic journalist\, Thom Jurek\, noted that Hooks ” touches upon Wilson Pickett\, Sam Cooke\, and Otis Redding\, but feels like one of the gritty New York streets Hooks has busked upon. \n\nDoors Open- 7:00 pm \nShowtime- 7:30 pm \n​​$35.00 Advance\, $40.00 At Door \n\nhttps://www.lizzierosemusic.com/product-page/keyes-bergson-hooks-band-sat-apr-19th \nlizzierosemusic@aol.com \n609-276-6758
URL:https://oceancountytourism.com/event/the-keyes-bergson-hooks-band/
LOCATION:Lizzie Rose Music Room\, 217 E. Main Street\, Tuckerton\, NJ\, United States
CATEGORIES:Concerts,Live Entertainment
ATTACH;FMTTYPE=image/png:https://oceancountytourism.com/wp-content/uploads/2025/03/04.19.25-002.png
END:VEVENT
END:VCALENDAR