BEGIN:VCALENDAR
VERSION:2.0
PRODID:-//Ocean County Tourism - ECPv6.15.18//NONSGML v1.0//EN
CALSCALE:GREGORIAN
METHOD:PUBLISH
X-WR-CALNAME:Ocean County Tourism
X-ORIGINAL-URL:https://oceancountytourism.com
X-WR-CALDESC:Events for Ocean County Tourism
REFRESH-INTERVAL;VALUE=DURATION:PT1H
X-Robots-Tag:noindex
X-PUBLISHED-TTL:PT1H
BEGIN:VTIMEZONE
TZID:America/New_York
BEGIN:DAYLIGHT
TZOFFSETFROM:-0500
TZOFFSETTO:-0400
TZNAME:EDT
DTSTART:20240310T070000
END:DAYLIGHT
BEGIN:STANDARD
TZOFFSETFROM:-0400
TZOFFSETTO:-0500
TZNAME:EST
DTSTART:20241103T060000
END:STANDARD
BEGIN:DAYLIGHT
TZOFFSETFROM:-0500
TZOFFSETTO:-0400
TZNAME:EDT
DTSTART:20250309T070000
END:DAYLIGHT
BEGIN:STANDARD
TZOFFSETFROM:-0400
TZOFFSETTO:-0500
TZNAME:EST
DTSTART:20251102T060000
END:STANDARD
BEGIN:DAYLIGHT
TZOFFSETFROM:-0500
TZOFFSETTO:-0400
TZNAME:EDT
DTSTART:20260308T070000
END:DAYLIGHT
BEGIN:STANDARD
TZOFFSETFROM:-0400
TZOFFSETTO:-0500
TZNAME:EST
DTSTART:20261101T060000
END:STANDARD
END:VTIMEZONE
BEGIN:VEVENT
DTSTART;TZID=America/New_York:20250419T110000
DTEND;TZID=America/New_York:20250419T150000
DTSTAMP:20260419T114730
CREATED:20250224T154423Z
LAST-MODIFIED:20250224T154423Z
UID:10034849-1745060400-1745074800@oceancountytourism.com
SUMMARY:Easter Brunch at the Farm on Main
DESCRIPTION:Join The Farm on Main for an elevated brunch buffet\, live music by Josh Werner\, and an Easter Egg Hunt at 12:30 PM.\nSeating Options:  Reserved Seating: 11:00 AM – 12:30 PM Open Seating: 1:00 PM – 3:00 PM\n\nEnhance Your Experience with Exclusive Add-Ons: Beers & Bubbly by Manafirkin Brewing Treat Sales by Sweet Melissa Flower Bar by Wildflower | $20 Mini Photo Sessions by Ann Coen Studio | $50 West Village Tribe Jewelry Sales\nTickets: $75 for Adults | $25 for ChildrenSecure your spot today—reserved seating is limited!\nEaster Brunch at The Farm on Main | Facebook
URL:https://oceancountytourism.com/event/easter-brunch-at-the-farm-on-main-2/
LOCATION:The Farm On Main\, 450 Main Street\, West Creek\, 08092\, United States
CATEGORIES:Festivals & Family Fun,Food
ATTACH;FMTTYPE=image/jpeg:https://oceancountytourism.com/wp-content/uploads/2025/02/480579105_1188431756630927_8553165468011510940_n.jpg
END:VEVENT
BEGIN:VEVENT
DTSTART;TZID=America/New_York:20250419T103000
DTEND;TZID=America/New_York:20250419T123000
DTSTAMP:20260419T114730
CREATED:20250404T121840Z
LAST-MODIFIED:20250404T121840Z
UID:10035698-1745058600-1745065800@oceancountytourism.com
SUMMARY:Slices with the Easter Bunny
DESCRIPTION:
URL:https://oceancountytourism.com/event/slices-with-the-easter-bunny/
LOCATION:Pies Place\, 517 Atlantic City Blvd\, Bayville\, NJ\, 08721\, United States
CATEGORIES:Festivals & Family Fun,Food
ATTACH;FMTTYPE=image/jpeg:https://oceancountytourism.com/wp-content/uploads/2025/04/487809882_18036715664566551_4640386310142265958_n.jpg
END:VEVENT
BEGIN:VEVENT
DTSTART;TZID=America/New_York:20250419T100000
DTEND;TZID=America/New_York:20250419T143000
DTSTAMP:20260419T114730
CREATED:20250204T144006Z
LAST-MODIFIED:20250204T144006Z
UID:10034542-1745056800-1745073000@oceancountytourism.com
SUMMARY:Brunch with the Bunny
DESCRIPTION:For reservations visit: BRUNCH W/ BUNNY | | Dolce Liberta Events
URL:https://oceancountytourism.com/event/brunch-with-the-bunny/
LOCATION:Dolce Liberta\, 100 McKinley Ave.\, Manahawkin\, NJ\, United States
CATEGORIES:Festivals & Family Fun,Food
ATTACH;FMTTYPE=image/jpeg:https://oceancountytourism.com/wp-content/uploads/2025/02/476341740_17960811206879246_6470296958862066463_n.jpg
END:VEVENT
BEGIN:VEVENT
DTSTART;TZID=America/New_York:20250419T100000
DTEND;TZID=America/New_York:20250419T110000
DTSTAMP:20260419T114730
CREATED:20250414T191712Z
LAST-MODIFIED:20250414T191712Z
UID:10035880-1745056800-1745060400@oceancountytourism.com
SUMMARY:Not Your Typical Egg Hunt!
DESCRIPTION:This is not your typical egg hunt! \nWalk the beach with a guide to find and identify skate egg cases! Meet on the beach in front of the Aquarium! \nThis is a free event. \n*Weather Permitting. \nhttps://jenkinsons.com/ \ninformation@jenkinsons.com \n7328920600
URL:https://oceancountytourism.com/event/not-your-typical-egg-hunt/
LOCATION:Jenkinson’s Boardwalk\, 300 Ocean Ave.\, Point Pleasant Beach\, NJ\, 08742\, United States
CATEGORIES:Festivals & Family Fun
ATTACH;FMTTYPE=image/png:https://oceancountytourism.com/wp-content/uploads/2025/04/Skate-Egg-Hunt-Website-Square.png
END:VEVENT
BEGIN:VEVENT
DTSTART;TZID=America/New_York:20250419T090000
DTEND;TZID=America/New_York:20250419T140000
DTSTAMP:20260419T114730
CREATED:20250306T155908Z
LAST-MODIFIED:20250410T162729Z
UID:10035101-1745053200-1745071200@oceancountytourism.com
SUMMARY:Spring Into Popcorn Park
DESCRIPTION:Hop into the season as we welcome Spring into Popcorn Park\, our Easter and spring kickoff at Popcorn Park Animal Refuge! \nPostponed to April 19th due to inclement weather \nfor a day of family fun\, including an Easter egg hunt\, photos with the Easter Bunny\, up-close presentations with our education animals\, adoptable dogs\,and more! \nFor tickets visit: Spring into Popcorn Park – Easter Egg Hunt & Pictures with the Easter Bunny! — Donate Today!
URL:https://oceancountytourism.com/event/spring-into-popcorn-park/
LOCATION:Popcorn Park Animal Refuge\, 1 Humane Way\, Forked River\, NJ\, 08731\, United States
CATEGORIES:Festivals & Family Fun,Nature
ATTACH;FMTTYPE=image/jpeg:https://oceancountytourism.com/wp-content/uploads/2025/03/490571810_1071536718332064_5925232114908520949_n.jpg
END:VEVENT
BEGIN:VEVENT
DTSTART;TZID=America/New_York:20250419T090000
DTEND;TZID=America/New_York:20250419T110000
DTSTAMP:20260419T114730
CREATED:20250312T131718Z
LAST-MODIFIED:20250312T131718Z
UID:10035177-1745053200-1745060400@oceancountytourism.com
SUMMARY:Easter Bunny Pancake Breakfast
DESCRIPTION:Join us for crafts\, games\, story time\, and a free pancake breakfast with the Easter Bunny! Open to kids under 10-years.\nRegistration is required (so we can be sure to have enough pancakes!). Please rsvp to Dominic at 732-904-9945.\nFeel free to reach out to our office with questions at 609-693-5222 or laceyumcnj@gmail.com.\nEaster Bunny Pancake Breakfast | Facebook
URL:https://oceancountytourism.com/event/easter-bunny-pancake-breakfast/
LOCATION:Lacey United Methodist Church\, 203 Lacey Road\, Lacey\, NJ\, United States
CATEGORIES:Festivals & Family Fun,Food
ATTACH;FMTTYPE=image/jpeg:https://oceancountytourism.com/wp-content/uploads/2025/03/481338869_1089532039885289_5083858443235457961_n.jpg
END:VEVENT
BEGIN:VEVENT
DTSTART;TZID=America/New_York:20250419T090000
DTEND;TZID=America/New_York:20250419T100000
DTSTAMP:20260419T114730
CREATED:20250219T194407Z
LAST-MODIFIED:20250219T194407Z
UID:10034771-1745053200-1745056800@oceancountytourism.com
SUMMARY:Sensory Saturday
DESCRIPTION:Guests with autism spectrum disorder\, sensory processing or cognitive challenges\, \nas well as guests requiring assistance for disabilities are invited to explore the aquarium before we open to the public. \nTo create a sensory friendly environment there will be a decreased noise level\, limited visual stimulation and less crowding. \nGeneral admission applies. \nhttps://jenkinsons.com/aquarium/event/sensory-saturday-8/ \ninformation@jenkinsons.com \n732-892-0600
URL:https://oceancountytourism.com/event/sensory-saturday-6/
LOCATION:Jenkinson’s Aquarium\, 300 Ocean Ave\, Point Pleasant Beach\, NJ\, 08742\, United States
CATEGORIES:Festivals & Family Fun,Nature
ATTACH;FMTTYPE=image/png:https://oceancountytourism.com/wp-content/uploads/2025/02/Sensory-Saturdays.png
END:VEVENT
BEGIN:VEVENT
DTSTART;TZID=America/New_York:20250419T090000
DTEND;TZID=America/New_York:20250419T090000
DTSTAMP:20260419T114730
CREATED:20250325T152509Z
LAST-MODIFIED:20250325T152509Z
UID:10035527-1745053200-1745053200@oceancountytourism.com
SUMMARY:Little Egg Harbor Community Wide Clean Up
DESCRIPTION:
URL:https://oceancountytourism.com/event/little-egg-harbor-community-wide-clean-up/
LOCATION:Little Egg Harbor Municipal Building\, 665 Radio Rd\, Little Egg Harbor\, NJ\, 08087\, United States
ATTACH;FMTTYPE=image/jpeg:https://oceancountytourism.com/wp-content/uploads/2025/03/486352960_1065958992239703_5266734571196311469_n.jpg
END:VEVENT
BEGIN:VEVENT
DTSTART;TZID=America/New_York:20250419T090000
DTEND;TZID=America/New_York:20250419T090000
DTSTAMP:20260419T114730
CREATED:20250306T160208Z
LAST-MODIFIED:20250306T160208Z
UID:10035102-1745053200-1745053200@oceancountytourism.com
SUMMARY:2nd Annual Reynolds Family Foundation Bunny Hop 5K & 1 Mile Fun Run/Walk
DESCRIPTION:Reynolds Family Foundation is hosting their 2nd Annual Bunny Hop to benefit local food banks and initiatives! \nTo learn more about the Foundation and to sign up please go to: https://www.reynoldsfamilyfoundation.org
URL:https://oceancountytourism.com/event/2nd-annual-reynolds-family-foundation-bunny-hop-5k-1-mile-fun-run-walk/
LOCATION:Veterans Bicentennial Park Beach Haven\, 100 Engleside Ave.\, Beach Haven\, NJ\, 08008\, United States
ATTACH;FMTTYPE=image/jpeg:https://oceancountytourism.com/wp-content/uploads/2025/03/482108638_1076359374530523_4048931255018675543_n.jpg
END:VEVENT
BEGIN:VEVENT
DTSTART;TZID=America/New_York:20250419T084500
DTEND;TZID=America/New_York:20250419T084500
DTSTAMP:20260419T114730
CREATED:20250331T192607Z
LAST-MODIFIED:20250331T192607Z
UID:10035666-1745052300-1745052300@oceancountytourism.com
SUMMARY:Seaside Park\, NJ Parkinson's Community Walk
DESCRIPTION:
URL:https://oceancountytourism.com/event/seaside-park-nj-parkinsons-community-walk/
LOCATION:J Street\, J Street\, Seaside Park Boardwalk\, J Street\, 08752\, United States
ATTACH;FMTTYPE=image/jpeg:https://oceancountytourism.com/wp-content/uploads/2025/03/SeasideParkNJ.Community-Walk_4.19.25-scaled.jpg
END:VEVENT
BEGIN:VEVENT
DTSTART;TZID=America/New_York:20250419T080000
DTEND;TZID=America/New_York:20250419T170000
DTSTAMP:20260419T114730
CREATED:20250324T122053Z
LAST-MODIFIED:20250324T122053Z
UID:10035446-1745049600-1745082000@oceancountytourism.com
SUMMARY:Easter Bunny Breakfast & Flower Sale
DESCRIPTION:
URL:https://oceancountytourism.com/event/easter-bunny-breakfast-flower-sale/2025-04-19/
LOCATION:Laurelton Fire Company\, 1725 Route 88\, Brick Township\, NJ\, 08724\, United States
CATEGORIES:Festivals & Family Fun,Food
ATTACH;FMTTYPE=image/jpeg:https://oceancountytourism.com/wp-content/uploads/2025/03/easter-1.jpg
END:VEVENT
BEGIN:VEVENT
DTSTART;TZID=America/New_York:20250419T080000
DTEND;TZID=America/New_York:20250419T163000
DTSTAMP:20260419T114730
CREATED:20250220T184701Z
LAST-MODIFIED:20250220T184701Z
UID:10034793-1745049600-1745080200@oceancountytourism.com
SUMMARY:NJSP Instructional Boat Safety Class and Exam
DESCRIPTION:4/19/2025 \n08:00am to 4:30pm \nBeach Haven Fire Company \nCorner of S Bay Ave & Amber St \nBeach Haven\, NJ  08008   Ocean County \n\nWe at Boat Safe US look forward to being your Boat Safety Instructors and helping you earn your NJ Boating Safety Certificate.  Our instructors will provide you with a fun-filled and educational look at Boat Safety in New Jersey. \n\nIf you are operating a personal watercraft (Jet Ski\, Wave Runner\, etc.)\, or a power vessel on the waters of the State of New Jersey you are required to possess a New Jersey boat safety certificate. This class meets the State of New Jersey – Division of State Police Marine Law Enforcement requirements for boat safety education.  Temporary certifications will be given upon successful completion of the course.  All Boat Safe US Courses are approved by the National Association of State Boating Law Administrators (NASBLA) and recognized by the U.S. Coast Guard. \n\nRegister for the class for $100 (No Prepayments\, payment accepted at the class) Register at www.boatsafeus.com/schedule-class \n609-613-2339 \n\nClasses are completed in a one-day class (8 1/2  hour day including lunch break and test time) or in two evenings (two 3 1/2 hour classes with mandatory homework).  At the conclusion of the class\, every student\, age 13 and over\, will receive a valid New Jersey State Boaters Safety Certificate. This Certificate is valid for Power Boats and Jet Skis (age 16 and over) and is accepted throughout many states as a valid form of having completed a Boaters Safety Course. \n\nProctored Exams Available!! Take the online course with Ace Boating\, Boat-Ed or Boater-Exam and take the proctored exam with Boat Safe US! The proctored exam is $50\, collected at the exam site in the form of cash or check.  Must register!  See our schedule at www.boatsafeus.com \n\nwww.BoatSafeUS.com \nExam@boatsafeus.com \n609-613-2339 \n 
URL:https://oceancountytourism.com/event/njsp-instructional-boat-safety-class-and-exam-6/
LOCATION:Beach Haven Vol. Fire Co #1\, 100 S Bay Avenue\, Beach Haven\, NJ\, 08008\, United States
ATTACH;FMTTYPE=image/png:https://oceancountytourism.com/wp-content/uploads/2025/02/Beach-Haven-light-house-general.png
END:VEVENT
BEGIN:VEVENT
DTSTART;TZID=America/New_York:20250419T080000
DTEND;TZID=America/New_York:20250419T160000
DTSTAMP:20260419T114730
CREATED:20250324T125553Z
LAST-MODIFIED:20250324T125553Z
UID:10035448-1745049600-1745078400@oceancountytourism.com
SUMMARY:Easter Flower Sale
DESCRIPTION:
URL:https://oceancountytourism.com/event/easter-flower-sale/2025-04-19/
LOCATION:Laurelton Fire Company\, 1725 Route 88\, Brick Township\, NJ\, 08724\, United States
ATTACH;FMTTYPE=image/jpeg:https://oceancountytourism.com/wp-content/uploads/2025/03/480791316_653889767155591_4978456979111984207_n.jpg
END:VEVENT
BEGIN:VEVENT
DTSTART;TZID=America/New_York:20250418T201500
DTEND;TZID=America/New_York:20250418T201500
DTSTAMP:20260419T114730
CREATED:20250416T160541Z
LAST-MODIFIED:20250416T160541Z
UID:10035903-1745007300-1745007300@oceancountytourism.com
SUMMARY:Laser Zeppelin
DESCRIPTION:Many critics proclaim Led Zeppelin to be the progenitors of heavy metal and hard rock\, and their individualistic style reset the standards for many musical genres in the 1960s and 70s. \nIndeed\, they have been hailed as one of the most successful\, innovative\, and influential bands\, alongside Pink Floyd\, U2\, and The Beatles. Now\, you can relive the magical sounds of Led Zeppelin while enjoying a visual treat of custom laser imagery. \nLaser Show \nApprox 51 minutes. \n[Content Warning // some images of war] \nMay contain lyrics that some parents find objectionable. Not recommended for ages under 15. \nShow Playlist \nSong Remains the Same \nOver the Hills and Far Away \nGood Times\, Bad Times \nImmigrant Song \nNo Quarter \nBlack Dog \nLivin’ Lovin’ Maid \nKashmir \nStairway to Heaven \nWhole Lotta Love \nRock ‘n’ Roll \nhttps://booking.ocean.edu/EventAvailability?EventId=5001 \nplanetarium@ocean.edu \n732-255-0343
URL:https://oceancountytourism.com/event/laser-zeppelin-2/
LOCATION:Robert J. Novins Planetarium\, 1 College Drive Ocean County College Building 13\, Toms River\, NJ\, 08754\, United States
CATEGORIES:Live Entertainment
ATTACH;FMTTYPE=image/jpeg:https://oceancountytourism.com/wp-content/uploads/2025/04/Zeppelin-1920x1080_symbols.jpg
END:VEVENT
BEGIN:VEVENT
DTSTART;TZID=America/New_York:20250418T200000
DTEND;TZID=America/New_York:20250418T200000
DTSTAMP:20260419T114730
CREATED:20250128T130704Z
LAST-MODIFIED:20250128T130704Z
UID:10034280-1745006400-1745006400@oceancountytourism.com
SUMMARY:Atlantic City Ballet Cinderella
DESCRIPTION:An enchanting story for all ages\, this ballet is formed by a tapestry of enthralling beauty and enchanting romance that will find its home in the hearts of many. \nWith a wonderful dose of humor\, the majesty of classical ballet\, and the promise of “happily ever after”\, Phyllis Papa’s resplendent Cinderella transports audiences to a magical realm of fairy dust\, glass slippers\, and hilarious stepsisters. Rejoice as Cinderella finds her prince in one of the most beloved stories of all time. \n\nwww.strand.org
URL:https://oceancountytourism.com/event/atlantic-city-ballet-cinderella/
LOCATION:The Strand Theater\, 400 Clifton Ave.\, Lakewood\, NJ\, 08701\, United States
CATEGORIES:Concerts,Live Entertainment
ATTACH;FMTTYPE=image/jpeg:https://oceancountytourism.com/wp-content/uploads/2025/01/ACB-Cinderella.jpg
END:VEVENT
BEGIN:VEVENT
DTSTART;TZID=America/New_York:20250418T170000
DTEND;TZID=America/New_York:20250418T210000
DTSTAMP:20260419T114730
CREATED:20250320T135745Z
LAST-MODIFIED:20250320T135745Z
UID:10035377-1744995600-1745010000@oceancountytourism.com
SUMMARY:Moonlit Market
DESCRIPTION:Join us for our first Moonlit Market of the year on Friday\, April 18th from 5 to 9 PM!\nAs the sun sets\, the market will come alive with twinkling lights\, enchanting vibes\, and open shops filled with treasures. There’s truly no place like ours on a night like this!\n Spring “Moonlit Market” April 18th 5p-9p | Facebook
URL:https://oceancountytourism.com/event/moonlit-market-3/
LOCATION:New Egypt Flea Market\, 933 Monmouth County Road\, Cream Ridge\, NJ\, 08514\, United States
ATTACH;FMTTYPE=image/jpeg:https://oceancountytourism.com/wp-content/uploads/2025/03/485892936_1192649269530147_1758655516713949344_n.jpg
END:VEVENT
END:VCALENDAR