BEGIN:VCALENDAR
VERSION:2.0
PRODID:-//Ocean County Tourism - ECPv6.15.18//NONSGML v1.0//EN
CALSCALE:GREGORIAN
METHOD:PUBLISH
X-WR-CALNAME:Ocean County Tourism
X-ORIGINAL-URL:https://oceancountytourism.com
X-WR-CALDESC:Events for Ocean County Tourism
REFRESH-INTERVAL;VALUE=DURATION:PT1H
X-Robots-Tag:noindex
X-PUBLISHED-TTL:PT1H
BEGIN:VTIMEZONE
TZID:America/New_York
BEGIN:DAYLIGHT
TZOFFSETFROM:-0500
TZOFFSETTO:-0400
TZNAME:EDT
DTSTART:20240310T070000
END:DAYLIGHT
BEGIN:STANDARD
TZOFFSETFROM:-0400
TZOFFSETTO:-0500
TZNAME:EST
DTSTART:20241103T060000
END:STANDARD
BEGIN:DAYLIGHT
TZOFFSETFROM:-0500
TZOFFSETTO:-0400
TZNAME:EDT
DTSTART:20250309T070000
END:DAYLIGHT
BEGIN:STANDARD
TZOFFSETFROM:-0400
TZOFFSETTO:-0500
TZNAME:EST
DTSTART:20251102T060000
END:STANDARD
BEGIN:DAYLIGHT
TZOFFSETFROM:-0500
TZOFFSETTO:-0400
TZNAME:EDT
DTSTART:20260308T070000
END:DAYLIGHT
BEGIN:STANDARD
TZOFFSETFROM:-0400
TZOFFSETTO:-0500
TZNAME:EST
DTSTART:20261101T060000
END:STANDARD
END:VTIMEZONE
BEGIN:VEVENT
DTSTART;VALUE=DATE:20250427
DTEND;VALUE=DATE:20250428
DTSTAMP:20260425T112331
CREATED:20250331T150808Z
LAST-MODIFIED:20250331T150808Z
UID:10035613-1745712000-1745798399@oceancountytourism.com
SUMMARY:North Hall Gallery
DESCRIPTION:
URL:https://oceancountytourism.com/event/north-hall-gallery/2025-04-27/
LOCATION:North Hall Gallery Point Pleasant Presbyterian Church\, 701 Forman Ave.\, Point Pleasant Beach\, NJ
CATEGORIES:Art,Cultural & Heritage
ATTACH;FMTTYPE=image/jpeg:https://oceancountytourism.com/wp-content/uploads/2025/03/Pt.-Pleasant-Beach-Art-Studio.jpg
END:VEVENT
BEGIN:VEVENT
DTSTART;VALUE=DATE:20250427
DTEND;VALUE=DATE:20250428
DTSTAMP:20260425T112331
CREATED:20250421T143046Z
LAST-MODIFIED:20250421T143046Z
UID:10035969-1745740800-1745773200@oceancountytourism.com
SUMMARY:Barnegat Town Wide Yard Sale
DESCRIPTION:
URL:https://oceancountytourism.com/event/barnegat-town-wide-yard-sale-2/2025-04-27/
LOCATION:Barnegat\, 14 Birdsall St.\, Barnegat\, NJ\, 08005\, United States
ATTACH;FMTTYPE=image/jpeg:https://oceancountytourism.com/wp-content/uploads/2025/04/490345572_10162409834883637_3208401420107252595_n.jpg
END:VEVENT
BEGIN:VEVENT
DTSTART;TZID=America/New_York:20250427T090000
DTEND;TZID=America/New_York:20250427T140000
DTSTAMP:20260425T112331
CREATED:20250313T190006Z
LAST-MODIFIED:20250313T190006Z
UID:10035288-1745744400-1745762400@oceancountytourism.com
SUMMARY:Flea Market
DESCRIPTION:Let the Spring cleaning begin! \nSell all those unwanted items at the Flea Market at The Lakewood Historical Museum \nCost: $10.00 per space (vendors to provide their own table) \nSet up at 8:30am \nContact Robin at 732-364-9500 or Lakewoodhistoricalsociety1892@gmail.com for more information to reserve a table
URL:https://oceancountytourism.com/event/flea-market/
LOCATION:Lakewood Historical Museum\, 500 Country Club Drive\, Lakewood\, NJ
ATTACH;FMTTYPE=image/jpeg:https://oceancountytourism.com/wp-content/uploads/2025/03/Flea-Market-April-27-2025.jpg
END:VEVENT
BEGIN:VEVENT
DTSTART;TZID=America/New_York:20250427T093000
DTEND;TZID=America/New_York:20250427T093000
DTSTAMP:20260425T112331
CREATED:20250324T121619Z
LAST-MODIFIED:20250324T121619Z
UID:10035445-1745746200-1745746200@oceancountytourism.com
SUMMARY:A Walk In Their Shoes
DESCRIPTION:Join us in support of The SHORE House\, our traditional living program for teens and youth ages 16 – 21. \nOnce again\, we begin and end at The Sawmill! Once again\, enjoy a post-walk pasta/pizza/cash bar for a $10 donation! \nAll proceeds support our young residents who call The SHORE House home\, as they are supported and guided to safe\, stable and sustainable futures. \nTo register as a walker\, team\, or event sponsor\, go to: \nhttps://secure.qgiv.com/event/awalkintheirshoesseasideedition/ \n 
URL:https://oceancountytourism.com/event/a-walk-in-their-shoes/
LOCATION:Seaside Park Boardwalk\, 1807 Boardwalk\, Seaside Heights\, 08752\, United States
ATTACH;FMTTYPE=image/jpeg:https://oceancountytourism.com/wp-content/uploads/2025/03/IMG_2024.jpg
END:VEVENT
BEGIN:VEVENT
DTSTART;TZID=America/New_York:20250427T100000
DTEND;TZID=America/New_York:20250427T100000
DTSTAMP:20260425T112331
CREATED:20250320T160659Z
LAST-MODIFIED:20250320T160659Z
UID:10035382-1745748000-1745748000@oceancountytourism.com
SUMMARY:Bark in the Park
DESCRIPTION:Bark in the Park | BlueClaws
URL:https://oceancountytourism.com/event/bark-in-the-park-2/
LOCATION:Jersey Shore BlueClaws Stadium\, 2 Stadium Way\, Lakewood\, NJ\, United States
CATEGORIES:Festivals & Family Fun
ATTACH;FMTTYPE=image/jpeg:https://oceancountytourism.com/wp-content/uploads/2025/03/485613153_1298783221865197_3171049606121173957_n.jpg
END:VEVENT
BEGIN:VEVENT
DTSTART;TZID=America/New_York:20250427T110000
DTEND;TZID=America/New_York:20250427T110000
DTSTAMP:20260425T112331
CREATED:20250304T144822Z
LAST-MODIFIED:20250321T180336Z
UID:10035064-1745751600-1745751600@oceancountytourism.com
SUMMARY:Spring Victorian Afternoon Tea
DESCRIPTION:Spring Victorian Afternoon Teatime \nThe Mathis House is a beautiful Victorian Mansion located in the heart of downtown Toms River. The Mathis House has two seating times at 11 am and 3 pm on the weekends. During the week\, we have seating times on the hour starting at 11 AM. \nThe Spring Victorian Afternoon Tea includes soup\, salad\, scones\, a variety of tea sandwiches\, and a plate of desserts with a full pot of gourmet tea per person. The cost is $50 per person\, and seniors are $10 off midweek. Children 12 and under are $20 and children 5 and under are free with an adult. \nThe weekends include live music and champagne. The visit will include the history of the Mathis House and self guided tours of the guest rooms subject to availability. \nThe reservations are pre-paid and may be rescheduled with 24- hour notice. \nShould you need to cancel\, with 24- hour notice\, you may also have a credit for two years\, until your date can be rescheduled. \nThe best way to book is on our website\, on RESY at www.mathishouse600main.com. \nThe Mathis House offers vegetarian\, vegan options\, dairy-free\, and gluten -free options. \nPlease mention your birthday for special linens\, a birthday sign\, and a delicious cupcake. Please put the celebrant’s name in the notes on RESY at www.mathishouse600main.com. \nIf you should have any questions also book by calling\, 732-818-7580. If you have a gift card\, please book by calling the Inn. For parties of 6 or more\, please call the Mathis House to make your arrangements.
URL:https://oceancountytourism.com/event/spring-victorian-afternoon-tea/2025-04-27/
LOCATION:Mathis House\, 600 Main St\, Toms River\, NJ\, 08753\, United States
CATEGORIES:Food
ATTACH;FMTTYPE=image/jpeg:https://oceancountytourism.com/wp-content/uploads/2025/03/SPRING-Mathis-House-scaled.jpg
END:VEVENT
BEGIN:VEVENT
DTSTART;TZID=America/New_York:20250427T110000
DTEND;TZID=America/New_York:20250427T180000
DTSTAMP:20260425T112332
CREATED:20250311T125528Z
LAST-MODIFIED:20250425T125633Z
UID:10035147-1745751600-1745776800@oceancountytourism.com
SUMMARY:UNTAP SPRING
DESCRIPTION:(Postponed due to inclement weather) \nExperience local craft beer and cocktails from NJ breweries and distilleries. Also\, enjoy food trucks\, craft vendors\, and live music! \nFor tickets visit: New Jersey Wine Events | Untap Spring\, Bayville
URL:https://oceancountytourism.com/event/untap-spring/
LOCATION:Veterans Park Bayville\, 489 Bill Zimmerman Jr Way\, Bayville\, NJ\, 08721\, United States
CATEGORIES:Festivals & Family Fun,Food
ATTACH;FMTTYPE=image/jpeg:https://oceancountytourism.com/wp-content/uploads/2025/03/493038428_1216741346823759_6290944146554305888_n.jpg
END:VEVENT
BEGIN:VEVENT
DTSTART;TZID=America/New_York:20250427T110000
DTEND;TZID=America/New_York:20250427T190000
DTSTAMP:20260425T112332
CREATED:20250415T152641Z
LAST-MODIFIED:20250415T152641Z
UID:10035890-1745751600-1745780400@oceancountytourism.com
SUMMARY:Baconfest
DESCRIPTION:
URL:https://oceancountytourism.com/event/baconfest/2025-04-27/
LOCATION:Laurita Winery\, 85 Archertown Road\, New Egypt\, NJ\, 08533\, United States
CATEGORIES:Festivals & Family Fun,Food
ATTACH;FMTTYPE=image/jpeg:https://oceancountytourism.com/wp-content/uploads/2025/04/489751338_1098446978997153_4239916793774242616_n.jpg
END:VEVENT
BEGIN:VEVENT
DTSTART;TZID=America/New_York:20250427T130000
DTEND;TZID=America/New_York:20250427T160000
DTSTAMP:20260425T112332
CREATED:20250319T180030Z
LAST-MODIFIED:20250319T180030Z
UID:10035367-1745758800-1745769600@oceancountytourism.com
SUMMARY:The Beach Bar Brawl
DESCRIPTION: What’s Included:-For just $40 \, your entry includes a delicious food buffet and your first drink free !– Live broadcast of the event on the venue’s TVs\, so you won’t miss any of the action.– Vote for your favorite bartender and cheer them on to victory! \n Event Details: Date: April 27th\, 2025 Time: 12 PM – 5 PM (Judging from 1-4 PM) Location: Boatyard 401\, Point Pleasant Beach\, NJ \nFor tickets visit: The Beach Bar Brawl Tickets\, Sun\, Apr 27\, 2025 at 12:00 PM | Eventbrite \n 
URL:https://oceancountytourism.com/event/the-beach-bar-brawl/
LOCATION:Boatyard 401\, Point Pleasant Beach & Channel Drive\, Point Pleasant Beach\, NJ\, 08742\, United States
ATTACH;FMTTYPE=image/jpeg:https://oceancountytourism.com/wp-content/uploads/2025/03/484975512_18398602636100999_2424416093924600733_n.jpg
END:VEVENT
BEGIN:VEVENT
DTSTART;TZID=America/New_York:20250427T150000
DTEND;TZID=America/New_York:20250427T150000
DTSTAMP:20260425T112332
CREATED:20250313T125358Z
LAST-MODIFIED:20250313T125358Z
UID:10035261-1745766000-1745766000@oceancountytourism.com
SUMMARY:Spring Oldies Spectacular
DESCRIPTION:For tickets visit: EVENTS | Stac
URL:https://oceancountytourism.com/event/spring-oldies-spectacular-2/
LOCATION:Stafford Township Arts Center\, 1000 Mckinley Ave\, Manahawkin\, NJ\, 08050\, United States
CATEGORIES:Concerts,Live Entertainment
ATTACH;FMTTYPE=image/jpeg:https://oceancountytourism.com/wp-content/uploads/2025/03/470200869_1251077379788441_657844900870002737_n.jpg
END:VEVENT
BEGIN:VEVENT
DTSTART;TZID=America/New_York:20250427T150000
DTEND;TZID=America/New_York:20250427T150000
DTSTAMP:20260425T112332
CREATED:20250402T133415Z
LAST-MODIFIED:20250402T133415Z
UID:10035692-1745766000-1745766000@oceancountytourism.com
SUMMARY:Nat Adderley\, Jr. Concert
DESCRIPTION:Gia Maione Prima Foundation Studio Theatre\n(Building 12)\nAdult $28\, Senior $24 \nTickets: Nat Adderley\, Jr. – Grunin Center for the Arts \nFor a preview of the Nat Adderley\, Jr. Concert See Page 12 in the April Issue of Jersey Jazz Magazine: Jersey Jazz Magazine – New Jersey Jazz Society
URL:https://oceancountytourism.com/event/nat-adderley-jr-concert/
LOCATION:Jay and Linda Grunin Center for The Arts\, College Drive\, Toms River\, NJ\, 08754\, United States
CATEGORIES:Concerts
ATTACH;FMTTYPE=image/jpeg:https://oceancountytourism.com/wp-content/uploads/2025/04/Nat-Adderley-1920X1080-Feature.jpg
END:VEVENT
BEGIN:VEVENT
DTSTART;TZID=America/New_York:20250428T090000
DTEND;TZID=America/New_York:20250428T090000
DTSTAMP:20260425T112332
CREATED:20250408T123218Z
LAST-MODIFIED:20250408T123218Z
UID:10035811-1745830800-1745830800@oceancountytourism.com
SUMMARY:RWJBH Field of Dreams Opening Day
DESCRIPTION:
URL:https://oceancountytourism.com/event/rwjbh-field-of-dreams-opening-day/
LOCATION:RWJBH Field of Dreams\, 1505 N Bay Ave\, Toms River\, NJ\, 08753\, United States
CATEGORIES:Festivals & Family Fun
ATTACH;FMTTYPE=image/jpeg:https://oceancountytourism.com/wp-content/uploads/2025/04/487316412_1095803972581012_7221964998199297764_n.jpg
END:VEVENT
BEGIN:VEVENT
DTSTART;TZID=America/New_York:20250428T100000
DTEND;TZID=America/New_York:20250428T110000
DTSTAMP:20260425T112332
CREATED:20250331T153434Z
LAST-MODIFIED:20250331T153434Z
UID:10035630-1745834400-1745838000@oceancountytourism.com
SUMMARY:Little Farmers
DESCRIPTION:To register visit: Little Farmers: Parent & Child | Daffodil Valley
URL:https://oceancountytourism.com/event/little-farmers/2025-04-28/
LOCATION:Daffodil Valley Homestead\, 535 Beach Ave\, Manahawkin\, NJ\, 08050\, United States
CATEGORIES:Festivals & Family Fun,Nature
ATTACH;FMTTYPE=image/jpeg:https://oceancountytourism.com/wp-content/uploads/2025/03/486842430_611678191857325_5371582053115036403_n-1.jpg
END:VEVENT
BEGIN:VEVENT
DTSTART;TZID=America/New_York:20250429T160000
DTEND;TZID=America/New_York:20250429T171500
DTSTAMP:20260425T112332
CREATED:20250224T203329Z
LAST-MODIFIED:20250224T203329Z
UID:10034911-1745942400-1745946900@oceancountytourism.com
SUMMARY:OCAG281 Children Art Tues April
DESCRIPTION:*Pricing available on the OCAG website* \nThis is a 5-week class session. Tuesdays\, April 1\, 8\, 15\, 22\, 29. \nInstructor: Alison Amelchenko \nWeek 1 Ark Animals \nWeek 2 Bunny Painting \nWeek 3 Egg Design \nWeek 4 Birdhouses \nWeek 5 Flowered fence \nhttps://www.ocartistsguild.org/event/ocag281-children-art-tues-april/ \ninfo@ocartistsguild.org \n732-270-3111
URL:https://oceancountytourism.com/event/ocag281-children-art-tues-april/2025-04-29/
LOCATION:Ocean County Artists Guild\, 22 Chestnut Avenue\, Island Heights\, NJ\, 08732\, United States
CATEGORIES:Art,Cultural & Heritage
ATTACH;FMTTYPE=image/jpeg:https://oceancountytourism.com/wp-content/uploads/2025/02/April-2025-alison-OCAG-281-282-600x600-1.jpg
END:VEVENT
BEGIN:VEVENT
DTSTART;VALUE=DATE:20250430
DTEND;VALUE=DATE:20250501
DTSTAMP:20260425T112332
CREATED:20250430T145001Z
LAST-MODIFIED:20250430T145001Z
UID:10036034-1745971200-1746057599@oceancountytourism.com
SUMMARY:Mother's Day Bouquet
DESCRIPTION:Mother’s Day Mini Bouquets – Pre-order Now! \nCelebrate the special moms in your life with our premade mini bouquets! Pre-order today to reserve yours before they’re gone! Click the link to fill out the form and get all the details. \nPre-Order closes May 7th \nLink: https://forms.gle/iVYxaeP26PDS5EZh8
URL:https://oceancountytourism.com/event/mothers-day-bouquet/2025-04-30/
LOCATION:NJ
ATTACH;FMTTYPE=image/jpeg:https://oceancountytourism.com/wp-content/uploads/2025/04/Celebrate-Mom-with-Our-Special-Offer-Instagram-Post-45-scaled.jpg
END:VEVENT
BEGIN:VEVENT
DTSTART;TZID=America/New_York:20250430T080000
DTEND;TZID=America/New_York:20250430T170000
DTSTAMP:20260425T112332
CREATED:20250430T182032Z
LAST-MODIFIED:20250430T182032Z
UID:10036043-1746000000-1746032400@oceancountytourism.com
SUMMARY:test
DESCRIPTION:test
URL:https://oceancountytourism.com/event/test-2/
LOCATION:NJ
ATTACH;FMTTYPE=image/jpeg:https://oceancountytourism.com/wp-content/uploads/2024/11/icon-gen.jpg
END:VEVENT
BEGIN:VEVENT
DTSTART;TZID=America/New_York:20250430T093000
DTEND;TZID=America/New_York:20250430T120000
DTSTAMP:20260425T112332
CREATED:20250224T202804Z
LAST-MODIFIED:20250224T202804Z
UID:10034905-1746005400-1746014400@oceancountytourism.com
SUMMARY:OCAG263 Pen & Wash: Watercolor Techniques
DESCRIPTION:*Pricing is available on the OCAG website* \nWednesdays\, April 2\, 9\, 16\, 23\, 30 & May 7\, 9:30-12:00 pm \nInstructor: Leona Lavone \nNote: Reference photos will be supplied. \nBring basic watercolor supplies. \nTube watercolors\, watercolor brushes\, Watercolor Paper 140lb\, Palette or mixing tray\, paper towels\, pencil\, low tack white masking tape – Not colored tape\, spritz bottle\, container for water ex: large sour cream container/small bucket. \nBring a board or a firm surface to tape your watercolor paper on to for support \n\nhttps://www.ocartistsguild.org/event/ocag263-pen-wash-watercolor-techniques/ \ninfo@ocartistsguild.org \n732-270-3111
URL:https://oceancountytourism.com/event/ocag263-pen-wash-watercolor-techniques/2025-04-30/
LOCATION:Ocean County Artists Guild\, 22 Chestnut Avenue\, Island Heights\, NJ\, 08732\, United States
CATEGORIES:Art,Cultural & Heritage
ATTACH;FMTTYPE=image/jpeg:https://oceancountytourism.com/wp-content/uploads/2025/02/OCAG263-Pen-Wash-2-1.jpg
END:VEVENT
BEGIN:VEVENT
DTSTART;TZID=America/New_York:20250430T130000
DTEND;TZID=America/New_York:20250430T160000
DTSTAMP:20260425T112332
CREATED:20250320T142327Z
LAST-MODIFIED:20250320T142327Z
UID:10035379-1746018000-1746028800@oceancountytourism.com
SUMMARY:"Adopt a Shelter Pet Day"
DESCRIPTION:Change the life of a homeless pet.All adoptions on April 30th- “Adopt a Shelter Pet Day” will be HALF PRICE!\nA goodie bag will also be given with every adoption.
URL:https://oceancountytourism.com/event/adopt-a-shelter-pet-day-2/
LOCATION:Northern Ocean County Animal Facility\, 615 Freemont Ave.\, Jackson\, NJ\, 08527\, United States
ATTACH;FMTTYPE=image/jpeg:https://oceancountytourism.com/wp-content/uploads/2025/03/485726023_624476323767982_3801020477251568126_n.jpg
END:VEVENT
BEGIN:VEVENT
DTSTART;TZID=America/New_York:20250430T180000
DTEND;TZID=America/New_York:20250430T180000
DTSTAMP:20260425T112332
CREATED:20250321T195021Z
LAST-MODIFIED:20250321T195021Z
UID:10035438-1746036000-1746036000@oceancountytourism.com
SUMMARY:Tea Club Meeting- Cream Ridge Winery Jerry Amibile
DESCRIPTION:Join the Mathis House for a complimentary tea club meeting. \nThe evening will include a sampling of Spring gourmet teas and a taste test of our new Spring desserts. RSVP by calling 732-818-7580 or book your complimentary tickets on RESY at www.mathishouse600main.com. \nThis Month’s Speaking Topic: \nMake Every Day A Great Day! \nCreating a deeper & more fulfilling connection with others that will elevate yours & their walk in life. \nGuest Speaker: Jerry Amabile of Cream Ridge Winery Jerry’s passion at work & in life aims to be Mission Minded & Purpose Driven. As President & founding member of Cream Ridge Winery\, Jerry’s philosophy of connecting on a deeper level with those he encounters is what drives his business & personal journey. “Getting to know others elevates the conversation and ultimately brings a heightened awareness of the needs of others and how best to serve”.
URL:https://oceancountytourism.com/event/tea-club-meeting-cream-ridge-winery-jerry-amibile/
LOCATION:Mathis House\, 600 Main St\, Toms River\, NJ\, 08753\, United States
ATTACH;FMTTYPE=image/jpeg:https://oceancountytourism.com/wp-content/uploads/2025/03/Uncle-Jerry.jpg
END:VEVENT
BEGIN:VEVENT
DTSTART;TZID=America/New_York:20250430T190000
DTEND;TZID=America/New_York:20250430T190000
DTSTAMP:20260425T112332
CREATED:20250224T170541Z
LAST-MODIFIED:20250224T170541Z
UID:10034886-1746039600-1746039600@oceancountytourism.com
SUMMARY:WREP: When Radio Entertained People
DESCRIPTION:Join us for the 50th “broadcast” of skits from the Golden Age of radio\, performed by WREP’s veteran actors. \nThis broadcast will showcase scenes from Johnny Got His Gun\, The Life of Riley and Easy Aces. \nTrivia game before the show starts at 6:30pm. \nThe performance begins at 7:00pm. \nThis program is sponsored by the Friends of the Ocean County Library – Toms River. \nhttps://theoceancountylibrary.libnet.info/event/13032257 \n732-349-6200 \n 
URL:https://oceancountytourism.com/event/wrep-when-radio-entertained-people-7/
LOCATION:Ocean County Library Toms River Branch\, 101 Washington St.\, Toms River\, NJ\, 08753\, United States
CATEGORIES:History
ATTACH;FMTTYPE=image/jpeg:https://oceancountytourism.com/wp-content/uploads/2022/04/icon-history.jpg
END:VEVENT
BEGIN:VEVENT
DTSTART;TZID=America/New_York:20250430T190000
DTEND;TZID=America/New_York:20250430T190000
DTSTAMP:20260425T112332
CREATED:20250320T115310Z
LAST-MODIFIED:20250414T123930Z
UID:10035371-1746039600-1746039600@oceancountytourism.com
SUMMARY:WREP: When Radio Entertained People
DESCRIPTION:Join us for the 50th “broadcast” of skits from the Golden Age of radio\, performed by WREP’s veteran actors. \nThis broadcast will showcase scenes from Johnny Got His Gun\, The Life of Riley and Easy Aces. \nTrivia game before the show starts at 6:30pm. \nThe performance begins at 7:00pm. \nThis program is sponsored by the Friends of the Ocean County Library – Toms River. \nhttps://theoceancountylibrary.libnet.info/event/13032257 \n732-349-6200
URL:https://oceancountytourism.com/event/wrep-when-radio-entertained-people/
LOCATION:Ocean County Library Toms River Branch\, 101 Washington St.\, Toms River\, NJ\, 08753\, United States
ATTACH;FMTTYPE=image/jpeg:https://oceancountytourism.com/wp-content/uploads/2025/03/WREP-When-radio-Entertained-People-MULTI-scaled.jpg
END:VEVENT
BEGIN:VEVENT
DTSTART;TZID=America/New_York:20250501T100000
DTEND;TZID=America/New_York:20250501T120000
DTSTAMP:20260425T112332
CREATED:20250325T120336Z
LAST-MODIFIED:20250325T120336Z
UID:10035520-1746093600-1746100800@oceancountytourism.com
SUMMARY:Spring Pickleball Clinic
DESCRIPTION:
URL:https://oceancountytourism.com/event/spring-pickleball-clinic/2025-05-01/
LOCATION:John F. Johnson Jr. Memorial Park\, 260 Kierych Memorial Drive\, Jackson\, NJ\, 08527\, United States
ATTACH;FMTTYPE=image/jpeg:https://oceancountytourism.com/wp-content/uploads/2025/03/pickleball.jpg
END:VEVENT
BEGIN:VEVENT
DTSTART;TZID=America/New_York:20250501T120000
DTEND;TZID=America/New_York:20250501T180000
DTSTAMP:20260425T112332
CREATED:20250320T193457Z
LAST-MODIFIED:20250320T193457Z
UID:10035384-1746100800-1746122400@oceancountytourism.com
SUMMARY:Huddy Park in Water Boat Show
DESCRIPTION:What to Expect:\n The latest boats on display—right in the water!\nExclusive show deals & financing offers\n Family-friendly fun for all ages!\nWhether you’re a seasoned captain or dreaming of your first boat\, this is the event to explore\, compare\, and set sail on your next adventure! \n Admission: Free with “Free Boat Rides for Prospective Buyers”\nThe 16th Anniversary Spring Huddy Park In-Water Boat Show
URL:https://oceancountytourism.com/event/huddy-park-in-water-boat-show/2025-05-01/
LOCATION:Huddy Park\, 39 E Water Street\, Toms River\, NJ\, 08753\, United States
CATEGORIES:Festivals & Family Fun
ATTACH;FMTTYPE=image/jpeg:https://oceancountytourism.com/wp-content/uploads/2025/03/16th-SPRING-huddy-flyer-2025-002-scaled.jpeg
END:VEVENT
BEGIN:VEVENT
DTSTART;TZID=America/New_York:20250501T183000
DTEND;TZID=America/New_York:20250501T183000
DTSTAMP:20260425T112332
CREATED:20250415T163046Z
LAST-MODIFIED:20250415T163046Z
UID:10035893-1746124200-1746124200@oceancountytourism.com
SUMMARY:Creative Connection Sip & Paint
DESCRIPTION:
URL:https://oceancountytourism.com/event/creative-connection-sip-paint/
LOCATION:The Strand Theater\, 400 Clifton Ave.\, Lakewood\, NJ\, 08701\, United States
CATEGORIES:Art
ATTACH;FMTTYPE=image/jpeg:https://oceancountytourism.com/wp-content/uploads/2025/04/strand.jpg
END:VEVENT
BEGIN:VEVENT
DTSTART;TZID=America/New_York:20250501T193000
DTEND;TZID=America/New_York:20250501T230000
DTSTAMP:20260425T112332
CREATED:20250404T153518Z
LAST-MODIFIED:20250404T153518Z
UID:10035723-1746127800-1746140400@oceancountytourism.com
SUMMARY:Karaoke Night - Crabs Claw Inn
DESCRIPTION:
URL:https://oceancountytourism.com/event/karaoke-night-crabs-claw-inn/2025-05-01/
LOCATION:The Crabs Claw Inn\, 601 Grand Central Ave\, Lavallette\, 08735\, United States
CATEGORIES:Live Entertainment
ATTACH;FMTTYPE=image/jpeg:https://oceancountytourism.com/wp-content/uploads/2025/04/488996556_18497984530048436_1632640588805876993_n.jpg
END:VEVENT
BEGIN:VEVENT
DTSTART;TZID=America/New_York:20250502T173000
DTEND;TZID=America/New_York:20250502T173000
DTSTAMP:20260425T112332
CREATED:20250310T191623Z
LAST-MODIFIED:20250310T191623Z
UID:10035141-1746207000-1746207000@oceancountytourism.com
SUMMARY:Toms River High School East Class of 2027  Gift Auction Fundraiser!
DESCRIPTION:Join Us! Friday\, May 2nd to support: \nToms River High School East Class of 2027 Gift Auction Fundraiser \nDOOR PRIZES! \n50/50 RAFFLE! \nBIRTHDAY BOARD! \nGIFT AUCTION! \nDoors open @ 5:30pm \nTRE HIGH SCHOOL EAST Cafeteria \n$30 per person \nTables of 10 available (Guests must be 18 or over to enter event) \nCash or Check (Payable to: TRHSE CLASS OF 2027) \nTo: Rachel Barry\, Toms River HSE\, 1225 Raider Way\, Toms River\, NJ 08753 \nQUESTIONS OR FOR MORE INFO EMAIL: rbarry@trschools.com or kdevuyst@trschools.com \n\nhttps://www.trschools.com/hseast/ \nhttps://www.yelp.com/events/toms-river-toms-river-high-school-east-class-of-2027-gift-auction-fundraiser \n 
URL:https://oceancountytourism.com/event/toms-river-high-school-east-class-of-2027-gift-auction-fundraiser/
LOCATION:Toms River High School East\, 1225 Raider Way\, Toms River\, NJ\, United States
ATTACH;FMTTYPE=image/png:https://oceancountytourism.com/wp-content/uploads/2025/03/Toms-River-High-School-East-Class-of-2027-1.png
END:VEVENT
BEGIN:VEVENT
DTSTART;TZID=America/New_York:20250502T180000
DTEND;TZID=America/New_York:20250502T180000
DTSTAMP:20260425T112332
CREATED:20250320T120650Z
LAST-MODIFIED:20250320T120650Z
UID:10035372-1746208800-1746208800@oceancountytourism.com
SUMMARY:Ship Bottom Centennial Gala
DESCRIPTION:Tickets are now available for purchase at the Borough Hall Municipal Clerk’s Office\, Monday through Friday\, from 9 AM to 4 PM. \nTickets are priced at $125 each. \nFor more details or to reserve a table\, please call 609-494-2171 Ext. 116. \nAct fast\, as tickets are limited!”
URL:https://oceancountytourism.com/event/ship-bottom-centennial-gala/
LOCATION:Hotel LBI\, 350 West 8th Street\, Ship Bottom\, NJ\, 08008\, United States
CATEGORIES:Food
ATTACH;FMTTYPE=image/jpeg:https://oceancountytourism.com/wp-content/uploads/2025/03/485750136_945301754352897_6836084951524081511_n.jpg
END:VEVENT
BEGIN:VEVENT
DTSTART;TZID=America/New_York:20250502T180000
DTEND;TZID=America/New_York:20250502T200000
DTSTAMP:20260425T112332
CREATED:20250414T114946Z
LAST-MODIFIED:20250414T114946Z
UID:10035855-1746208800-1746216000@oceancountytourism.com
SUMMARY:Resin Magic: Create Stunning Art!
DESCRIPTION:Create your own unique coastal resin art piece! \nSpend an afternoon being creative! Join us at TRAC to create a beautiful work of art that you would be proud to hang on your wall or give as a gift! \nTRAC will provide a variety of small embellishments\, but feel free to bring something special to incorporate into your piece. Older Teens & Adults. \nMembers: $55.00 | Non-members: $65.00 \n\nwww.trac732.org \ntomsriverartistcomminity732@gmail.com \n7323770290
URL:https://oceancountytourism.com/event/resin-magic-create-stunning-art/
LOCATION:TRAC Toms River Artist Community\, 40 Main St.\, Toms River\, NJ\, 08753\, United States
CATEGORIES:Art,Cultural & Heritage
ATTACH;FMTTYPE=image/jpeg:https://oceancountytourism.com/wp-content/uploads/2025/04/Resign-Magic.jpg
END:VEVENT
BEGIN:VEVENT
DTSTART;TZID=America/New_York:20250502T180000
DTEND;TZID=America/New_York:20250502T220000
DTSTAMP:20260425T112332
CREATED:20250106T134521Z
LAST-MODIFIED:20250106T134521Z
UID:10034054-1746208800-1746223200@oceancountytourism.com
SUMMARY:Casino Night
DESCRIPTION:Ticket price includes $75 worth of playing chips and access to an open beer & wine bar\, and buffet! \n100% of the proceeds go to Barnegat Rotary Club projects.
URL:https://oceancountytourism.com/event/casino-night-7/
LOCATION:Lacey Elks Lodge #2518\, 900 Beach Blvd.\, Forked River\, NJ\, 08731\, United States
ATTACH;FMTTYPE=image/jpeg:https://oceancountytourism.com/wp-content/uploads/2025/01/472654897_908271108160247_3150643428307885413_n.jpg
END:VEVENT
BEGIN:VEVENT
DTSTART;TZID=America/New_York:20250502T193000
DTEND;TZID=America/New_York:20250502T193000
DTSTAMP:20260425T112332
CREATED:20250327T113643Z
LAST-MODIFIED:20250327T113643Z
UID:10035536-1746214200-1746214200@oceancountytourism.com
SUMMARY:Cosmic American Derelicts
DESCRIPTION:The Cosmic American Derelicts call Bergenfield New Jersey their home and were founded in the spring of 1998. \nOver the next 26 years the Derelicts have written and released 6 albums and have traveled throughout the US & UK performing on some of the world’s most famous stages. \nA true rock and roll band in every sense\, the Derelict brand of music ranges from honky-tonk/country-bluegrass to heavy blues and r&b\, as well as some forays into psychedelia/acid rock\, folk\, funk and reggae/ska. \nThe Cosmic American Derelicts have always been an independent band\, never following trends or fashions\, \njust living and breathing rock and roll\, wearing their influences proudly on their sleeve and carrying on the musical traditions of their forefathers. \nDoors Open- 7:00 pm \nShowtime- 7:30 pm \n​​$35.00 Advance\, $40.00 At Door \nhttps://www.lizzierosemusic.com/product-page/cosmic-american-derelicts-fri-may2nd \nlizzierosemusic@aol.com \n609-276-6758 \n 
URL:https://oceancountytourism.com/event/cosmic-american-derelicts/
LOCATION:Lizzie Rose Music Room\, 217 E. Main Street\, Tuckerton\, NJ\, United States
CATEGORIES:Concerts,Live Entertainment
ATTACH;FMTTYPE=image/jpeg:https://oceancountytourism.com/wp-content/uploads/2025/03/05.02.25.jpg
END:VEVENT
END:VCALENDAR