BEGIN:VCALENDAR
VERSION:2.0
PRODID:-//Ocean County Tourism - ECPv6.15.18//NONSGML v1.0//EN
CALSCALE:GREGORIAN
METHOD:PUBLISH
X-ORIGINAL-URL:https://oceancountytourism.com
X-WR-CALDESC:Events for Ocean County Tourism
REFRESH-INTERVAL;VALUE=DURATION:PT1H
X-Robots-Tag:noindex
X-PUBLISHED-TTL:PT1H
BEGIN:VTIMEZONE
TZID:America/New_York
BEGIN:DAYLIGHT
TZOFFSETFROM:-0500
TZOFFSETTO:-0400
TZNAME:EDT
DTSTART:20240310T070000
END:DAYLIGHT
BEGIN:STANDARD
TZOFFSETFROM:-0400
TZOFFSETTO:-0500
TZNAME:EST
DTSTART:20241103T060000
END:STANDARD
BEGIN:DAYLIGHT
TZOFFSETFROM:-0500
TZOFFSETTO:-0400
TZNAME:EDT
DTSTART:20250309T070000
END:DAYLIGHT
BEGIN:STANDARD
TZOFFSETFROM:-0400
TZOFFSETTO:-0500
TZNAME:EST
DTSTART:20251102T060000
END:STANDARD
BEGIN:DAYLIGHT
TZOFFSETFROM:-0500
TZOFFSETTO:-0400
TZNAME:EDT
DTSTART:20260308T070000
END:DAYLIGHT
BEGIN:STANDARD
TZOFFSETFROM:-0400
TZOFFSETTO:-0500
TZNAME:EST
DTSTART:20261101T060000
END:STANDARD
END:VTIMEZONE
BEGIN:VEVENT
DTSTART;TZID=America/New_York:20250906T193000
DTEND;TZID=America/New_York:20250906T193000
DTSTAMP:20260424T042215
CREATED:20250206T125435Z
LAST-MODIFIED:20250206T125435Z
UID:10034612-1757187000-1757187000@oceancountytourism.com
SUMMARY:The Buddy Holly Story
DESCRIPTION:Rock out with the one and only Buddy Holly! \nTransport yourself back to the 1950s with this show telling the story of Holly’s rise to fame\, his struggles with the music industry and his enduring legacy as one of the pioneers of rock and roll. This high-energy must-see show features all of Holly’s hits\, including “Peggy Sue\,” “That’ll Be the Day” and “Everyday.” \nIt’s a heartwarming and inspiring tale that will have you leaving the theater with a smile on your face and a spring in your step. \nBefore the Beatles\, before the Stones\, there was Buddy Holly. \nhttps://surflight.org/
URL:https://oceancountytourism.com/event/the-buddy-holly-story-2/2025-09-06/
LOCATION:Surflight Theatre\, 201 Engleside Ave.\, Beach Haven\, NJ\, 08008\, United States
CATEGORIES:Theatre
ATTACH;FMTTYPE=image/jpeg:https://oceancountytourism.com/wp-content/uploads/2025/02/buddy1-002.jpg
END:VEVENT
BEGIN:VEVENT
DTSTART;TZID=America/New_York:20250906T190000
DTEND;TZID=America/New_York:20250906T220000
DTSTAMP:20260424T042215
CREATED:20250814T113645Z
LAST-MODIFIED:20250814T113645Z
UID:10038529-1757185200-1757196000@oceancountytourism.com
SUMMARY:"Bad Shabbos" Film Screening
DESCRIPTION:Kyra Sedgwick and Cliff “Method Man” Smith lead an incredible ensemble cast in the uproarious new comedy BAD SHABBOS\, \nwinner of the Audience Award for Best Narrative at the Tribeca Film Festival! \nDavid and his fiancée Meg are about to have their parents meet for the first time over a Shabbat dinner on New York’s Upper West Side when an accidental death (or murder?) gets in the way. With Meg’s Catholic parents due any moment\, this family dinner soon spirals into a hilarious disaster. \n\nhttps://www.lbifoundation.org/mastercalendar/bad-shabbos-film-screening
URL:https://oceancountytourism.com/event/bad-shabbos-film-screening/
LOCATION:Long Beach Island Foundation of the Arts and Sciences\, 120 Long Beach Blvd\, Long Beach Township\, NJ\, 08008\, United States
CATEGORIES:Art,Cultural & Heritage,Movies,Theatre
ATTACH;FMTTYPE=image/jpeg:https://oceancountytourism.com/wp-content/uploads/2025/08/Bad-Shabbos-Key-Landscape-1920x1080-1.jpg
END:VEVENT
BEGIN:VEVENT
DTSTART;TZID=America/New_York:20250906T163000
DTEND;TZID=America/New_York:20250906T163000
DTSTAMP:20260424T042215
CREATED:20250808T191411Z
LAST-MODIFIED:20250808T191411Z
UID:10038396-1757176200-1757176200@oceancountytourism.com
SUMMARY:Kaluoka'hina: The Enchanted Reef
DESCRIPTION:The vastness of our planet’s oceans guards unimaginable secrets.\nOne of its most precious is Kaluokahina\, the enchanted reef whose magic protects it against humans finding it.\nKaluokahinas colorful inhabitants have thus always lived in peace… until the volcano erupts\, and the spell is broken.\nNow it’s up to the young sawfish Jake and his paranoid pal Shorty to restore the magic of Kaluokahina.\nChildren will witness a one-of-kind underwater world in our immersive full-dome theater that is full of adventure\, danger\, and riddles.\n[Content Warning // Jump Scare ]\nFulldome FilmRecommended for grades 1-4Run time 32 minutes\nbooking.ocean.edu
URL:https://oceancountytourism.com/event/kaluokahina-the-enchanted-reef-4/2025-09-06/
LOCATION:Robert J. Novins Planetarium\, 1 College Drive Ocean County College Building 13\, Toms River\, NJ\, 08754\, United States
CATEGORIES:Theatre
ATTACH;FMTTYPE=image/jpeg:https://oceancountytourism.com/wp-content/uploads/2025/08/518894001_1267089062094037_2312070126710047485_n.jpg
END:VEVENT
BEGIN:VEVENT
DTSTART;TZID=America/New_York:20250831T180000
DTEND;TZID=America/New_York:20250831T180000
DTSTAMP:20260424T042215
CREATED:20250312T161522Z
LAST-MODIFIED:20250312T161522Z
UID:10035228-1756663200-1756663200@oceancountytourism.com
SUMMARY:Cinderella
DESCRIPTION:Cinderella – Aug 27\, 28\, 29\, 30\, 31 \nPresenting your favorite children’s stories with our own twist. Geared for children 3-10. \nAll show are at 6:00pm\, Wednesdays – Sundays \n\nhttps://surflight.org/ \ninfo@surflight.org \n609-492-9477
URL:https://oceancountytourism.com/event/cinderella-3/2025-08-31/
LOCATION:Surflight Theatre\, 201 Engleside Ave.\, Beach Haven\, NJ\, 08008\, United States
CATEGORIES:Theatre
ATTACH;FMTTYPE=image/jpeg:https://oceancountytourism.com/wp-content/uploads/2025/03/Cinderella.jpg
END:VEVENT
BEGIN:VEVENT
DTSTART;TZID=America/New_York:20250824T180000
DTEND;TZID=America/New_York:20250824T180000
DTSTAMP:20260424T042215
CREATED:20250306T203921Z
LAST-MODIFIED:20250306T203921Z
UID:10035117-1756058400-1756058400@oceancountytourism.com
SUMMARY:Little Mermaid
DESCRIPTION:Little Mermaid – July 16\, 17\, 18\, 19\, 20; Aug 20\, 21\, 22\, 23\, 24 Presenting your favorite children’s stories with our own twist. Geared for children 3-10. \nAll show are at 6:00pm\, Wednesdays – Sundays \nhttps://surflight.org/ \ninfo@surflight.org \n609-492-9477 \n 
URL:https://oceancountytourism.com/event/little-mermaid-2/2025-08-24/
LOCATION:Surflight Theatre\, 201 Engleside Ave.\, Beach Haven\, NJ\, 08008\, United States
CATEGORIES:Theatre
ATTACH;FMTTYPE=image/png:https://oceancountytourism.com/wp-content/uploads/2025/03/Mermaid-Logo-no-date.png
END:VEVENT
BEGIN:VEVENT
DTSTART;TZID=America/New_York:20250822T190000
DTEND;TZID=America/New_York:20250822T190000
DTSTAMP:20260424T042215
CREATED:20250808T192050Z
LAST-MODIFIED:20250808T192050Z
UID:10038401-1755889200-1755889200@oceancountytourism.com
SUMMARY:Laser Rocket Man
DESCRIPTION:“I’ve always wanted to smash a guitar over someone’s head. You just can’t do that with a piano.”\nElton John’s unique blend of pop and rock styles turned him into one of the 20th century’s biggest music icons.\nWhat better way to celebrate his musical hits than with laser light accompaniment?\nSit back\, relax\, and let this unique light and sound experience move through you. And don’t worry\, you’ll be safe from any flying pianos!\n\nLaser ShowRun time 48 minutes\nbooking.ocean.edu
URL:https://oceancountytourism.com/event/laser-rocket-man-2/
LOCATION:Robert J. Novins Planetarium\, 1 College Drive Ocean County College Building 13\, Toms River\, NJ\, 08754\, United States
CATEGORIES:Theatre
ATTACH;FMTTYPE=image/jpeg:https://oceancountytourism.com/wp-content/uploads/2025/08/518960856_1267100402092903_8887582854405082082_n.jpg
END:VEVENT
BEGIN:VEVENT
DTSTART;TZID=America/New_York:20250822T133000
DTEND;TZID=America/New_York:20250822T133000
DTSTAMP:20260424T042215
CREATED:20250808T191623Z
LAST-MODIFIED:20250808T191623Z
UID:10038397-1755869400-1755869400@oceancountytourism.com
SUMMARY:Defying Gravity: It Is Rocket Science
DESCRIPTION:Join host Apollo Aurora and her science reporters as they explore the brains behind rocket power\, gravity on other planets\, and even monstrous black holes!\nRobert experts Apple 1-6-8-6 and EGR-1 will also lend a few circuits to explain the force that keeps us humans all grounded. Well\, some of the time. Defying Gravity\, It Is Rocket Science!\nFulldome FilmRecommended for grades 3 and upRun time 24 minutes\nbooking.ocean.edu
URL:https://oceancountytourism.com/event/defying-gravity-it-is-rocket-science/
LOCATION:Robert J. Novins Planetarium\, 1 College Drive Ocean County College Building 13\, Toms River\, NJ\, 08754\, United States
CATEGORIES:Theatre
ATTACH;FMTTYPE=image/jpeg:https://oceancountytourism.com/wp-content/uploads/2025/08/520821559_1267097878759822_4936265139379944091_n.jpg
END:VEVENT
BEGIN:VEVENT
DTSTART;TZID=America/New_York:20250817T180000
DTEND;TZID=America/New_York:20250817T180000
DTSTAMP:20260424T042215
CREATED:20250307T173253Z
LAST-MODIFIED:20250307T173253Z
UID:10035133-1755453600-1755453600@oceancountytourism.com
SUMMARY:The SpongeBob Musical: Youth Edition
DESCRIPTION:The SpongeBob Musical: Youth Edition – July 23\, 24\, 25\, 26\, 27; Aug 13\, 14\, 15\, 16\, 17 \nWhen the citizens of Bikini Bottom discover that a volcano will soon erupt and destroy their humble home\, SpongeBob and his friends must come together to save the fate of their undersea world. With lives hanging in the balance and all hope lost\, a most unexpected hero rises up. \nThe power of optimism really can save the world! \nhttps://surflight.org/ \ninfo@surflight.org \n609-492-9477
URL:https://oceancountytourism.com/event/the-spongebob-musical-youth-edition/2025-08-17/
LOCATION:Surflight Theatre\, 201 Engleside Ave.\, Beach Haven\, NJ\, 08008\, United States
CATEGORIES:Theatre
ATTACH;FMTTYPE=image/jpeg:https://oceancountytourism.com/wp-content/uploads/2025/03/SpongeBob-crab.jpg
END:VEVENT
BEGIN:VEVENT
DTSTART;TZID=America/New_York:20250817T140000
DTEND;TZID=America/New_York:20250817T140000
DTSTAMP:20260424T042215
CREATED:20250205T201126Z
LAST-MODIFIED:20250205T201126Z
UID:10034576-1755439200-1755439200@oceancountytourism.com
SUMMARY:West Side Story
DESCRIPTION:From the first notes to the final breath\, West Side Story is one of the most memorable musicals and greatest love stories of all time. \nArthur Laurents’ book remains as powerful\, poignant and timely as ever. \nThe score by Leonard Bernstein and lyrics by Stephen Sondheim are widely regarded as among the best ever written. \nThe world’s greatest love story takes to the streets in this landmark Broadway musical that is one of the theatre’s finest accomplishments. \nA masterpiece of music and brilliant dance tells this poignant story. \nhttps://surflight.org/
URL:https://oceancountytourism.com/event/west-side-story/2025-08-17/
LOCATION:Surflight Theatre\, 201 Engleside Ave.\, Beach Haven\, NJ\, 08008\, United States
CATEGORIES:Theatre
ATTACH;FMTTYPE=image/jpeg:https://oceancountytourism.com/wp-content/uploads/2025/02/west-side-story.jpg
END:VEVENT
BEGIN:VEVENT
DTSTART;TZID=America/New_York:20250816T200000
DTEND;TZID=America/New_York:20250816T200000
DTSTAMP:20260424T042215
CREATED:20250205T201451Z
LAST-MODIFIED:20250205T201451Z
UID:10034591-1755374400-1755374400@oceancountytourism.com
SUMMARY:West Side Story
DESCRIPTION:From the first notes to the final breath\, West Side Story is one of the most memorable musicals and greatest love stories of all time. \nArthur Laurents’ book remains as powerful\, poignant and timely as ever. \nThe score by Leonard Bernstein and lyrics by Stephen Sondheim are widely regarded as among the best ever written. \nThe world’s greatest love story takes to the streets in this landmark Broadway musical that is one of the theatre’s finest accomplishments. \nA masterpiece of music and brilliant dance tells this poignant story. \nhttps://surflight.org/
URL:https://oceancountytourism.com/event/west-side-story-2/2025-08-16/
LOCATION:Surflight Theatre\, 201 Engleside Ave.\, Beach Haven\, NJ\, 08008\, United States
CATEGORIES:Theatre
ATTACH;FMTTYPE=image/jpeg:https://oceancountytourism.com/wp-content/uploads/2025/02/west-side-story.jpg
END:VEVENT
BEGIN:VEVENT
DTSTART;TZID=America/New_York:20250810T180000
DTEND;TZID=America/New_York:20250810T180000
DTSTAMP:20260424T042215
CREATED:20250305T123503Z
LAST-MODIFIED:20250305T123503Z
UID:10035084-1754848800-1754848800@oceancountytourism.com
SUMMARY:Wizard of Oz
DESCRIPTION:Wizard of Oz – July 9\, 10\, 11\, 12\, 13; Aug 6\, 7\, 8\, 9\, 10 Presenting your favorite children’s stories with our own twist. Geared for children 3-10. \nAll show are at 6:00pm\, Wednesdays – Sundays \n\nhttps://surflight.org/ \ninfo@surflight.org \n609-492-9477
URL:https://oceancountytourism.com/event/wizard-of-oz-2/2025-08-10/
LOCATION:Surflight Theatre\, 201 Engleside Ave.\, Beach Haven\, NJ\, 08008\, United States
CATEGORIES:Theatre
ATTACH;FMTTYPE=image/jpeg:https://oceancountytourism.com/wp-content/uploads/2025/03/wizlogo2.jpg
END:VEVENT
BEGIN:VEVENT
DTSTART;TZID=America/New_York:20250804T200000
DTEND;TZID=America/New_York:20250804T200000
DTSTAMP:20260424T042215
CREATED:20250220T192001Z
LAST-MODIFIED:20250220T192001Z
UID:10034803-1754337600-1754337600@oceancountytourism.com
SUMMARY:My Broadway - Concert by John D. Smitherman
DESCRIPTION:John D. Smitherman (Surflight’s Emile DeBeque last season in South Pacific) brings his highly acclaimed concert here to Surflight in 2025. \nYou will hear all of your Broadway favorites performed with a full orchestra\, highlighting the many roles John has performed throughout his career. \nSongs from JEKYLL & HYDE\, SOUTH PACIFIC\, LES MISERABLES\, MAN OF LA MANCHA\, PHANTOM OF THE OPERA and many\, many more! \nAlso included are some of his favorite songs made famous by such artists as Frank Sinatra\, Tony Bennett\, Mario Lanza and Tom Jones. \nhttps://surflight.org/ \ninfo@surflight.org \n609-492-9477
URL:https://oceancountytourism.com/event/my-broadway-concert-by-john-d-smitherman/2025-08-04/2/
LOCATION:Surflight Theatre\, 201 Engleside Ave.\, Beach Haven\, NJ\, 08008\, United States
CATEGORIES:Theatre
ATTACH;FMTTYPE=image/jpeg:https://oceancountytourism.com/wp-content/uploads/2025/02/smitherman2.jpeg
END:VEVENT
BEGIN:VEVENT
DTSTART;TZID=America/New_York:20250803T203000
DTEND;TZID=America/New_York:20250803T203000
DTSTAMP:20260424T042215
CREATED:20250220T150449Z
LAST-MODIFIED:20250220T150449Z
UID:10034775-1754253000-1754253000@oceancountytourism.com
SUMMARY:Mike Marino
DESCRIPTION:Affectionately known to millions of his fans worldwide as New Jersey’s Bad Boy – is one of the most loved comedians of our time. \nHe has performed in every major comedy club\, theatre\, casino and event center from New York to Los Angeles and around the world. \nMike has also shared the stage with some of the biggest names in the business. \nhttps://surflight.org/ \ninfo@surflight.org \n609-492-9477
URL:https://oceancountytourism.com/event/mike-marino-2/
LOCATION:Surflight Theatre\, 201 Engleside Ave.\, Beach Haven\, NJ\, 08008\, United States
CATEGORIES:Live Entertainment,Theatre
ATTACH;FMTTYPE=image/jpeg:https://oceancountytourism.com/wp-content/uploads/2025/02/marino21.jpg
END:VEVENT
BEGIN:VEVENT
DTSTART;TZID=America/New_York:20250803T180000
DTEND;TZID=America/New_York:20250803T180000
DTSTAMP:20260424T042215
CREATED:20250224T170314Z
LAST-MODIFIED:20250224T170314Z
UID:10034885-1754244000-1754244000@oceancountytourism.com
SUMMARY:Peter Pan
DESCRIPTION:Peter Pan – June 25\, 26\, 27\, 28\, 29; July 30\, 31\, Aug 1\, 2\, 3 Presenting your favorite children’s stories with our own twist. Geared for children 3-10. \nAll show are at 6:00pm\, Wednesdays – Sundays \n\nhttps://surflight.org/ \ninfo@surflight.org \n609-492-9477
URL:https://oceancountytourism.com/event/peter-pan-4/2025-08-03/
LOCATION:Surflight Theatre\, 201 Engleside Ave.\, Beach Haven\, NJ\, 08008\, United States
CATEGORIES:Theatre
ATTACH;FMTTYPE=image/jpeg:https://oceancountytourism.com/wp-content/uploads/2025/02/Peter-Pan.jpg
END:VEVENT
BEGIN:VEVENT
DTSTART;TZID=America/New_York:20250727T140000
DTEND;TZID=America/New_York:20250727T140000
DTSTAMP:20260424T042215
CREATED:20250205T200626Z
LAST-MODIFIED:20250205T200626Z
UID:10034555-1753624800-1753624800@oceancountytourism.com
SUMMARY:42nd Street
DESCRIPTION:Come along and listen to the lullaby of Broadway! 42nd Street celebrates Broadway\, Times Square and the magic of show biz with wit\, humor and pizzazz. \nAt the height of the Great Depression\, aspiring chorus girl Peggy Sawyer comes to the big city from Allentown PA\, and soon lands her first big job in the ensemble of a glitzy new Broadway show. But just before opening night\, the leading lady breaks her ankle. \nWill Peggy be able to step in and become a star? \nThe score is chock-full of Broadway standards\, including “You’re Getting to Be a Habit with Me\,” “Dames\,” “We’re In the Money\,” \n“Lullaby of Broadway\,” “Shuffle Off to Buffalo” and “Forty-Second Street.” \n\nhttps://surflight.org/
URL:https://oceancountytourism.com/event/42nd-street/2025-07-27/
LOCATION:Surflight Theatre\, 201 Engleside Ave.\, Beach Haven\, NJ\, 08008\, United States
CATEGORIES:Theatre
ATTACH;FMTTYPE=image/png:https://oceancountytourism.com/wp-content/uploads/2025/02/42ndstreetlogo-square.png
END:VEVENT
BEGIN:VEVENT
DTSTART;TZID=America/New_York:20250726T200000
DTEND;TZID=America/New_York:20250726T200000
DTSTAMP:20260424T042215
CREATED:20250205T200845Z
LAST-MODIFIED:20250205T200845Z
UID:10034570-1753560000-1753560000@oceancountytourism.com
SUMMARY:42nd Street
DESCRIPTION:Come along and listen to the lullaby of Broadway! 42nd Street celebrates Broadway\, Times Square and the magic of show biz with wit\, humor and pizzazz. \nAt the height of the Great Depression\, aspiring chorus girl Peggy Sawyer comes to the big city from Allentown PA\, and soon lands her first big job in the ensemble of a glitzy new Broadway show. But just before opening night\, the leading lady breaks her ankle. \nWill Peggy be able to step in and become a star? \nThe score is chock-full of Broadway standards\, including “You’re Getting to Be a Habit with Me\,” “Dames\,” “We’re In the Money\,” \n“Lullaby of Broadway\,” “Shuffle Off to Buffalo” and “Forty-Second Street.” \nhttps://surflight.org/
URL:https://oceancountytourism.com/event/42nd-street-2/2025-07-26/
LOCATION:Surflight Theatre\, 201 Engleside Ave.\, Beach Haven\, NJ\, 08008\, United States
CATEGORIES:Theatre
ATTACH;FMTTYPE=image/png:https://oceancountytourism.com/wp-content/uploads/2025/02/42ndstreetlogo-square.png
END:VEVENT
BEGIN:VEVENT
DTSTART;TZID=America/New_York:20250724T180000
DTEND;TZID=America/New_York:20250724T180000
DTSTAMP:20260424T042215
CREATED:20250721T125826Z
LAST-MODIFIED:20250721T125826Z
UID:10038122-1753380000-1753380000@oceancountytourism.com
SUMMARY:Seussical Jr.
DESCRIPTION:
URL:https://oceancountytourism.com/event/seussical-jr/2025-07-24/2/
LOCATION:Jackson Township Middle School Fine Arts Auditorium\, 101 Don Connor Blvd\, Jackson\, 08527\, United States
CATEGORIES:Theatre
ATTACH;FMTTYPE=image/jpeg:https://oceancountytourism.com/wp-content/uploads/2025/07/Picture1.jpg
END:VEVENT
BEGIN:VEVENT
DTSTART;TZID=America/New_York:20250714T200000
DTEND;TZID=America/New_York:20250714T200000
DTSTAMP:20260424T042215
CREATED:20250220T145710Z
LAST-MODIFIED:20250220T145710Z
UID:10034774-1752523200-1752523200@oceancountytourism.com
SUMMARY:The Duprees
DESCRIPTION:July 14 at 5:00pm and 8:00pm \nThe tradition and sound that originally made the Duprees such a well-loved and successful group has echoed through time for more than 60 years. \nTommy Petillo\, Jimmy Spinelli and Shawn Stevens active today clearly show their dedication and passion for the type of music the at started on a New Jersey street corner and grew to something both classic and ultimately timeless. \n\nhttps://surflight.org/ \ninfo@surflight.org \n609-492-9477
URL:https://oceancountytourism.com/event/the-duprees/2025-07-14/2/
LOCATION:Surflight Theatre\, 201 Engleside Ave.\, Beach Haven\, NJ\, 08008\, United States
CATEGORIES:Live Entertainment,Theatre
ATTACH;FMTTYPE=image/jpeg:https://oceancountytourism.com/wp-content/uploads/2025/02/duprees.jpg
END:VEVENT
BEGIN:VEVENT
DTSTART;TZID=America/New_York:20250706T180000
DTEND;TZID=America/New_York:20250706T180000
DTSTAMP:20260424T042215
CREATED:20250226T153301Z
LAST-MODIFIED:20250226T153301Z
UID:10034949-1751824800-1751824800@oceancountytourism.com
SUMMARY:Snow White
DESCRIPTION:Snow White – July 2\, 3\, 5\, 6 \nPresenting your favorite children’s stories with our own twist. Geared for children 3-10. \nAll show are at 6:00pm\, Wednesdays – Sundays \nhttps://surflight.org/ \ninfo@surflight.org \n609-492-9477
URL:https://oceancountytourism.com/event/snow-white-2/2025-07-06/
LOCATION:Surflight Theatre\, 201 Engleside Ave.\, Beach Haven\, NJ\, 08008\, United States
CATEGORIES:Theatre
ATTACH;FMTTYPE=image/jpeg:https://oceancountytourism.com/wp-content/uploads/2025/02/snow-white2-scaled.jpg
END:VEVENT
BEGIN:VEVENT
DTSTART;TZID=America/New_York:20250706T140000
DTEND;TZID=America/New_York:20250706T140000
DTSTAMP:20260424T042215
CREATED:20250204T133959Z
LAST-MODIFIED:20250210T170909Z
UID:10034524-1751810400-1751810400@oceancountytourism.com
SUMMARY:9 to 5\, The Musical
DESCRIPTION:9 to 5\, The Musical\, with music and lyrics by Dolly Parton and book by Patricia Resnick\, is a high energy\, jubilant show based on the seminal 1980 hit movie. \nSet in the late 1970s\, this hilarious story of friendship and revenge in the Rolodex era is outrageous\, thought-provoking and even a little romantic. \nPushed to the boiling point\, three female coworkers concoct a plan to get even with the sexist\, egotistical\, lying\, hypocritical bigot they call their boss. \nIn a hilarious turn of events\, Violet\, Judy and Doralee live out their wildest fantasy – giving their boss the boot! \nWhile Hart remains “otherwise engaged\,” the women give their workplace a dream makeover\, taking control of the company that had always kept them down. \nHey\, a girl can scheme\, can’t she? \nhttps://surflight.org/ \ninfo@surflight.org \n609-492-9477
URL:https://oceancountytourism.com/event/9-to-5-the-musical/2025-07-06/
LOCATION:Surflight Theatre\, 201 Engleside Ave.\, Beach Haven\, NJ\, 08008\, United States
CATEGORIES:Theatre
ATTACH;FMTTYPE=image/jpeg:https://oceancountytourism.com/wp-content/uploads/2025/02/9-5musical.jpg
END:VEVENT
BEGIN:VEVENT
DTSTART;TZID=America/New_York:20250705T200000
DTEND;TZID=America/New_York:20250705T200000
DTSTAMP:20260424T042215
CREATED:20250204T134931Z
LAST-MODIFIED:20250204T134931Z
UID:10034537-1751745600-1751745600@oceancountytourism.com
SUMMARY:9 to 5\, The Musical
DESCRIPTION:9 to 5\, The Musical\, with music and lyrics by Dolly Parton and book by Patricia Resnick\, is a high energy\, jubilant show based on the seminal 1980 hit movie. \nSet in the late 1970s\, this hilarious story of friendship and revenge in the Rolodex era is outrageous\, thought-provoking and even a little romantic. \nPushed to the boiling point\, three female coworkers concoct a plan to get even with the sexist\, egotistical\, lying\, hypocritical bigot they call their boss. \nIn a hilarious turn of events\, Violet\, Judy and Doralee live out their wildest fantasy – giving their boss the boot! While Hart remains “otherwise engaged\,” the women give their workplace a dream makeover\, taking control of the company that had always kept them down. \nHey\, a girl can scheme\, can’t she? \n\nhttps://surflight.org/ \ninfo@surflight.org \n609-492-9477
URL:https://oceancountytourism.com/event/9-to-5-the-musical-2/2025-07-05/
LOCATION:Surflight Theatre\, 201 Engleside Ave.\, Beach Haven\, NJ\, 08008\, United States
CATEGORIES:Theatre
ATTACH;FMTTYPE=image/jpeg:https://oceancountytourism.com/wp-content/uploads/2025/02/9-5musical.jpg
END:VEVENT
BEGIN:VEVENT
DTSTART;TZID=America/New_York:20250630T200000
DTEND;TZID=America/New_York:20250630T200000
DTSTAMP:20260424T042215
CREATED:20250219T124229Z
LAST-MODIFIED:20250219T124229Z
UID:10034762-1751313600-1751313600@oceancountytourism.com
SUMMARY:Winslow Eagles Tribute - Hotel California Concert
DESCRIPTION:East Coast’s Greatest Eagles Tribute Band. \nWinslow Tribute Band celebrates the iconic American Band The Eagles. \nThis powerhouse ensemble recreates the live performance of The Eagles and the signature sound that made them one of the most successful artists in the 70’s. \nA passion for detail\, Winslow ‘s multi-lead vocalists authentically capture the soaring 5-part harmonies\, precise instrumentation and stage showmanship as they perform The Eagles music catalog of greatest hits\, deep cuts\, as well as some of the solo work of Don Henley and Joe Walsh. \nFrom their outstanding emulation of the a cappella harmonies of “Seven Bridges Road” to the precision of dueling guitars in “Hotel California”\, Winslow deliver a true “Eagles” concert experience you will not forget. \n\nhttps://surflight.org/ \ninfo@surflight.org \n609-492-9477
URL:https://oceancountytourism.com/event/winslow-eagles-tribute-hotel-california-concert/2025-06-30/2/
LOCATION:Surflight Theatre\, 201 Engleside Ave.\, Beach Haven\, NJ\, 08008\, United States
CATEGORIES:Concerts,Theatre
ATTACH;FMTTYPE=image/jpeg:https://oceancountytourism.com/wp-content/uploads/2025/02/Winslow-Desert.jpg
END:VEVENT
BEGIN:VEVENT
DTSTART;TZID=America/New_York:20250614T200000
DTEND;TZID=America/New_York:20250614T200000
DTSTAMP:20260424T042215
CREATED:20250131T173138Z
LAST-MODIFIED:20250131T173138Z
UID:10034508-1749931200-1749931200@oceancountytourism.com
SUMMARY:Irving Berlin's Top Hat
DESCRIPTION:May 28\, 29\, June 1\, 2\, 3\, 4\, 10\, 11\, 12\, 15 at 2:00pm May 29\, 30\, 31\, June 3\, 12\, 13\, 14 at 8:00pm \nTop Hat brings the glamour of Hollywood’s golden age and the glorious\, tap-dancing magic of Fred Astaire and Ginger Rogers’ world-famous dance partnership to the stage. \nThis 2011 London West End musical\, based on the 1935 film of the same name\, tells the story of Broadway sensation Jerry Travers\, who dances his way across Europe to win the heart of society girl Dale Tremont. \nAn uplifting and entertaining romantic comedy celebrating 1930s song\, style and romance\, Top Hat features fourteen songs by Irving Berlin. \nThese include some of his greatest hits\, including “Cheek to Cheek\,” “Puttin’ on the Ritz” and “Let’s Face the Music and Dance.” A real Song and Dance extravaganza. \nThis is the North American Premiere Production! \nhttps://surflight.org/
URL:https://oceancountytourism.com/event/irving-berlins-top-hat-2/2025-06-14/
LOCATION:Surflight Theatre\, 201 Engleside Ave.\, Beach Haven\, NJ\, 08008\, United States
CATEGORIES:Theatre
ATTACH;FMTTYPE=image/png:https://oceancountytourism.com/wp-content/uploads/2025/01/top-hat.png
END:VEVENT
BEGIN:VEVENT
DTSTART;VALUE=DATE:20250608
DTEND;VALUE=DATE:20250609
DTSTAMP:20260424T042215
CREATED:20250430T183317Z
LAST-MODIFIED:20250430T183317Z
UID:10036048-1749340800-1749427199@oceancountytourism.com
SUMMARY:Lighthouse International Film Festival
DESCRIPTION:The Lighthouse International Film Festival is taking place from June 4th – June 8th in Long Beach Island!\nThey even have a Special Guest attending on\, Jason Alexander!\n\n\nThree Screening Venues:\nSurflight Theatre 201 Engleside Ave\, Beach Haven\nLBI Foundation of the Arts & Sciences 120 Long Beach Blvd\, Long Beach\nSurf City Firehouse 713 Long Beach Blvd\, Surf City\n\n\nGrab your tickets or passes at: https://www.lighthouseff.com/
URL:https://oceancountytourism.com/event/lighthouse-international-film-festival/2025-06-08/
LOCATION:NJ
CATEGORIES:Festivals & Family Fun,Theatre
ATTACH;FMTTYPE=image/jpeg:https://oceancountytourism.com/wp-content/uploads/2025/04/LIFF.jpg
END:VEVENT
BEGIN:VEVENT
DTSTART;TZID=America/New_York:20250510T193000
DTEND;TZID=America/New_York:20250510T193000
DTSTAMP:20260424T042215
CREATED:20250130T182333Z
LAST-MODIFIED:20250130T182333Z
UID:10034483-1746905400-1746905400@oceancountytourism.com
SUMMARY:Forever Motown
DESCRIPTION:May 10 at 5:00pm and 7:30pm \nThere will be Dancin’ in the streets as Forever Motown\, a spectacular musical extravaganza celebrating the timeless hits of one of the most influential music labels in history\, pays a return visit to The Surflight Theatre. \nForever Motown is an unmissable event for any fan of soul\, R&B\, and pop music. \nThe show features an ensemble of veteran musicians and vocalists\, including  Theo Peoples\, the only artist to be a member of both The Temptations and The Four Tops\, Glenn Leonard one of the only members from The Temptations who has performed and recorded with The Original Temptations and Traci Robinson\, former lead singer of The Marvelettes. \nThis talented group will take you on a nostalgic journey through Motown’s greatest hits\, delivering a powerful performance that will have you dancing and singing along. \nFrom Smokey Robinson to Marvin Gaye\, Diana Ross to Stevie Wonder\, The Temptations & The Four Tops. Forever Motown captures the essence and soul of the music that changed America. \n\nhttps://surflight.org/
URL:https://oceancountytourism.com/event/forever-motown/2025-05-10/2/
LOCATION:Surflight Theatre\, 201 Engleside Ave.\, Beach Haven\, NJ\, 08008\, United States
CATEGORIES:Theatre
ATTACH;FMTTYPE=image/jpeg:https://oceancountytourism.com/wp-content/uploads/2025/01/ForeverMotown-1-1-scaled.jpg
END:VEVENT
END:VCALENDAR