BEGIN:VCALENDAR
VERSION:2.0
PRODID:-//Ocean County Tourism - ECPv6.15.18//NONSGML v1.0//EN
CALSCALE:GREGORIAN
METHOD:PUBLISH
X-WR-CALNAME:Ocean County Tourism
X-ORIGINAL-URL:https://oceancountytourism.com
X-WR-CALDESC:Events for Ocean County Tourism
REFRESH-INTERVAL;VALUE=DURATION:PT1H
X-Robots-Tag:noindex
X-PUBLISHED-TTL:PT1H
BEGIN:VTIMEZONE
TZID:America/New_York
BEGIN:DAYLIGHT
TZOFFSETFROM:-0500
TZOFFSETTO:-0400
TZNAME:EDT
DTSTART:20250309T070000
END:DAYLIGHT
BEGIN:STANDARD
TZOFFSETFROM:-0400
TZOFFSETTO:-0500
TZNAME:EST
DTSTART:20251102T060000
END:STANDARD
BEGIN:DAYLIGHT
TZOFFSETFROM:-0500
TZOFFSETTO:-0400
TZNAME:EDT
DTSTART:20260308T070000
END:DAYLIGHT
BEGIN:STANDARD
TZOFFSETFROM:-0400
TZOFFSETTO:-0500
TZNAME:EST
DTSTART:20261101T060000
END:STANDARD
BEGIN:DAYLIGHT
TZOFFSETFROM:-0500
TZOFFSETTO:-0400
TZNAME:EDT
DTSTART:20270314T070000
END:DAYLIGHT
BEGIN:STANDARD
TZOFFSETFROM:-0400
TZOFFSETTO:-0500
TZNAME:EST
DTSTART:20271107T060000
END:STANDARD
END:VTIMEZONE
BEGIN:VEVENT
DTSTART;TZID=America/New_York:20261128T140000
DTEND;TZID=America/New_York:20261128T140000
DTSTAMP:20260425T202243
CREATED:20251218T170630Z
LAST-MODIFIED:20260217T144418Z
UID:10040257-1795874400-1795874400@oceancountytourism.com
SUMMARY:Holiday Inn
DESCRIPTION:Irving Berlin’s Holiday Inn tells the story of Jim\, who leaves the bright lights of show business behind to settle down on his farmhouse in Connecticut… \nbut life just isn’t the same without a bit of song and dance. Jim’s luck takes a spectacular turn when he meets Linda\, a spirited schoolteacher with talent to spare. \nTogether they turn the farmhouse into a fabulous inn with dazzling performances to celebrate each holiday\, from Thanksgiving to the Fourth of July. \nBased on the classic film\, this joyous musical features thrilling dance numbers\, laugh-out-loud comedy and a parade of hit Irving Berlin songs\, including “Blue Skies\,” “Easter Parade\,” “Steppin’ Out With My Baby\,” “Heat Wave\,” “White Christmas” and many more! \nhttps://surflight.org/ \ninfo@surflight.org \n609-492-9477
URL:https://oceancountytourism.com/event/holiday-inn/2026-11-28/
LOCATION:Surflight Theatre\, 201 Engleside Ave.\, Beach Haven\, NJ\, 08008\, United States
CATEGORIES:Theatre
ATTACH;FMTTYPE=image/png:https://oceancountytourism.com/wp-content/uploads/2025/12/holidayinnlogo1-edit.png
END:VEVENT
BEGIN:VEVENT
DTSTART;TZID=America/New_York:20261128T193000
DTEND;TZID=America/New_York:20261128T193000
DTSTAMP:20260425T202243
CREATED:20251218T170909Z
LAST-MODIFIED:20260217T153523Z
UID:10040271-1795894200-1795894200@oceancountytourism.com
SUMMARY:Holiday Inn
DESCRIPTION:Irving Berlin’s Holiday Inn tells the story of Jim\, who leaves the bright lights of show business behind to settle down on his farmhouse in Connecticut… \nbut life just isn’t the same without a bit of song and dance. Jim’s luck takes a spectacular turn when he meets Linda\, a spirited schoolteacher with talent to spare. \nTogether they turn the farmhouse into a fabulous inn with dazzling performances to celebrate each holiday\, from Thanksgiving to the Fourth of July. \nBased on the classic film\, this joyous musical features thrilling dance numbers\, laugh-out-loud comedy and a parade of hit Irving Berlin songs\, including \n“Blue Skies\,” “Easter Parade\,” “Steppin’ Out With My Baby\,” “Heat Wave\,” “White Christmas” and many more! \nhttps://surflight.org/ \ninfo@surflight.org \n609-492-9477 \n 
URL:https://oceancountytourism.com/event/holiday-inn-2/2026-11-28/
LOCATION:Surflight Theatre\, 201 Engleside Ave.\, Beach Haven\, NJ\, 08008\, United States
CATEGORIES:Theatre
ATTACH;FMTTYPE=image/png:https://oceancountytourism.com/wp-content/uploads/2025/12/holidayinnlogo1-edit.png
END:VEVENT
END:VCALENDAR