BEGIN:VCALENDAR
VERSION:2.0
PRODID:-//Ocean County Tourism - ECPv6.15.18//NONSGML v1.0//EN
CALSCALE:GREGORIAN
METHOD:PUBLISH
X-WR-CALNAME:Ocean County Tourism
X-ORIGINAL-URL:https://oceancountytourism.com
X-WR-CALDESC:Events for Ocean County Tourism
REFRESH-INTERVAL;VALUE=DURATION:PT1H
X-Robots-Tag:noindex
X-PUBLISHED-TTL:PT1H
BEGIN:VTIMEZONE
TZID:America/New_York
BEGIN:DAYLIGHT
TZOFFSETFROM:-0500
TZOFFSETTO:-0400
TZNAME:EDT
DTSTART:20250309T070000
END:DAYLIGHT
BEGIN:STANDARD
TZOFFSETFROM:-0400
TZOFFSETTO:-0500
TZNAME:EST
DTSTART:20251102T060000
END:STANDARD
BEGIN:DAYLIGHT
TZOFFSETFROM:-0500
TZOFFSETTO:-0400
TZNAME:EDT
DTSTART:20260308T070000
END:DAYLIGHT
BEGIN:STANDARD
TZOFFSETFROM:-0400
TZOFFSETTO:-0500
TZNAME:EST
DTSTART:20261101T060000
END:STANDARD
BEGIN:DAYLIGHT
TZOFFSETFROM:-0500
TZOFFSETTO:-0400
TZNAME:EDT
DTSTART:20270314T070000
END:DAYLIGHT
BEGIN:STANDARD
TZOFFSETFROM:-0400
TZOFFSETTO:-0500
TZNAME:EST
DTSTART:20271107T060000
END:STANDARD
END:VTIMEZONE
BEGIN:VEVENT
DTSTART;TZID=America/New_York:20260810T180000
DTEND;TZID=America/New_York:20260810T180000
DTSTAMP:20260425T140328
CREATED:20251218T155433Z
LAST-MODIFIED:20251218T155433Z
UID:10040198-1786384800-1786384800@oceancountytourism.com
SUMMARY:Taylor Mason - Family Comedy Night
DESCRIPTION:Taylor Mason brings his one-of-a-kind persona to Surflight. \nTaylor is a ventriloquist\, musician\, comedy magician and stand-up comedian who blends observational humor\, keen musicianship and state-of-the-art ventriloquism. \nTaylor Mason will present a positive\, hilarious\, unforgettable program that connects people thru those things that bond us: \nlaughter\, music\, magic and the shared experience of something special\, something original\, and something unforgettable. \nThe audience will not be mere spectators; rather they will participate in an interactive experience that will entertain all\, from young children to parents and grandparents. \nhttps://surflight.org/ \ninfo@surflight.org \n609-492-9477
URL:https://oceancountytourism.com/event/taylor-mason-family-comedy-night/
LOCATION:Surflight Theatre\, 201 Engleside Ave.\, Beach Haven\, NJ\, 08008\, United States
CATEGORIES:Live Entertainment,Theatre
ATTACH;FMTTYPE=image/jpeg:https://oceancountytourism.com/wp-content/uploads/2025/12/family-comedy-002.jpeg
END:VEVENT
BEGIN:VEVENT
DTSTART;TZID=America/New_York:20260810T203000
DTEND;TZID=America/New_York:20260810T203000
DTSTAMP:20260425T140328
CREATED:20251218T155202Z
LAST-MODIFIED:20251218T155202Z
UID:10040197-1786393800-1786393800@oceancountytourism.com
SUMMARY:Mike Marino
DESCRIPTION:Affectionately known to millions of his fans worldwide as New Jersey’s Bad Boy – is one of the most loved comedians of our time. \nHe has performed in every major comedy club\, theatre\, casino and event center from New York to Los Angeles and around the world. \nMike has also shared the stage with some of the biggest names in the business. \nhttps://surflight.org/ \ninfo@surflight.org \n609-492-9477
URL:https://oceancountytourism.com/event/mike-marino-3/
LOCATION:Surflight Theatre\, 201 Engleside Ave.\, Beach Haven\, NJ\, 08008\, United States
CATEGORIES:Live Entertainment,Theatre
ATTACH;FMTTYPE=image/jpeg:https://oceancountytourism.com/wp-content/uploads/2025/12/marino21-002.jpg
END:VEVENT
END:VCALENDAR