BEGIN:VCALENDAR
VERSION:2.0
PRODID:-//Ocean County Tourism - ECPv6.15.18//NONSGML v1.0//EN
CALSCALE:GREGORIAN
METHOD:PUBLISH
X-WR-CALNAME:Ocean County Tourism
X-ORIGINAL-URL:https://oceancountytourism.com
X-WR-CALDESC:Events for Ocean County Tourism
REFRESH-INTERVAL;VALUE=DURATION:PT1H
X-Robots-Tag:noindex
X-PUBLISHED-TTL:PT1H
BEGIN:VTIMEZONE
TZID:America/New_York
BEGIN:DAYLIGHT
TZOFFSETFROM:-0500
TZOFFSETTO:-0400
TZNAME:EDT
DTSTART:20250309T070000
END:DAYLIGHT
BEGIN:STANDARD
TZOFFSETFROM:-0400
TZOFFSETTO:-0500
TZNAME:EST
DTSTART:20251102T060000
END:STANDARD
BEGIN:DAYLIGHT
TZOFFSETFROM:-0500
TZOFFSETTO:-0400
TZNAME:EDT
DTSTART:20260308T070000
END:DAYLIGHT
BEGIN:STANDARD
TZOFFSETFROM:-0400
TZOFFSETTO:-0500
TZNAME:EST
DTSTART:20261101T060000
END:STANDARD
BEGIN:DAYLIGHT
TZOFFSETFROM:-0500
TZOFFSETTO:-0400
TZNAME:EDT
DTSTART:20270314T070000
END:DAYLIGHT
BEGIN:STANDARD
TZOFFSETFROM:-0400
TZOFFSETTO:-0500
TZNAME:EST
DTSTART:20271107T060000
END:STANDARD
END:VTIMEZONE
BEGIN:VEVENT
DTSTART;TZID=America/New_York:20261001T140000
DTEND;TZID=America/New_York:20261001T140000
DTSTAMP:20260423T233220
CREATED:20251218T172825Z
LAST-MODIFIED:20260217T172630Z
UID:10040318-1790863200-1790863200@oceancountytourism.com
SUMMARY:Vanities: The Musical
DESCRIPTION:  \nVanities: The Musical chronicles the life-affirming journey of three vivacious Texas teens from cheerleaders to sorority sisters to housewives to liberated women and beyond. \nThis musical captures a snapshot-sharp portrait of the lives\, loves\, disappointments\, and dreams of these young women growing up during the turbulent sixties and seventies and reconnecting in the late 1980s. \nWith a tunefully evocative score by David Kirshenbaum (Summer of ’42) and Jack Heifner’s hilarious adaptation of his long-running Off-Broadway smash\, \nVanities: The Musical is a funny and poignant look at three best friends who discover that\, through thirty years of rapidly changing times\, the one thing they can rely on is each other. \nhttps://surflight.org/ \ninfo@surflight.org \n609-492-9477
URL:https://oceancountytourism.com/event/vanities-the-musical/2026-10-01/
LOCATION:Surflight Theatre\, 201 Engleside Ave.\, Beach Haven\, NJ\, 08008\, United States
CATEGORIES:Theatre
ATTACH;FMTTYPE=image/png:https://oceancountytourism.com/wp-content/uploads/2025/12/Vanities-The-Musical.png
END:VEVENT
BEGIN:VEVENT
DTSTART;TZID=America/New_York:20261001T193000
DTEND;TZID=America/New_York:20261001T193000
DTSTAMP:20260423T233220
CREATED:20251218T173045Z
LAST-MODIFIED:20260217T172933Z
UID:10040323-1790883000-1790883000@oceancountytourism.com
SUMMARY:Vanities: The Musical
DESCRIPTION:Vanities: The Musical chronicles the life-affirming journey of three vivacious Texas teens from cheerleaders to sorority sisters to housewives to liberated women and beyond. This musical captures a snapshot-sharp portrait of the lives\, loves\, disappointments\, and dreams of these young women growing up during the turbulent sixties and seventies and reconnecting in the late 1980s. With a tunefully evocative score by David Kirshenbaum (Summer of ’42) and Jack Heifner’s hilarious adaptation of his long-running Off-Broadway smash\, Vanities: The Musical is a funny and poignant look at three best friends who discover that\, through thirty years of rapidly changing times\, the one thing they can rely on is each other. \nhttps://surflight.org/ \ninfo@surflight.org \n609-492-9477
URL:https://oceancountytourism.com/event/vanities-the-musical-2/2026-10-01/
LOCATION:Surflight Theatre\, 201 Engleside Ave.\, Beach Haven\, NJ\, 08008\, United States
CATEGORIES:Theatre
ATTACH;FMTTYPE=image/png:https://oceancountytourism.com/wp-content/uploads/2025/12/Vanities-The-Musical.png
END:VEVENT
BEGIN:VEVENT
DTSTART;TZID=America/New_York:20261002T193000
DTEND;TZID=America/New_York:20261002T193000
DTSTAMP:20260423T233220
CREATED:20251218T173045Z
LAST-MODIFIED:20260217T172933Z
UID:10040324-1790969400-1790969400@oceancountytourism.com
SUMMARY:Vanities: The Musical
DESCRIPTION:Vanities: The Musical chronicles the life-affirming journey of three vivacious Texas teens from cheerleaders to sorority sisters to housewives to liberated women and beyond. This musical captures a snapshot-sharp portrait of the lives\, loves\, disappointments\, and dreams of these young women growing up during the turbulent sixties and seventies and reconnecting in the late 1980s. With a tunefully evocative score by David Kirshenbaum (Summer of ’42) and Jack Heifner’s hilarious adaptation of his long-running Off-Broadway smash\, Vanities: The Musical is a funny and poignant look at three best friends who discover that\, through thirty years of rapidly changing times\, the one thing they can rely on is each other. \nhttps://surflight.org/ \ninfo@surflight.org \n609-492-9477
URL:https://oceancountytourism.com/event/vanities-the-musical-2/2026-10-02/
LOCATION:Surflight Theatre\, 201 Engleside Ave.\, Beach Haven\, NJ\, 08008\, United States
CATEGORIES:Theatre
ATTACH;FMTTYPE=image/png:https://oceancountytourism.com/wp-content/uploads/2025/12/Vanities-The-Musical.png
END:VEVENT
BEGIN:VEVENT
DTSTART;TZID=America/New_York:20261003T193000
DTEND;TZID=America/New_York:20261003T193000
DTSTAMP:20260423T233220
CREATED:20251218T173045Z
LAST-MODIFIED:20260217T172933Z
UID:10040325-1791055800-1791055800@oceancountytourism.com
SUMMARY:Vanities: The Musical
DESCRIPTION:Vanities: The Musical chronicles the life-affirming journey of three vivacious Texas teens from cheerleaders to sorority sisters to housewives to liberated women and beyond. This musical captures a snapshot-sharp portrait of the lives\, loves\, disappointments\, and dreams of these young women growing up during the turbulent sixties and seventies and reconnecting in the late 1980s. With a tunefully evocative score by David Kirshenbaum (Summer of ’42) and Jack Heifner’s hilarious adaptation of his long-running Off-Broadway smash\, Vanities: The Musical is a funny and poignant look at three best friends who discover that\, through thirty years of rapidly changing times\, the one thing they can rely on is each other. \nhttps://surflight.org/ \ninfo@surflight.org \n609-492-9477
URL:https://oceancountytourism.com/event/vanities-the-musical-2/2026-10-03/
LOCATION:Surflight Theatre\, 201 Engleside Ave.\, Beach Haven\, NJ\, 08008\, United States
CATEGORIES:Theatre
ATTACH;FMTTYPE=image/png:https://oceancountytourism.com/wp-content/uploads/2025/12/Vanities-The-Musical.png
END:VEVENT
BEGIN:VEVENT
DTSTART;TZID=America/New_York:20261004T140000
DTEND;TZID=America/New_York:20261004T140000
DTSTAMP:20260423T233220
CREATED:20251218T172825Z
LAST-MODIFIED:20260217T172630Z
UID:10040319-1791122400-1791122400@oceancountytourism.com
SUMMARY:Vanities: The Musical
DESCRIPTION:  \nVanities: The Musical chronicles the life-affirming journey of three vivacious Texas teens from cheerleaders to sorority sisters to housewives to liberated women and beyond. \nThis musical captures a snapshot-sharp portrait of the lives\, loves\, disappointments\, and dreams of these young women growing up during the turbulent sixties and seventies and reconnecting in the late 1980s. \nWith a tunefully evocative score by David Kirshenbaum (Summer of ’42) and Jack Heifner’s hilarious adaptation of his long-running Off-Broadway smash\, \nVanities: The Musical is a funny and poignant look at three best friends who discover that\, through thirty years of rapidly changing times\, the one thing they can rely on is each other. \nhttps://surflight.org/ \ninfo@surflight.org \n609-492-9477
URL:https://oceancountytourism.com/event/vanities-the-musical/2026-10-04/
LOCATION:Surflight Theatre\, 201 Engleside Ave.\, Beach Haven\, NJ\, 08008\, United States
CATEGORIES:Theatre
ATTACH;FMTTYPE=image/png:https://oceancountytourism.com/wp-content/uploads/2025/12/Vanities-The-Musical.png
END:VEVENT
BEGIN:VEVENT
DTSTART;TZID=America/New_York:20261007T140000
DTEND;TZID=America/New_York:20261007T140000
DTSTAMP:20260423T233220
CREATED:20251218T171254Z
LAST-MODIFIED:20260217T171344Z
UID:10040278-1791381600-1791381600@oceancountytourism.com
SUMMARY:Deceived
DESCRIPTION:Deceived\, based on the original play Gaslight\, is a psychological thriller that will leave audiences on the edge of their seat. \nA suspense-filled storyline\, Deceived delves into the depths of manipulation\, deception\, and paranoia as it delivers a chilling outcome that you won’t soon forget. \nBella Manningham thinks she’s losing her mind. \nIn the evenings\, she hears strange sounds and the gaslights dim for no apparent reason. \nBut is she losing her grip on reason\, or is it being loosened for her? Will the gaslight have its intended\, murderous\, effect? \nhttps://surflight.org/ \ninfo@surflight.org \n609-492-9477
URL:https://oceancountytourism.com/event/deceived/2026-10-07/1/
LOCATION:Surflight Theatre\, 201 Engleside Ave.\, Beach Haven\, NJ\, 08008\, United States
CATEGORIES:Theatre
ATTACH;FMTTYPE=image/png:https://oceancountytourism.com/wp-content/uploads/2025/12/Deceived-Logo-Square.png
END:VEVENT
BEGIN:VEVENT
DTSTART;TZID=America/New_York:20261007T193000
DTEND;TZID=America/New_York:20261007T193000
DTSTAMP:20260423T233220
CREATED:20251218T171254Z
LAST-MODIFIED:20260217T171344Z
UID:10040279-1791401400-1791401400@oceancountytourism.com
SUMMARY:Deceived
DESCRIPTION:Deceived\, based on the original play Gaslight\, is a psychological thriller that will leave audiences on the edge of their seat. \nA suspense-filled storyline\, Deceived delves into the depths of manipulation\, deception\, and paranoia as it delivers a chilling outcome that you won’t soon forget. \nBella Manningham thinks she’s losing her mind. \nIn the evenings\, she hears strange sounds and the gaslights dim for no apparent reason. \nBut is she losing her grip on reason\, or is it being loosened for her? Will the gaslight have its intended\, murderous\, effect? \nhttps://surflight.org/ \ninfo@surflight.org \n609-492-9477
URL:https://oceancountytourism.com/event/deceived/2026-10-07/2/
LOCATION:Surflight Theatre\, 201 Engleside Ave.\, Beach Haven\, NJ\, 08008\, United States
CATEGORIES:Theatre
ATTACH;FMTTYPE=image/png:https://oceancountytourism.com/wp-content/uploads/2025/12/Deceived-Logo-Square.png
END:VEVENT
BEGIN:VEVENT
DTSTART;TZID=America/New_York:20261008T140000
DTEND;TZID=America/New_York:20261008T140000
DTSTAMP:20260423T233220
CREATED:20251218T171254Z
LAST-MODIFIED:20260217T171344Z
UID:10040280-1791468000-1791468000@oceancountytourism.com
SUMMARY:Deceived
DESCRIPTION:Deceived\, based on the original play Gaslight\, is a psychological thriller that will leave audiences on the edge of their seat. \nA suspense-filled storyline\, Deceived delves into the depths of manipulation\, deception\, and paranoia as it delivers a chilling outcome that you won’t soon forget. \nBella Manningham thinks she’s losing her mind. \nIn the evenings\, she hears strange sounds and the gaslights dim for no apparent reason. \nBut is she losing her grip on reason\, or is it being loosened for her? Will the gaslight have its intended\, murderous\, effect? \nhttps://surflight.org/ \ninfo@surflight.org \n609-492-9477
URL:https://oceancountytourism.com/event/deceived/2026-10-08/1/
LOCATION:Surflight Theatre\, 201 Engleside Ave.\, Beach Haven\, NJ\, 08008\, United States
CATEGORIES:Theatre
ATTACH;FMTTYPE=image/png:https://oceancountytourism.com/wp-content/uploads/2025/12/Deceived-Logo-Square.png
END:VEVENT
BEGIN:VEVENT
DTSTART;TZID=America/New_York:20261008T193000
DTEND;TZID=America/New_York:20261008T193000
DTSTAMP:20260423T233220
CREATED:20251218T171254Z
LAST-MODIFIED:20260217T171344Z
UID:10040281-1791487800-1791487800@oceancountytourism.com
SUMMARY:Deceived
DESCRIPTION:Deceived\, based on the original play Gaslight\, is a psychological thriller that will leave audiences on the edge of their seat. \nA suspense-filled storyline\, Deceived delves into the depths of manipulation\, deception\, and paranoia as it delivers a chilling outcome that you won’t soon forget. \nBella Manningham thinks she’s losing her mind. \nIn the evenings\, she hears strange sounds and the gaslights dim for no apparent reason. \nBut is she losing her grip on reason\, or is it being loosened for her? Will the gaslight have its intended\, murderous\, effect? \nhttps://surflight.org/ \ninfo@surflight.org \n609-492-9477
URL:https://oceancountytourism.com/event/deceived/2026-10-08/2/
LOCATION:Surflight Theatre\, 201 Engleside Ave.\, Beach Haven\, NJ\, 08008\, United States
CATEGORIES:Theatre
ATTACH;FMTTYPE=image/png:https://oceancountytourism.com/wp-content/uploads/2025/12/Deceived-Logo-Square.png
END:VEVENT
BEGIN:VEVENT
DTSTART;TZID=America/New_York:20261009T193000
DTEND;TZID=America/New_York:20261009T193000
DTSTAMP:20260423T233220
CREATED:20251218T171254Z
LAST-MODIFIED:20260217T171344Z
UID:10040282-1791574200-1791574200@oceancountytourism.com
SUMMARY:Deceived
DESCRIPTION:Deceived\, based on the original play Gaslight\, is a psychological thriller that will leave audiences on the edge of their seat. \nA suspense-filled storyline\, Deceived delves into the depths of manipulation\, deception\, and paranoia as it delivers a chilling outcome that you won’t soon forget. \nBella Manningham thinks she’s losing her mind. \nIn the evenings\, she hears strange sounds and the gaslights dim for no apparent reason. \nBut is she losing her grip on reason\, or is it being loosened for her? Will the gaslight have its intended\, murderous\, effect? \nhttps://surflight.org/ \ninfo@surflight.org \n609-492-9477
URL:https://oceancountytourism.com/event/deceived/2026-10-09/
LOCATION:Surflight Theatre\, 201 Engleside Ave.\, Beach Haven\, NJ\, 08008\, United States
CATEGORIES:Theatre
ATTACH;FMTTYPE=image/png:https://oceancountytourism.com/wp-content/uploads/2025/12/Deceived-Logo-Square.png
END:VEVENT
BEGIN:VEVENT
DTSTART;TZID=America/New_York:20261010T193000
DTEND;TZID=America/New_York:20261010T193000
DTSTAMP:20260423T233220
CREATED:20251218T171254Z
LAST-MODIFIED:20260217T171344Z
UID:10040283-1791660600-1791660600@oceancountytourism.com
SUMMARY:Deceived
DESCRIPTION:Deceived\, based on the original play Gaslight\, is a psychological thriller that will leave audiences on the edge of their seat. \nA suspense-filled storyline\, Deceived delves into the depths of manipulation\, deception\, and paranoia as it delivers a chilling outcome that you won’t soon forget. \nBella Manningham thinks she’s losing her mind. \nIn the evenings\, she hears strange sounds and the gaslights dim for no apparent reason. \nBut is she losing her grip on reason\, or is it being loosened for her? Will the gaslight have its intended\, murderous\, effect? \nhttps://surflight.org/ \ninfo@surflight.org \n609-492-9477
URL:https://oceancountytourism.com/event/deceived/2026-10-10/
LOCATION:Surflight Theatre\, 201 Engleside Ave.\, Beach Haven\, NJ\, 08008\, United States
CATEGORIES:Theatre
ATTACH;FMTTYPE=image/png:https://oceancountytourism.com/wp-content/uploads/2025/12/Deceived-Logo-Square.png
END:VEVENT
BEGIN:VEVENT
DTSTART;TZID=America/New_York:20261011T140000
DTEND;TZID=America/New_York:20261011T140000
DTSTAMP:20260423T233220
CREATED:20251218T171254Z
LAST-MODIFIED:20260217T171344Z
UID:10040284-1791727200-1791727200@oceancountytourism.com
SUMMARY:Deceived
DESCRIPTION:Deceived\, based on the original play Gaslight\, is a psychological thriller that will leave audiences on the edge of their seat. \nA suspense-filled storyline\, Deceived delves into the depths of manipulation\, deception\, and paranoia as it delivers a chilling outcome that you won’t soon forget. \nBella Manningham thinks she’s losing her mind. \nIn the evenings\, she hears strange sounds and the gaslights dim for no apparent reason. \nBut is she losing her grip on reason\, or is it being loosened for her? Will the gaslight have its intended\, murderous\, effect? \nhttps://surflight.org/ \ninfo@surflight.org \n609-492-9477
URL:https://oceancountytourism.com/event/deceived/2026-10-11/
LOCATION:Surflight Theatre\, 201 Engleside Ave.\, Beach Haven\, NJ\, 08008\, United States
CATEGORIES:Theatre
ATTACH;FMTTYPE=image/png:https://oceancountytourism.com/wp-content/uploads/2025/12/Deceived-Logo-Square.png
END:VEVENT
END:VCALENDAR