BEGIN:VCALENDAR
VERSION:2.0
PRODID:-//Ocean County Tourism - ECPv6.15.18//NONSGML v1.0//EN
CALSCALE:GREGORIAN
METHOD:PUBLISH
X-ORIGINAL-URL:https://oceancountytourism.com
X-WR-CALDESC:Events for Ocean County Tourism
REFRESH-INTERVAL;VALUE=DURATION:PT1H
X-Robots-Tag:noindex
X-PUBLISHED-TTL:PT1H
BEGIN:VTIMEZONE
TZID:America/New_York
BEGIN:DAYLIGHT
TZOFFSETFROM:-0500
TZOFFSETTO:-0400
TZNAME:EDT
DTSTART:20240310T070000
END:DAYLIGHT
BEGIN:STANDARD
TZOFFSETFROM:-0400
TZOFFSETTO:-0500
TZNAME:EST
DTSTART:20241103T060000
END:STANDARD
BEGIN:DAYLIGHT
TZOFFSETFROM:-0500
TZOFFSETTO:-0400
TZNAME:EDT
DTSTART:20250309T070000
END:DAYLIGHT
BEGIN:STANDARD
TZOFFSETFROM:-0400
TZOFFSETTO:-0500
TZNAME:EST
DTSTART:20251102T060000
END:STANDARD
BEGIN:DAYLIGHT
TZOFFSETFROM:-0500
TZOFFSETTO:-0400
TZNAME:EDT
DTSTART:20260308T070000
END:DAYLIGHT
BEGIN:STANDARD
TZOFFSETFROM:-0400
TZOFFSETTO:-0500
TZNAME:EST
DTSTART:20261101T060000
END:STANDARD
END:VTIMEZONE
BEGIN:VEVENT
DTSTART;TZID=America/New_York:20251108T173000
DTEND;TZID=America/New_York:20251108T193000
DTSTAMP:20260422T053147
CREATED:20251009T191652Z
LAST-MODIFIED:20251009T191652Z
UID:10039600-1762623000-1762630200@oceancountytourism.com
SUMMARY:Wine Tasting
DESCRIPTION:
URL:https://oceancountytourism.com/event/wine-tasting/
LOCATION:High Point Firehouse\, 10 W 80th St\, Harvey Cedars\, NJ\, 08008\, United States
CATEGORIES:Food,Tastings & Local Fresh
ATTACH;FMTTYPE=image/jpeg:https://oceancountytourism.com/wp-content/uploads/2025/10/556830560_1323786486217446_3733627879857485033_n.jpg
ORGANIZER;CN="Harvey Cedars Activity Committee":MAILTO:events@harveycedars.org
END:VEVENT
BEGIN:VEVENT
DTSTART;TZID=America/New_York:20251121T090000
DTEND;TZID=America/New_York:20251121T120000
DTSTAMP:20260422T053147
CREATED:20250321T183101Z
LAST-MODIFIED:20250321T183101Z
UID:10035424-1763715600-1763726400@oceancountytourism.com
SUMMARY:Tuckerton Farmers Market
DESCRIPTION:
URL:https://oceancountytourism.com/event/tuckerton-farmers-market-2/2025-11-21/
LOCATION:The Union Market & Gallery\, 120 W Main Street\, Tuckerton\, NJ\, 08087\, United States
CATEGORIES:Tastings & Local Fresh
ATTACH;FMTTYPE=image/jpeg:https://oceancountytourism.com/wp-content/uploads/2025/03/480712933_10236153357517962_8386821257732994793_n.jpg
END:VEVENT
BEGIN:VEVENT
DTSTART;TZID=America/New_York:20251122T083000
DTEND;TZID=America/New_York:20251122T133000
DTSTAMP:20260422T053147
CREATED:20251114T151107Z
LAST-MODIFIED:20251114T151107Z
UID:10039840-1763800200-1763818200@oceancountytourism.com
SUMMARY:Brick Thanksgiving Farmers Market
DESCRIPTION:
URL:https://oceancountytourism.com/event/brick-thanksgiving-farmers-market/
LOCATION:Windward Beach Park\, 265 Princeton Ave\, Brick\, NJ\, 08724\, United States
CATEGORIES:Tastings & Local Fresh
ATTACH;FMTTYPE=image/jpeg:https://oceancountytourism.com/wp-content/uploads/2025/11/577043943_1274801874682342_434231078271792532_n.jpg
END:VEVENT
BEGIN:VEVENT
DTSTART;TZID=America/New_York:20251123T090000
DTEND;TZID=America/New_York:20251123T130000
DTSTAMP:20260422T053147
CREATED:20250421T133404Z
LAST-MODIFIED:20250421T133404Z
UID:10035965-1763888400-1763902800@oceancountytourism.com
SUMMARY:Barnegat Farmers Market
DESCRIPTION:
URL:https://oceancountytourism.com/event/barnegat-farmers-market-4/2025-11-23/
LOCATION:Birdsall Street\, 14 Birdsall Street\, Barnegat\, 08005\, United States
CATEGORIES:Tastings & Local Fresh
ATTACH;FMTTYPE=image/jpeg:https://oceancountytourism.com/wp-content/uploads/2025/04/492491771_983351190652238_4500071404707793131_n.jpg
END:VEVENT
END:VCALENDAR