BEGIN:VCALENDAR
VERSION:2.0
PRODID:-//Ocean County Tourism - ECPv6.15.18//NONSGML v1.0//EN
CALSCALE:GREGORIAN
METHOD:PUBLISH
X-ORIGINAL-URL:https://oceancountytourism.com
X-WR-CALDESC:Events for Ocean County Tourism
REFRESH-INTERVAL;VALUE=DURATION:PT1H
X-Robots-Tag:noindex
X-PUBLISHED-TTL:PT1H
BEGIN:VTIMEZONE
TZID:America/New_York
BEGIN:DAYLIGHT
TZOFFSETFROM:-0500
TZOFFSETTO:-0400
TZNAME:EDT
DTSTART:20240310T070000
END:DAYLIGHT
BEGIN:STANDARD
TZOFFSETFROM:-0400
TZOFFSETTO:-0500
TZNAME:EST
DTSTART:20241103T060000
END:STANDARD
BEGIN:DAYLIGHT
TZOFFSETFROM:-0500
TZOFFSETTO:-0400
TZNAME:EDT
DTSTART:20250309T070000
END:DAYLIGHT
BEGIN:STANDARD
TZOFFSETFROM:-0400
TZOFFSETTO:-0500
TZNAME:EST
DTSTART:20251102T060000
END:STANDARD
BEGIN:DAYLIGHT
TZOFFSETFROM:-0500
TZOFFSETTO:-0400
TZNAME:EDT
DTSTART:20260308T070000
END:DAYLIGHT
BEGIN:STANDARD
TZOFFSETFROM:-0400
TZOFFSETTO:-0500
TZNAME:EST
DTSTART:20261101T060000
END:STANDARD
END:VTIMEZONE
BEGIN:VEVENT
DTSTART;TZID=America/New_York:20250907T090000
DTEND;TZID=America/New_York:20250907T090000
DTSTAMP:20260419T120513
CREATED:20250822T140206Z
LAST-MODIFIED:20250822T140206Z
UID:10038734-1757235600-1757235600@oceancountytourism.com
SUMMARY:Yoga at Popcorn Park Animal Refuge
DESCRIPTION:$20 includes:\nYOGA for an hour in the zoo\nAccess to the refuge after yoga\nThis event will be held outside so please dress accordingly. Event is weather permitting please keep an eye on your email the night before!\n\n\nRegister here: https://thisisyoganj.punchpass.com/classes/18111033
URL:https://oceancountytourism.com/event/yoga-at-popcorn-park-animal-refuge/
LOCATION:Popcorn Park Animal Refuge\, 1 Humane Way\, Forked River\, NJ\, 08731\, United States
CATEGORIES:Nature
ATTACH;FMTTYPE=image/jpeg:https://oceancountytourism.com/wp-content/uploads/2025/08/534328160_1170130065139395_5922841689710390119_n.jpg
ORGANIZER;CN="This is Yoga NJ":MAILTO:ThisIsYogaNJ@gmail.com
END:VEVENT
BEGIN:VEVENT
DTSTART;TZID=America/New_York:20250908T100000
DTEND;TZID=America/New_York:20250908T120000
DTSTAMP:20260419T120513
CREATED:20250210T174535Z
LAST-MODIFIED:20250210T174535Z
UID:10034679-1757325600-1757332800@oceancountytourism.com
SUMMARY:“Ask a Rutgers Master Gardener”
DESCRIPTION:STAFFORD TOWNSHIP – All ready for spring planting? Set up your garden with free help from trained professionals. “Ask a Rutgers Master Gardener” at the Ocean County Library Stafford Branch\, beginning at 10 AM Monday\, March 10. \n\nRutgers Master Gardeners of Ocean County will be available from 10 AM until 12 noon every second and fourth Monday of each month through November 10\, excluding Memorial Day. \n\nDiagnostic clinics will take place March 10\, March 24\, April 14\, April 28\, May 12\, May 19\, June 9\, June 23\, July 14\, July 28\, August 11\, August 25\, September 8\, September 22\, October 13\, October 27 and November 10. \n\nThey’re ready to answer any and all questions to help you create a healthy\, robust garden. Bring photos or specimens of insects\, plants\, shrubs and trees for identification\, diagnosis and recommendations. \n\nRutgers Master Gardeners are trained\, certified volunteers who help Rutgers Cooperative Extension staffers in providing research-based information on sustainable horticultural practices to Ocean County residents. \n  \nThe clinics are free and open to the public. No registration is required. For more information\, stop by the OCL Stafford Branch\, 129 North Main Street\, Manahawkin\, or call (609) 597-3381. See the schedule and the full list of Library programs in the online Calendar of Events. \n\nOCL turns 100 this year and you’re why we’re celebrating! See details on Facebook\, Instagram\, X\, YouTube\, Spotify\, Pinterest and https://theoceancountylibrary.org. \n  \n 
URL:https://oceancountytourism.com/event/ask-a-rutgers-master-gardener/2025-09-08/
LOCATION:Ocean County Library Stafford Branch\, 129 N. Main Street\, Manahawkin\, NJ\, 08050\, United States
CATEGORIES:Nature
ATTACH;FMTTYPE=image/jpeg:https://oceancountytourism.com/wp-content/uploads/2025/02/library.jpg
END:VEVENT
BEGIN:VEVENT
DTSTART;TZID=America/New_York:20250913T090000
DTEND;TZID=America/New_York:20250913T100000
DTSTAMP:20260419T120513
CREATED:20250902T162444Z
LAST-MODIFIED:20250902T162444Z
UID:10038926-1757754000-1757757600@oceancountytourism.com
SUMMARY:Penguins & Pajamas
DESCRIPTION:Waddle your way into a wonderful morning with our favorite flightless friends! \nPut on your favorite pair of pajamas and join us in learning all about penguins through storytelling\, a craft\, and a special Meet & Greet with one of our African penguins! \nThis does include all day admission\, along with a before-hours Aquarium visit. \nThis program is open to children of all ages. \n$25 Adults (12 years and up) / $25 Children (Ages 3-11) / Children 2 & Under are FREE. \nPre-Registration is required. Please visit our website to register. \nhttps://jenkinsons.com/aquarium/event/penguins-pajamas/ \neducation@jenkinsons.com \n732-899-1212
URL:https://oceancountytourism.com/event/penguins-pajamas-2/
LOCATION:Jenkinson’s Aquarium\, 300 Ocean Ave\, Point Pleasant Beach\, NJ\, 08742\, United States
CATEGORIES:Festivals & Family Fun,Nature
ATTACH;FMTTYPE=image/png:https://oceancountytourism.com/wp-content/uploads/2025/09/Penguins-Pajamas-fb-post-not-dated-1.png
END:VEVENT
BEGIN:VEVENT
DTSTART;TZID=America/New_York:20250920T090000
DTEND;TZID=America/New_York:20250920T100000
DTSTAMP:20260419T120513
CREATED:20250902T180635Z
LAST-MODIFIED:20250902T180635Z
UID:10038930-1758358800-1758362400@oceancountytourism.com
SUMMARY:Sensory Saturday
DESCRIPTION:Guests with autism spectrum disorder\, sensory processing or cognitive challenges\, as well as guests requiring assistance for disabilities are invited \nto explore the aquarium before we open to the public. \nTo create a sensory friendly environment there will be a decreased noise level\, limited visual stimulation and less crowding. \nGeneral admission applies. \nhttps://jenkinsons.com/aquarium/event/sensory-saturday-8/ \ninformation@jenkinsons.com \n732-899-1212
URL:https://oceancountytourism.com/event/sensory-saturday/
LOCATION:Jenkinson’s Aquarium\, 300 Ocean Ave\, Point Pleasant Beach\, NJ\, 08742\, United States
CATEGORIES:Festivals & Family Fun,Nature
ATTACH;FMTTYPE=image/png:https://oceancountytourism.com/wp-content/uploads/2025/09/Sensory-Saturdays-800-x-800-px-1.png
END:VEVENT
BEGIN:VEVENT
DTSTART;TZID=America/New_York:20250921T083000
DTEND;TZID=America/New_York:20250921T113000
DTSTAMP:20260419T120513
CREATED:20250902T182356Z
LAST-MODIFIED:20250902T182356Z
UID:10038933-1758443400-1758454200@oceancountytourism.com
SUMMARY:Junior Keepers
DESCRIPTION:This is a great program for those future marine biologists! \nCome experience the aquarium from an employee’s point of view. \nLearn how to provide animal care including training\, enrichment\, and feeding for a variety of animals. \nYou’ll go behind the scenes\, meet live animals\, and talk with our care staff. \nPre-registration & sneakers are required. \nAges 7-11 years. $100 per Child. \nPlease visit our website to pre-register. \nhttps://jenkinsons.com/aquarium/event/junior-keepers-7-11-years-old-5/ \neducation@jenkinsons.com \n732-899-1212
URL:https://oceancountytourism.com/event/junior-keepers-2/
LOCATION:Jenkinson’s Aquarium\, 300 Ocean Ave\, Point Pleasant Beach\, NJ\, 08742\, United States
CATEGORIES:Festivals & Family Fun,Nature
ATTACH;FMTTYPE=image/png:https://oceancountytourism.com/wp-content/uploads/2025/09/28565-JuniorKeepers-Logo-scaled.png
END:VEVENT
BEGIN:VEVENT
DTSTART;TZID=America/New_York:20250921T100000
DTEND;TZID=America/New_York:20250921T100000
DTSTAMP:20260419T120513
CREATED:20250820T130401Z
LAST-MODIFIED:20250820T130401Z
UID:10038707-1758448800-1758448800@oceancountytourism.com
SUMMARY:Fall Garden Day: Going Native in Ocean County
DESCRIPTION:  \n \nJoin the Rutgers Master Gardeners of Ocean County to learn about the positive impact that going native can have in your home garden. \nhttps://ocean.njaes.rutgers.edu/ \n732-349-1246
URL:https://oceancountytourism.com/event/fall-garden-day-going-native-in-ocean-county/
LOCATION:Rutgers Cooperative Extension of Ocean County\, 1623 Whitesville Rd.\, Toms River\, NJ\, 08755\, United States
CATEGORIES:Nature
ATTACH;FMTTYPE=image/jpeg:https://oceancountytourism.com/wp-content/uploads/2025/08/2025-Fall-Garden-Day-Flyer-with-Plant-Sale.jpg
END:VEVENT
BEGIN:VEVENT
DTSTART;TZID=America/New_York:20250927T083000
DTEND;TZID=America/New_York:20250927T170000
DTSTAMP:20260419T120513
CREATED:20250919T135414Z
LAST-MODIFIED:20250919T135414Z
UID:10039288-1758961800-1758992400@oceancountytourism.com
SUMMARY:Jersey Friendly Yards Conference
DESCRIPTION:The 2025 Jersey-Friendly Yards Conference\, themed “Don’t Let These Garden Visitors Bug You!”\, will highlight the complex and essential roles insects play in our yards and ecosystems. \nKeynote speaker Dr. Dan Duran will reveal the immeasurably important ways insects keep ecosystems functioning\, reminding us that all life on Earth depends on them in more ways than we often realize. He will also share practical approaches for conserving insect diversity through the landscapes we plant. \nPlenary speaker Sabrina Tirpak will then take us deep into the world of bark and ambrosia beetles: tiny yet powerful insects with ancient farming practices dating back over sixty million years. \nHer talk will cover their biology\, the damage they cause to trees\, their role in spreading diseases\, and how climate extremes influence their presence in New Jersey. \nFrom common native species to invasive newcomers\, participants will gain valuable insights into integrated pest management and plant health care. \nRegistration is required. Check out https://www.jerseyyards.org/events/2025-conference/ for more information!
URL:https://oceancountytourism.com/event/jersey-friendly-yards-conference/
LOCATION:Ocean County College\, Gateway Building Lot 1 College Drive\, Toms River\, NJ\, United States
CATEGORIES:Nature
ATTACH;FMTTYPE=image/jpeg:https://oceancountytourism.com/wp-content/uploads/2025/09/549572278_1192393729578720_7989454080882504267_n.jpg
END:VEVENT
BEGIN:VEVENT
DTSTART;TZID=America/New_York:20250928T090000
DTEND;TZID=America/New_York:20250928T100000
DTSTAMP:20260419T120513
CREATED:20250902T182611Z
LAST-MODIFIED:20250902T182611Z
UID:10038934-1759050000-1759053600@oceancountytourism.com
SUMMARY:Yoga at Jenkinson's Aquarium
DESCRIPTION:Start your day with a serene yoga session before the aquarium opens to the public! \nEnjoy an hour long yoga class with This Is Yoga NJ in our newly renovated upstairs space surrounded by fascinating sea life\, including our playful seals\, Turbo and Noelani. \nAfter yoga\, your ticket includes admission to explore the entire aquarium at your own pace. A perfect way to blend relaxation with a unique aquatic experience! \nThis program is planned as an All Levels Yoga class geared for adults\, but ages 10+ are welcome accompanied by a participating adult. \n$30 per participant. \nPlease visit our website to pre-register for this event. Registration will close on September 26th at 4pm. \nhttps://jenkinsons.com/aquarium/event/yoga/ \neducation@jenkinsons.com \n732-899-1212 \n 
URL:https://oceancountytourism.com/event/yoga-at-jenkinsons-aquarium-3/
LOCATION:Jenkinson’s Aquarium\, 300 Ocean Ave\, Point Pleasant Beach\, NJ\, 08742\, United States
CATEGORIES:Nature
ATTACH;FMTTYPE=image/png:https://oceancountytourism.com/wp-content/uploads/2025/09/September-Website.png
END:VEVENT
END:VCALENDAR