BEGIN:VCALENDAR
VERSION:2.0
PRODID:-//Ocean County Tourism - ECPv6.15.18//NONSGML v1.0//EN
CALSCALE:GREGORIAN
METHOD:PUBLISH
X-ORIGINAL-URL:https://oceancountytourism.com
X-WR-CALDESC:Events for Ocean County Tourism
REFRESH-INTERVAL;VALUE=DURATION:PT1H
X-Robots-Tag:noindex
X-PUBLISHED-TTL:PT1H
BEGIN:VTIMEZONE
TZID:America/New_York
BEGIN:DAYLIGHT
TZOFFSETFROM:-0500
TZOFFSETTO:-0400
TZNAME:EDT
DTSTART:20240310T070000
END:DAYLIGHT
BEGIN:STANDARD
TZOFFSETFROM:-0400
TZOFFSETTO:-0500
TZNAME:EST
DTSTART:20241103T060000
END:STANDARD
BEGIN:DAYLIGHT
TZOFFSETFROM:-0500
TZOFFSETTO:-0400
TZNAME:EDT
DTSTART:20250309T070000
END:DAYLIGHT
BEGIN:STANDARD
TZOFFSETFROM:-0400
TZOFFSETTO:-0500
TZNAME:EST
DTSTART:20251102T060000
END:STANDARD
BEGIN:DAYLIGHT
TZOFFSETFROM:-0500
TZOFFSETTO:-0400
TZNAME:EDT
DTSTART:20260308T070000
END:DAYLIGHT
BEGIN:STANDARD
TZOFFSETFROM:-0400
TZOFFSETTO:-0500
TZNAME:EST
DTSTART:20261101T060000
END:STANDARD
END:VTIMEZONE
BEGIN:VEVENT
DTSTART;TZID=America/New_York:20250804T083000
DTEND;TZID=America/New_York:20250804T113000
DTSTAMP:20260422T232720
CREATED:20250604T155526Z
LAST-MODIFIED:20250604T155526Z
UID:10036743-1754296200-1754307000@oceancountytourism.com
SUMMARY:Wild Ways to Play
DESCRIPTION:How do we create enrichment for our animals? Are you curious about what “enrichment” means? \nJoin this workshop to learn all about enrichment\, the importance of it\, and how it is used for all of our animals throughout the Aquarium! \nParticipate in observations and learn how to write enrichment evaluations\, as well as create your own forms of enrichment! \nPre-registration & sneakers are required. \nAges 9-12 years old. $150 per child. \nWild Ways to Play: Animal Enrichment Workshop | Aquarium
URL:https://oceancountytourism.com/event/wild-ways-to-play/2025-08-04/
LOCATION:Jenkinson’s Aquarium\, 300 Ocean Ave\, Point Pleasant Beach\, NJ\, 08742\, United States
CATEGORIES:Festivals & Family Fun,Nature
ATTACH;FMTTYPE=image/png:https://oceancountytourism.com/wp-content/uploads/2025/06/Wild-Ways-to-Play.png
END:VEVENT
BEGIN:VEVENT
DTSTART;TZID=America/New_York:20250804T100000
DTEND;TZID=America/New_York:20250804T110000
DTSTAMP:20260422T232720
CREATED:20250331T153434Z
LAST-MODIFIED:20250331T153434Z
UID:10035644-1754301600-1754305200@oceancountytourism.com
SUMMARY:Little Farmers
DESCRIPTION:To register visit: Little Farmers: Parent & Child | Daffodil Valley
URL:https://oceancountytourism.com/event/little-farmers/2025-08-04/
LOCATION:Daffodil Valley Homestead\, 535 Beach Ave\, Manahawkin\, NJ\, 08050\, United States
CATEGORIES:Festivals & Family Fun,Nature
ATTACH;FMTTYPE=image/jpeg:https://oceancountytourism.com/wp-content/uploads/2025/03/486842430_611678191857325_5371582053115036403_n-1.jpg
END:VEVENT
BEGIN:VEVENT
DTSTART;TZID=America/New_York:20250806T160000
DTEND;TZID=America/New_York:20250806T170000
DTSTAMP:20260422T232720
CREATED:20250312T181756Z
LAST-MODIFIED:20250312T181756Z
UID:10035244-1754496000-1754499600@oceancountytourism.com
SUMMARY:Animal Show
DESCRIPTION:Calling all animal lovers! Casino Pier is hosting our exotic animal show just for you with Rizzo’s Wildlife World! \nCome out and see a variety of exotic animals on the Pier Stage The FREE wildlife program brings 8-10 animals (snakes\, lizards\, frogs\, turtles\, insects\, and small mammals) as well as a baby alligator! \nThis fun and informative presentation allows the children in attendance to learn about each animal; where they are from\, what they like to eat\, etc. \nBest of all\, the children will be able to interact with and/or touch a majority of the animals we bring! \nThis show is a one of a kind experience the children will never forget! \n\ncasinopiernj.com/specials-events \nmaria@casinopiernj.com \n7327936488
URL:https://oceancountytourism.com/event/animal-show-5/
LOCATION:Casino Pier\, 800 Ocean Terrace\, Seaside Heights\, NJ\, 08751\, United States
CATEGORIES:Festivals & Family Fun,Nature
ATTACH;FMTTYPE=image/jpeg:https://oceancountytourism.com/wp-content/uploads/2025/03/Animal-Show-Web-Block-04-1-scaled.jpg
END:VEVENT
BEGIN:VEVENT
DTSTART;TZID=America/New_York:20250807T090000
DTEND;TZID=America/New_York:20250807T120000
DTSTAMP:20260422T232720
CREATED:20250610T145415Z
LAST-MODIFIED:20250610T145415Z
UID:10036939-1754557200-1754568000@oceancountytourism.com
SUMMARY:Breakfast on the Bay
DESCRIPTION:Join us for Breakfast on the Bay- each Thursday this summer from 9am to Noon.\nClimb aboard the Tuckerton Seaport’s Floating Classroom for Breakfast on the Bay!\nStart the day off right and taste what you have been missing at the Dockside Café.\nGuests will choose from 4 breakfast platters plus coffee or orange juice.\nBreakfast on the Bay sports ‘communal’ style seating\, large parties are not guaranteed to sit together and small parties may be combined for seating.\nEnjoy this exciting start to the day while a Seaport guide delivers an immersive tour of the art\, history\, and environment on Tuckerton Creek and lower Barnegat Bay.\n$35/Guest\, $30/Seaport Member\nTime: 9:00am – Noon It is recommended to come prepared with r layers depending on weather forecast.\nGuests must be over 2 years old. Guests ages 2-12 are required to wear a personal floatation device at all times on board the boat.\nGuests must arrive at the Seaport dock by 8:45am.\nReservations are nonrefundable.\nReserve your spot at: AudienceView Professional
URL:https://oceancountytourism.com/event/breakfast-on-the-bay-2/2025-08-07/
LOCATION:Tuckerton Seaport\, 120 West Main Street\, Tuckerton\, NJ\, 08087\, United States
CATEGORIES:Food,Nature
ATTACH;FMTTYPE=image/jpeg:https://oceancountytourism.com/wp-content/uploads/2025/06/502637284_1103841388459265_4312064007064083638_n.jpg
END:VEVENT
BEGIN:VEVENT
DTSTART;TZID=America/New_York:20250811T083000
DTEND;TZID=America/New_York:20250811T113000
DTSTAMP:20260422T232720
CREATED:20250604T160800Z
LAST-MODIFIED:20250604T160800Z
UID:10036750-1754901000-1754911800@oceancountytourism.com
SUMMARY:Feeding The Fins
DESCRIPTION:Come learn the ins and outs of what it’s like to be a daily feeder at the aquarium from an employee’s point of view! \nTalk to some of our very own feeders on staff\, learn the different types of food we provide\, as well as the techniques we use for preparation\, where food is kept & so much more! \nPre-registration & sneakers are required. \nAges 9-12 years old. $150 per child. \nFeeding the Fins | Aquarium
URL:https://oceancountytourism.com/event/feeding-the-fins/2025-08-11/
LOCATION:Jenkinson’s Aquarium\, 300 Ocean Ave\, Point Pleasant Beach\, NJ\, 08742\, United States
CATEGORIES:Festivals & Family Fun,Nature
ATTACH;FMTTYPE=image/jpeg:https://oceancountytourism.com/wp-content/uploads/2025/06/Feeding-the-Fins.jpg
END:VEVENT
BEGIN:VEVENT
DTSTART;TZID=America/New_York:20250811T100000
DTEND;TZID=America/New_York:20250811T110000
DTSTAMP:20260422T232720
CREATED:20250331T153434Z
LAST-MODIFIED:20250331T153434Z
UID:10035645-1754906400-1754910000@oceancountytourism.com
SUMMARY:Little Farmers
DESCRIPTION:To register visit: Little Farmers: Parent & Child | Daffodil Valley
URL:https://oceancountytourism.com/event/little-farmers/2025-08-11/
LOCATION:Daffodil Valley Homestead\, 535 Beach Ave\, Manahawkin\, NJ\, 08050\, United States
CATEGORIES:Festivals & Family Fun,Nature
ATTACH;FMTTYPE=image/jpeg:https://oceancountytourism.com/wp-content/uploads/2025/03/486842430_611678191857325_5371582053115036403_n-1.jpg
END:VEVENT
BEGIN:VEVENT
DTSTART;TZID=America/New_York:20250811T100000
DTEND;TZID=America/New_York:20250811T120000
DTSTAMP:20260422T232720
CREATED:20250210T174535Z
LAST-MODIFIED:20250210T174535Z
UID:10034678-1754906400-1754913600@oceancountytourism.com
SUMMARY:“Ask a Rutgers Master Gardener”
DESCRIPTION:STAFFORD TOWNSHIP – All ready for spring planting? Set up your garden with free help from trained professionals. “Ask a Rutgers Master Gardener” at the Ocean County Library Stafford Branch\, beginning at 10 AM Monday\, March 10. \n\nRutgers Master Gardeners of Ocean County will be available from 10 AM until 12 noon every second and fourth Monday of each month through November 10\, excluding Memorial Day. \n\nDiagnostic clinics will take place March 10\, March 24\, April 14\, April 28\, May 12\, May 19\, June 9\, June 23\, July 14\, July 28\, August 11\, August 25\, September 8\, September 22\, October 13\, October 27 and November 10. \n\nThey’re ready to answer any and all questions to help you create a healthy\, robust garden. Bring photos or specimens of insects\, plants\, shrubs and trees for identification\, diagnosis and recommendations. \n\nRutgers Master Gardeners are trained\, certified volunteers who help Rutgers Cooperative Extension staffers in providing research-based information on sustainable horticultural practices to Ocean County residents. \n  \nThe clinics are free and open to the public. No registration is required. For more information\, stop by the OCL Stafford Branch\, 129 North Main Street\, Manahawkin\, or call (609) 597-3381. See the schedule and the full list of Library programs in the online Calendar of Events. \n\nOCL turns 100 this year and you’re why we’re celebrating! See details on Facebook\, Instagram\, X\, YouTube\, Spotify\, Pinterest and https://theoceancountylibrary.org. \n  \n 
URL:https://oceancountytourism.com/event/ask-a-rutgers-master-gardener/2025-08-11/
LOCATION:Ocean County Library Stafford Branch\, 129 N. Main Street\, Manahawkin\, NJ\, 08050\, United States
CATEGORIES:Nature
ATTACH;FMTTYPE=image/jpeg:https://oceancountytourism.com/wp-content/uploads/2025/02/library.jpg
END:VEVENT
BEGIN:VEVENT
DTSTART;TZID=America/New_York:20250814T090000
DTEND;TZID=America/New_York:20250814T120000
DTSTAMP:20260422T232720
CREATED:20250610T145415Z
LAST-MODIFIED:20250610T145415Z
UID:10036940-1755162000-1755172800@oceancountytourism.com
SUMMARY:Breakfast on the Bay
DESCRIPTION:Join us for Breakfast on the Bay- each Thursday this summer from 9am to Noon.\nClimb aboard the Tuckerton Seaport’s Floating Classroom for Breakfast on the Bay!\nStart the day off right and taste what you have been missing at the Dockside Café.\nGuests will choose from 4 breakfast platters plus coffee or orange juice.\nBreakfast on the Bay sports ‘communal’ style seating\, large parties are not guaranteed to sit together and small parties may be combined for seating.\nEnjoy this exciting start to the day while a Seaport guide delivers an immersive tour of the art\, history\, and environment on Tuckerton Creek and lower Barnegat Bay.\n$35/Guest\, $30/Seaport Member\nTime: 9:00am – Noon It is recommended to come prepared with r layers depending on weather forecast.\nGuests must be over 2 years old. Guests ages 2-12 are required to wear a personal floatation device at all times on board the boat.\nGuests must arrive at the Seaport dock by 8:45am.\nReservations are nonrefundable.\nReserve your spot at: AudienceView Professional
URL:https://oceancountytourism.com/event/breakfast-on-the-bay-2/2025-08-14/
LOCATION:Tuckerton Seaport\, 120 West Main Street\, Tuckerton\, NJ\, 08087\, United States
CATEGORIES:Food,Nature
ATTACH;FMTTYPE=image/jpeg:https://oceancountytourism.com/wp-content/uploads/2025/06/502637284_1103841388459265_4312064007064083638_n.jpg
END:VEVENT
BEGIN:VEVENT
DTSTART;TZID=America/New_York:20250815T100000
DTEND;TZID=America/New_York:20250815T120000
DTSTAMP:20260422T232720
CREATED:20250610T144133Z
LAST-MODIFIED:20250610T144133Z
UID:10036931-1755252000-1755259200@oceancountytourism.com
SUMMARY:Birding Boat Tour: Red Knots in Holgate
DESCRIPTION:Birding Boat Tour: Red Knots in Holgate\nJoin VP of the Southern Ocean Birding Group\, Josh Gant\, for a narrated boat tour from Tuckerton to Holgate.Participants will be on the lookout for Red Knots during their fall migration\, as these remarkable birds feed to refuel for their journey to Canada.\nBirds can be viewed from the boat\, along with a variety of waterfowl and shorebirds.\nWhile sightings cannot be guaranteed\, it is likely we will see a diverse range of species during this time of year.\nFun Fact:This tour will also pass by the location of the original Tucker’s Island\, just south of Holgate!\n\nTickets:$25 per person$20 for Seaport MembersDate:August 15\, 10 AM – 12 PM\nTickets: AudienceView Professional
URL:https://oceancountytourism.com/event/birding-boat-tour-red-knots-in-holgate/
LOCATION:Tuckerton Seaport\, 120 West Main Street\, Tuckerton\, NJ\, 08087\, United States
CATEGORIES:Nature
ATTACH;FMTTYPE=image/jpeg:https://oceancountytourism.com/wp-content/uploads/2025/06/500034624_1103838991792838_1028626321304562871_n.jpg
END:VEVENT
BEGIN:VEVENT
DTSTART;TZID=America/New_York:20250815T173000
DTEND;TZID=America/New_York:20250815T193000
DTSTAMP:20260422T232720
CREATED:20250428T173739Z
LAST-MODIFIED:20250428T173739Z
UID:10036005-1755279000-1755286200@oceancountytourism.com
SUMMARY:Eyes of the Wild Animal Show
DESCRIPTION:We’re getting WILD at the beach! \n\nFun\, Comedy and Education collide in this program\, featuring up close and personal encounters with some of our planet’s most fascinating creatures. \nThe presentation is geared toward children and adults alike\, \nso if you’re looking for something fun and unique to do with the family that also teaches respect for our environment and all of the creatures who live in it\, this is the perfect event for you! \nEach night the show times are as follows: 5:30pm\, 6:15pm and 7pm \n\nJune 20th – Pavilion Beach Stage \n\nJuly 18th – Pavilion Beach Stage \n\nAugust 15th – Pavilion Beach Stage \n\nAugust 26th – South Beach Stage \n\nhttps://jenkinsons.com/ \ninformation@jenkinsons.com \n7328920600
URL:https://oceancountytourism.com/event/eyes-of-the-wild-animal-show/2025-08-15/
LOCATION:Jenkinson’s Boardwalk\, 300 Ocean Ave.\, Point Pleasant Beach\, NJ\, 08742\, United States
CATEGORIES:Festivals & Family Fun,Nature
ATTACH;FMTTYPE=image/jpeg:https://oceancountytourism.com/wp-content/uploads/2025/04/29606-EyesOfTheWild-SQ-All.jpg
END:VEVENT
BEGIN:VEVENT
DTSTART;TZID=America/New_York:20250816T120000
DTEND;TZID=America/New_York:20250816T210000
DTSTAMP:20260422T232720
CREATED:20250804T182401Z
LAST-MODIFIED:20250804T182401Z
UID:10038316-1755345600-1755378000@oceancountytourism.com
SUMMARY:Flower Festival
DESCRIPTION:For additional information & tickets visit: Laurita Winery and Marketplace – New Egypt\, NJ | Tock
URL:https://oceancountytourism.com/event/flower-festival/2025-08-16/
LOCATION:Laurita Winery\, 85 Archertown Road\, New Egypt\, NJ\, 08533\, United States
CATEGORIES:Festivals & Family Fun,Food,Live Entertainment,Nature
ATTACH;FMTTYPE=image/jpeg:https://oceancountytourism.com/wp-content/uploads/2025/08/flower-festival.jpeg
END:VEVENT
BEGIN:VEVENT
DTSTART;TZID=America/New_York:20250817T120000
DTEND;TZID=America/New_York:20250817T190000
DTSTAMP:20260422T232720
CREATED:20250804T182401Z
LAST-MODIFIED:20250804T182401Z
UID:10038317-1755432000-1755457200@oceancountytourism.com
SUMMARY:Flower Festival
DESCRIPTION:For additional information & tickets visit: Laurita Winery and Marketplace – New Egypt\, NJ | Tock
URL:https://oceancountytourism.com/event/flower-festival/2025-08-17/
LOCATION:Laurita Winery\, 85 Archertown Road\, New Egypt\, NJ\, 08533\, United States
CATEGORIES:Festivals & Family Fun,Food,Live Entertainment,Nature
ATTACH;FMTTYPE=image/jpeg:https://oceancountytourism.com/wp-content/uploads/2025/08/flower-festival.jpeg
END:VEVENT
BEGIN:VEVENT
DTSTART;TZID=America/New_York:20250818T100000
DTEND;TZID=America/New_York:20250818T110000
DTSTAMP:20260422T232720
CREATED:20250331T153434Z
LAST-MODIFIED:20250331T153434Z
UID:10035646-1755511200-1755514800@oceancountytourism.com
SUMMARY:Little Farmers
DESCRIPTION:To register visit: Little Farmers: Parent & Child | Daffodil Valley
URL:https://oceancountytourism.com/event/little-farmers/2025-08-18/
LOCATION:Daffodil Valley Homestead\, 535 Beach Ave\, Manahawkin\, NJ\, 08050\, United States
CATEGORIES:Festivals & Family Fun,Nature
ATTACH;FMTTYPE=image/jpeg:https://oceancountytourism.com/wp-content/uploads/2025/03/486842430_611678191857325_5371582053115036403_n-1.jpg
END:VEVENT
BEGIN:VEVENT
DTSTART;TZID=America/New_York:20250820T160000
DTEND;TZID=America/New_York:20250820T160000
DTSTAMP:20260422T232720
CREATED:20250313T153340Z
LAST-MODIFIED:20250313T153340Z
UID:10035272-1755705600-1755705600@oceancountytourism.com
SUMMARY:Animal Show
DESCRIPTION:Calling all animal lovers! Casino Pier is hosting our exotic animal show just for you with Rizzo’s Wildlife World! \nCome out and see a variety of exotic animals on the Pier Stage The FREE wildlife program brings 8-10 animals (snakes\, lizards\, frogs\, turtles\, insects\, and small mammals) as well as a baby alligator! \nThis fun and informative presentation allows the children in attendance to learn about each animal; where they are from\, what they like to eat\, etc. \nBest of all\, the children will be able to interact with and/or touch a majority of the animals we bring! \nThis show is a one of a kind experience the children will never forget! \n\ncasinopiernj.com/specials-events \nmaria@casinopiernj.com \n7327936488
URL:https://oceancountytourism.com/event/animal-show-6/
LOCATION:Casino Pier\, 800 Ocean Terrace\, Seaside Heights\, NJ\, 08751\, United States
CATEGORIES:Festivals & Family Fun,Nature
ATTACH;FMTTYPE=image/jpeg:https://oceancountytourism.com/wp-content/uploads/2025/03/Animal-Show-Web-Block-05-1-scaled.jpg
END:VEVENT
BEGIN:VEVENT
DTSTART;TZID=America/New_York:20250821T090000
DTEND;TZID=America/New_York:20250821T120000
DTSTAMP:20260422T232720
CREATED:20250610T145415Z
LAST-MODIFIED:20250610T145415Z
UID:10036941-1755766800-1755777600@oceancountytourism.com
SUMMARY:Breakfast on the Bay
DESCRIPTION:Join us for Breakfast on the Bay- each Thursday this summer from 9am to Noon.\nClimb aboard the Tuckerton Seaport’s Floating Classroom for Breakfast on the Bay!\nStart the day off right and taste what you have been missing at the Dockside Café.\nGuests will choose from 4 breakfast platters plus coffee or orange juice.\nBreakfast on the Bay sports ‘communal’ style seating\, large parties are not guaranteed to sit together and small parties may be combined for seating.\nEnjoy this exciting start to the day while a Seaport guide delivers an immersive tour of the art\, history\, and environment on Tuckerton Creek and lower Barnegat Bay.\n$35/Guest\, $30/Seaport Member\nTime: 9:00am – Noon It is recommended to come prepared with r layers depending on weather forecast.\nGuests must be over 2 years old. Guests ages 2-12 are required to wear a personal floatation device at all times on board the boat.\nGuests must arrive at the Seaport dock by 8:45am.\nReservations are nonrefundable.\nReserve your spot at: AudienceView Professional
URL:https://oceancountytourism.com/event/breakfast-on-the-bay-2/2025-08-21/
LOCATION:Tuckerton Seaport\, 120 West Main Street\, Tuckerton\, NJ\, 08087\, United States
CATEGORIES:Food,Nature
ATTACH;FMTTYPE=image/jpeg:https://oceancountytourism.com/wp-content/uploads/2025/06/502637284_1103841388459265_4312064007064083638_n.jpg
END:VEVENT
BEGIN:VEVENT
DTSTART;TZID=America/New_York:20250825T100000
DTEND;TZID=America/New_York:20250825T110000
DTSTAMP:20260422T232720
CREATED:20250331T153434Z
LAST-MODIFIED:20250331T153434Z
UID:10035647-1756116000-1756119600@oceancountytourism.com
SUMMARY:Little Farmers
DESCRIPTION:To register visit: Little Farmers: Parent & Child | Daffodil Valley
URL:https://oceancountytourism.com/event/little-farmers/2025-08-25/
LOCATION:Daffodil Valley Homestead\, 535 Beach Ave\, Manahawkin\, NJ\, 08050\, United States
CATEGORIES:Festivals & Family Fun,Nature
ATTACH;FMTTYPE=image/jpeg:https://oceancountytourism.com/wp-content/uploads/2025/03/486842430_611678191857325_5371582053115036403_n-1.jpg
END:VEVENT
BEGIN:VEVENT
DTSTART;TZID=America/New_York:20250826T173000
DTEND;TZID=America/New_York:20250826T193000
DTSTAMP:20260422T232720
CREATED:20250428T173739Z
LAST-MODIFIED:20250428T173739Z
UID:10036006-1756229400-1756236600@oceancountytourism.com
SUMMARY:Eyes of the Wild Animal Show
DESCRIPTION:We’re getting WILD at the beach! \n\nFun\, Comedy and Education collide in this program\, featuring up close and personal encounters with some of our planet’s most fascinating creatures. \nThe presentation is geared toward children and adults alike\, \nso if you’re looking for something fun and unique to do with the family that also teaches respect for our environment and all of the creatures who live in it\, this is the perfect event for you! \nEach night the show times are as follows: 5:30pm\, 6:15pm and 7pm \n\nJune 20th – Pavilion Beach Stage \n\nJuly 18th – Pavilion Beach Stage \n\nAugust 15th – Pavilion Beach Stage \n\nAugust 26th – South Beach Stage \n\nhttps://jenkinsons.com/ \ninformation@jenkinsons.com \n7328920600
URL:https://oceancountytourism.com/event/eyes-of-the-wild-animal-show/2025-08-26/
LOCATION:Jenkinson’s Boardwalk\, 300 Ocean Ave.\, Point Pleasant Beach\, NJ\, 08742\, United States
CATEGORIES:Festivals & Family Fun,Nature
ATTACH;FMTTYPE=image/jpeg:https://oceancountytourism.com/wp-content/uploads/2025/04/29606-EyesOfTheWild-SQ-All.jpg
END:VEVENT
BEGIN:VEVENT
DTSTART;TZID=America/New_York:20250828T090000
DTEND;TZID=America/New_York:20250828T120000
DTSTAMP:20260422T232720
CREATED:20250610T145415Z
LAST-MODIFIED:20250610T145415Z
UID:10036942-1756371600-1756382400@oceancountytourism.com
SUMMARY:Breakfast on the Bay
DESCRIPTION:Join us for Breakfast on the Bay- each Thursday this summer from 9am to Noon.\nClimb aboard the Tuckerton Seaport’s Floating Classroom for Breakfast on the Bay!\nStart the day off right and taste what you have been missing at the Dockside Café.\nGuests will choose from 4 breakfast platters plus coffee or orange juice.\nBreakfast on the Bay sports ‘communal’ style seating\, large parties are not guaranteed to sit together and small parties may be combined for seating.\nEnjoy this exciting start to the day while a Seaport guide delivers an immersive tour of the art\, history\, and environment on Tuckerton Creek and lower Barnegat Bay.\n$35/Guest\, $30/Seaport Member\nTime: 9:00am – Noon It is recommended to come prepared with r layers depending on weather forecast.\nGuests must be over 2 years old. Guests ages 2-12 are required to wear a personal floatation device at all times on board the boat.\nGuests must arrive at the Seaport dock by 8:45am.\nReservations are nonrefundable.\nReserve your spot at: AudienceView Professional
URL:https://oceancountytourism.com/event/breakfast-on-the-bay-2/2025-08-28/
LOCATION:Tuckerton Seaport\, 120 West Main Street\, Tuckerton\, NJ\, 08087\, United States
CATEGORIES:Food,Nature
ATTACH;FMTTYPE=image/jpeg:https://oceancountytourism.com/wp-content/uploads/2025/06/502637284_1103841388459265_4312064007064083638_n.jpg
END:VEVENT
END:VCALENDAR