BEGIN:VCALENDAR
VERSION:2.0
PRODID:-//Ocean County Tourism - ECPv6.15.18//NONSGML v1.0//EN
CALSCALE:GREGORIAN
METHOD:PUBLISH
X-ORIGINAL-URL:https://oceancountytourism.com
X-WR-CALDESC:Events for Ocean County Tourism
REFRESH-INTERVAL;VALUE=DURATION:PT1H
X-Robots-Tag:noindex
X-PUBLISHED-TTL:PT1H
BEGIN:VTIMEZONE
TZID:America/New_York
BEGIN:DAYLIGHT
TZOFFSETFROM:-0500
TZOFFSETTO:-0400
TZNAME:EDT
DTSTART:20240310T070000
END:DAYLIGHT
BEGIN:STANDARD
TZOFFSETFROM:-0400
TZOFFSETTO:-0500
TZNAME:EST
DTSTART:20241103T060000
END:STANDARD
BEGIN:DAYLIGHT
TZOFFSETFROM:-0500
TZOFFSETTO:-0400
TZNAME:EDT
DTSTART:20250309T070000
END:DAYLIGHT
BEGIN:STANDARD
TZOFFSETFROM:-0400
TZOFFSETTO:-0500
TZNAME:EST
DTSTART:20251102T060000
END:STANDARD
BEGIN:DAYLIGHT
TZOFFSETFROM:-0500
TZOFFSETTO:-0400
TZNAME:EDT
DTSTART:20260308T070000
END:DAYLIGHT
BEGIN:STANDARD
TZOFFSETFROM:-0400
TZOFFSETTO:-0500
TZNAME:EST
DTSTART:20261101T060000
END:STANDARD
END:VTIMEZONE
BEGIN:VEVENT
DTSTART;TZID=America/New_York:20250601T100000
DTEND;TZID=America/New_York:20250601T100000
DTSTAMP:20260424T122349
CREATED:20250407T125953Z
LAST-MODIFIED:20250407T125953Z
UID:10035802-1748772000-1748772000@oceancountytourism.com
SUMMARY:Double Trouble State Park Sunday Fundays!
DESCRIPTION:
URL:https://oceancountytourism.com/event/double-trouble-state-park-sunday-fundays/2025-06-01/
LOCATION:Double Trouble State Park\, 581 Pinewald Road\, Bayville
CATEGORIES:Festivals & Family Fun,Nature
ATTACH;FMTTYPE=image/jpeg:https://oceancountytourism.com/wp-content/uploads/2025/04/488228780_1058346542990452_5604869047678826708_n.jpg
END:VEVENT
BEGIN:VEVENT
DTSTART;TZID=America/New_York:20250602T100000
DTEND;TZID=America/New_York:20250602T110000
DTSTAMP:20260424T122349
CREATED:20250331T153434Z
LAST-MODIFIED:20250331T153434Z
UID:10035635-1748858400-1748862000@oceancountytourism.com
SUMMARY:Little Farmers
DESCRIPTION:To register visit: Little Farmers: Parent & Child | Daffodil Valley
URL:https://oceancountytourism.com/event/little-farmers/2025-06-02/
LOCATION:Daffodil Valley Homestead\, 535 Beach Ave\, Manahawkin\, NJ\, 08050\, United States
CATEGORIES:Festivals & Family Fun,Nature
ATTACH;FMTTYPE=image/jpeg:https://oceancountytourism.com/wp-content/uploads/2025/03/486842430_611678191857325_5371582053115036403_n-1.jpg
END:VEVENT
BEGIN:VEVENT
DTSTART;TZID=America/New_York:20250607T090000
DTEND;TZID=America/New_York:20250607T140000
DTSTAMP:20260424T122349
CREATED:20250508T144442Z
LAST-MODIFIED:20250508T144442Z
UID:10036158-1749286800-1749304800@oceancountytourism.com
SUMMARY:Ocean County National Trails Day Celebration
DESCRIPTION:Join us for National Trails Day in Ocean County 🌲  \nOcean County invites you to join us for National Trails Day on Saturday\, June 7 from 9:00 AM to 12:00 PM come learn more about the Natural Lands Program and enjoy a nature walk of the Barnegat Branch Trail in Waretown! \nCome walk\, bike\, or run this scenic trail — it’s easy\, family-friendly\, and great for all ages and fitness levels. 🚶‍♂️🚴‍♀️🏃 \nEvent Highlights:\n✔️ Free snacks\, refreshments & giveaways\n✔️ Info tables from County Planning\, Parks and Recreation\, & Clean Communities\n✔️ On-site restrooms\n✔️ Rain or shine 🌧️☀️ \n📍 Location: 27 Country Lane Road\, Waretown at the Barnegat Branch Trailhead\n🚗 Parking: Available at the trailhead and Waretown Municipal Complex \nWhat to Bring: Water bottle 💧\, bug spray 🦟\, sunscreen ☀️\, and comfortable clothes & shoes 👟 \n📢 Advanced registration is required! Please use this link to register: https://arcg.is/1jW5zH1 \nExplore a piece of local history on this former rail line and enjoy a morning on the trail with your community! \n#OceanCounty #NationalTrailsDay #BarnegatBranchTrail #GetOutside #HikeBikeRun
URL:https://oceancountytourism.com/event/ocean-county-national-trails-day-celebration/
LOCATION:Barnegat Branch Trailhead\, 27 Country Rd\, Waretown\, 08758\, United States
CATEGORIES:Nature
ATTACH;FMTTYPE=image/png:https://oceancountytourism.com/wp-content/uploads/2025/05/Trails-Day-Social-Media.png
END:VEVENT
BEGIN:VEVENT
DTSTART;TZID=America/New_York:20250607T160000
DTEND;TZID=America/New_York:20250607T200000
DTSTAMP:20260424T122349
CREATED:20250310T130307Z
LAST-MODIFIED:20250310T130307Z
UID:10035136-1749312000-1749326400@oceancountytourism.com
SUMMARY:Lions\, Tigers & BEERS!
DESCRIPTION:  \nLions\, Tigers & Beers is back for our 4th year! \nJoin us for a wild evening of craft beer\, great food\, and live entertainment at Popcorn Park. \nEnjoy a unique after-hours experience at the refuge while supporting rescued animals. \nLions\, Tigers\, & BEERS @ Popcorn Park Animal Refuge – Associated Humane Societies
URL:https://oceancountytourism.com/event/lions-tigers-beers-3/2025-06-07/
LOCATION:Popcorn Park Animal Refuge\, 1 Humane Way\, Forked River\, NJ\, 08731\, United States
CATEGORIES:Festivals & Family Fun,Food,Nature
ATTACH;FMTTYPE=image/jpeg:https://oceancountytourism.com/wp-content/uploads/2025/03/Save-the-Date-2-scaled-1.jpg
END:VEVENT
BEGIN:VEVENT
DTSTART;TZID=America/New_York:20250608T100000
DTEND;TZID=America/New_York:20250608T100000
DTSTAMP:20260424T122349
CREATED:20250407T125953Z
LAST-MODIFIED:20250407T125953Z
UID:10035803-1749376800-1749376800@oceancountytourism.com
SUMMARY:Double Trouble State Park Sunday Fundays!
DESCRIPTION:
URL:https://oceancountytourism.com/event/double-trouble-state-park-sunday-fundays/2025-06-08/
LOCATION:Double Trouble State Park\, 581 Pinewald Road\, Bayville
CATEGORIES:Festivals & Family Fun,Nature
ATTACH;FMTTYPE=image/jpeg:https://oceancountytourism.com/wp-content/uploads/2025/04/488228780_1058346542990452_5604869047678826708_n.jpg
END:VEVENT
BEGIN:VEVENT
DTSTART;TZID=America/New_York:20250608T120000
DTEND;TZID=America/New_York:20250608T160000
DTSTAMP:20260424T122349
CREATED:20250310T130307Z
LAST-MODIFIED:20250310T130307Z
UID:10035137-1749384000-1749398400@oceancountytourism.com
SUMMARY:Lions\, Tigers & BEERS!
DESCRIPTION:  \nLions\, Tigers & Beers is back for our 4th year! \nJoin us for a wild evening of craft beer\, great food\, and live entertainment at Popcorn Park. \nEnjoy a unique after-hours experience at the refuge while supporting rescued animals. \nLions\, Tigers\, & BEERS @ Popcorn Park Animal Refuge – Associated Humane Societies
URL:https://oceancountytourism.com/event/lions-tigers-beers-3/2025-06-08/
LOCATION:Popcorn Park Animal Refuge\, 1 Humane Way\, Forked River\, NJ\, 08731\, United States
CATEGORIES:Festivals & Family Fun,Food,Nature
ATTACH;FMTTYPE=image/jpeg:https://oceancountytourism.com/wp-content/uploads/2025/03/Save-the-Date-2-scaled-1.jpg
END:VEVENT
BEGIN:VEVENT
DTSTART;TZID=America/New_York:20250608T120000
DTEND;TZID=America/New_York:20250608T160000
DTSTAMP:20260424T122349
CREATED:20250414T173807Z
LAST-MODIFIED:20250414T173807Z
UID:10035875-1749384000-1749398400@oceancountytourism.com
SUMMARY:World Ocean Day
DESCRIPTION:Get ready to SPLASH into the celebration of the sea during World Ocean Day. \nMeet a Mermaid\, enjoy crafts & activities\, learn all about the ocean\, and watch a mermaid swim! \nVisit the mermaid in our classroom from 12:00-12:30pm\, and then watch her swim at 2pm & 3pm. \nIncluded with general admission. \nhttps://jenkinsons.com/ \ninformation@jenkinsons.com \n7328920600 \n 
URL:https://oceancountytourism.com/event/world-ocean-day/
LOCATION:Jenkinson’s Aquarium\, 300 Ocean Ave\, Point Pleasant Beach\, NJ\, 08742\, United States
CATEGORIES:Festivals & Family Fun,Nature
ATTACH;FMTTYPE=image/png:https://oceancountytourism.com/wp-content/uploads/2025/04/World-Ocean-Day-Facebook-Post.png
END:VEVENT
BEGIN:VEVENT
DTSTART;TZID=America/New_York:20250608T150000
DTEND;TZID=America/New_York:20250608T170000
DTSTAMP:20260424T122349
CREATED:20250605T142448Z
LAST-MODIFIED:20250605T142448Z
UID:10036779-1749394800-1749402000@oceancountytourism.com
SUMMARY:Spring Open House
DESCRIPTION:Join us in celebrating the 2025 growing season at the Common Grounds Community Garden. \nThis is a family-friendly event with a petting zoo\, garden tours and demonstrations\, crafts and free slush! \n\nOneoceancounty.com \n  \n 
URL:https://oceancountytourism.com/event/spring-open-house/
LOCATION:Common Grounds Community Garden\, John Patrick Sports Complex\, Lakewood\, NJ\, 08755\, United States
CATEGORIES:Festivals & Family Fun,Nature
ATTACH;FMTTYPE=image/jpeg:https://oceancountytourism.com/wp-content/uploads/2025/06/8c46683e-d2b9-46fa-b274-c3fc57f61772.jpeg
END:VEVENT
BEGIN:VEVENT
DTSTART;TZID=America/New_York:20250609T100000
DTEND;TZID=America/New_York:20250609T110000
DTSTAMP:20260424T122349
CREATED:20250331T153434Z
LAST-MODIFIED:20250331T153434Z
UID:10035636-1749463200-1749466800@oceancountytourism.com
SUMMARY:Little Farmers
DESCRIPTION:To register visit: Little Farmers: Parent & Child | Daffodil Valley
URL:https://oceancountytourism.com/event/little-farmers/2025-06-09/
LOCATION:Daffodil Valley Homestead\, 535 Beach Ave\, Manahawkin\, NJ\, 08050\, United States
CATEGORIES:Festivals & Family Fun,Nature
ATTACH;FMTTYPE=image/jpeg:https://oceancountytourism.com/wp-content/uploads/2025/03/486842430_611678191857325_5371582053115036403_n-1.jpg
END:VEVENT
BEGIN:VEVENT
DTSTART;TZID=America/New_York:20250609T100000
DTEND;TZID=America/New_York:20250609T120000
DTSTAMP:20260424T122349
CREATED:20250210T174535Z
LAST-MODIFIED:20250210T174535Z
UID:10034676-1749463200-1749470400@oceancountytourism.com
SUMMARY:“Ask a Rutgers Master Gardener”
DESCRIPTION:STAFFORD TOWNSHIP – All ready for spring planting? Set up your garden with free help from trained professionals. “Ask a Rutgers Master Gardener” at the Ocean County Library Stafford Branch\, beginning at 10 AM Monday\, March 10. \n\nRutgers Master Gardeners of Ocean County will be available from 10 AM until 12 noon every second and fourth Monday of each month through November 10\, excluding Memorial Day. \n\nDiagnostic clinics will take place March 10\, March 24\, April 14\, April 28\, May 12\, May 19\, June 9\, June 23\, July 14\, July 28\, August 11\, August 25\, September 8\, September 22\, October 13\, October 27 and November 10. \n\nThey’re ready to answer any and all questions to help you create a healthy\, robust garden. Bring photos or specimens of insects\, plants\, shrubs and trees for identification\, diagnosis and recommendations. \n\nRutgers Master Gardeners are trained\, certified volunteers who help Rutgers Cooperative Extension staffers in providing research-based information on sustainable horticultural practices to Ocean County residents. \n  \nThe clinics are free and open to the public. No registration is required. For more information\, stop by the OCL Stafford Branch\, 129 North Main Street\, Manahawkin\, or call (609) 597-3381. See the schedule and the full list of Library programs in the online Calendar of Events. \n\nOCL turns 100 this year and you’re why we’re celebrating! See details on Facebook\, Instagram\, X\, YouTube\, Spotify\, Pinterest and https://theoceancountylibrary.org. \n  \n 
URL:https://oceancountytourism.com/event/ask-a-rutgers-master-gardener/2025-06-09/
LOCATION:Ocean County Library Stafford Branch\, 129 N. Main Street\, Manahawkin\, NJ\, 08050\, United States
CATEGORIES:Nature
ATTACH;FMTTYPE=image/jpeg:https://oceancountytourism.com/wp-content/uploads/2025/02/library.jpg
END:VEVENT
BEGIN:VEVENT
DTSTART;TZID=America/New_York:20250612T110000
DTEND;TZID=America/New_York:20250612T110000
DTSTAMP:20260424T122349
CREATED:20250610T132905Z
LAST-MODIFIED:20250610T132905Z
UID:10036919-1749726000-1749726000@oceancountytourism.com
SUMMARY:Birds of Ocean County with Cattus Island
DESCRIPTION:𝗕𝗶𝗿𝗱𝘀 𝗼𝗳 𝗢𝗰𝗲𝗮𝗻 𝗖𝗼𝘂𝗻𝘁𝘆 𝘄𝗶𝘁𝗵 𝗖𝗮𝘁𝘁𝘂𝘀 𝗜𝘀𝗹𝗮𝗻𝗱Plumsted Branch • Thursday\, June 12 • 11amRegister here: https://theoceancountylibrary.libnet.info/event/13425609Join us at the Plumsted Library to learn about the Birds of Ocean County\, with a naturalist from Cattus Island County Park.
URL:https://oceancountytourism.com/event/birds-of-ocean-county-with-cattus-island/
LOCATION:Ocean County Library Plumsted Branch\, 119 Evergreen Rd\, New Egypt\, NJ\, 08533\, United States
CATEGORIES:Nature
ATTACH;FMTTYPE=image/jpeg:https://oceancountytourism.com/wp-content/uploads/2025/06/498599540_1091440526357824_7982103300633892243_n.jpg
END:VEVENT
BEGIN:VEVENT
DTSTART;TZID=America/New_York:20250613T100000
DTEND;TZID=America/New_York:20250613T120000
DTSTAMP:20260424T122349
CREATED:20250610T135745Z
LAST-MODIFIED:20250610T135745Z
UID:10036920-1749808800-1749816000@oceancountytourism.com
SUMMARY:Birding Boat Tour: Ospreys and Offspring
DESCRIPTION:Join VP of the Southern Ocean Birding Group\, Josh Gant\, for a narrated boat tour from Tuckerton to observe Ospreys in their natural habitat.Watch as these incredible birds feed their recently hatched fledglings in nearby nests.\nOspreys often build their nests close to water\, offering excellent viewing opportunities from the boat.\nWhile sightings cannot be guaranteed\, it is highly likely we will see Ospreys and their young during this time of year.Tickets:$25 per person$20 for Seaport Members\nDate:June 13\, 10 AM – 12 PM\nAudienceView Professional
URL:https://oceancountytourism.com/event/birding-boat-tour-ospreys-and-offspring/
LOCATION:Tuckerton Seaport\, 120 West Main Street\, Tuckerton\, NJ\, 08087\, United States
CATEGORIES:Nature
ATTACH;FMTTYPE=image/jpeg:https://oceancountytourism.com/wp-content/uploads/2025/06/504006843_1103836725126398_119109822631710226_n.jpg
END:VEVENT
BEGIN:VEVENT
DTSTART;TZID=America/New_York:20250614T100000
DTEND;TZID=America/New_York:20250614T170000
DTSTAMP:20260424T122349
CREATED:20250610T140708Z
LAST-MODIFIED:20250610T140756Z
UID:10036922-1749895200-1749920400@oceancountytourism.com
SUMMARY:Father's Day Weekend Boat Tours
DESCRIPTION:Treat Dad and Pop Pop to a relaxing day out on the Tuckerton Creek with a scenic and serene fully narrated one hour boat tour aboard the Pohatcong II out of Tuckerton Seaport.\nLearn about the Baymen’s culture and heritage. Museum admission and a little something for Dad are also included.\nTickets: $16/person (discount for Seaport Members with promo code member2025)\nAudienceView Professional
URL:https://oceancountytourism.com/event/fathers-day-weekend-boat-tours/2025-06-14/
LOCATION:Tuckerton Seaport\, 120 West Main Street\, Tuckerton\, NJ\, 08087\, United States
CATEGORIES:Nature
ATTACH;FMTTYPE=image/jpeg:https://oceancountytourism.com/wp-content/uploads/2025/06/503994655_1103844491792288_6035879309464778450_n.jpg
END:VEVENT
BEGIN:VEVENT
DTSTART;TZID=America/New_York:20250614T120000
DTEND;TZID=America/New_York:20250614T160000
DTSTAMP:20260424T122349
CREATED:20250604T151733Z
LAST-MODIFIED:20250604T151733Z
UID:10036718-1749902400-1749916800@oceancountytourism.com
SUMMARY:World Sea Turtle Day
DESCRIPTION:Come learn about one of the world’s most beloved sea creatures – sea turtles!  Join us for keeper chats\, activities\, crafts\, and more! \nIncluded with general admission. \nWorld Sea Turtle Day | Aquarium \n 
URL:https://oceancountytourism.com/event/world-sea-turtle-day/
LOCATION:Jenkinson’s Aquarium\, 300 Ocean Ave\, Point Pleasant Beach\, NJ\, 08742\, United States
CATEGORIES:Festivals & Family Fun,Nature
ATTACH;FMTTYPE=image/png:https://oceancountytourism.com/wp-content/uploads/2025/06/Sea-Turtle-w-date-1.png
END:VEVENT
BEGIN:VEVENT
DTSTART;TZID=America/New_York:20250615T100000
DTEND;TZID=America/New_York:20250615T100000
DTSTAMP:20260424T122349
CREATED:20250407T125953Z
LAST-MODIFIED:20250407T125953Z
UID:10035804-1749981600-1749981600@oceancountytourism.com
SUMMARY:Double Trouble State Park Sunday Fundays!
DESCRIPTION:
URL:https://oceancountytourism.com/event/double-trouble-state-park-sunday-fundays/2025-06-15/
LOCATION:Double Trouble State Park\, 581 Pinewald Road\, Bayville
CATEGORIES:Festivals & Family Fun,Nature
ATTACH;FMTTYPE=image/jpeg:https://oceancountytourism.com/wp-content/uploads/2025/04/488228780_1058346542990452_5604869047678826708_n.jpg
END:VEVENT
BEGIN:VEVENT
DTSTART;TZID=America/New_York:20250615T100000
DTEND;TZID=America/New_York:20250615T170000
DTSTAMP:20260424T122349
CREATED:20250610T140708Z
LAST-MODIFIED:20250610T140756Z
UID:10036923-1749981600-1750006800@oceancountytourism.com
SUMMARY:Father's Day Weekend Boat Tours
DESCRIPTION:Treat Dad and Pop Pop to a relaxing day out on the Tuckerton Creek with a scenic and serene fully narrated one hour boat tour aboard the Pohatcong II out of Tuckerton Seaport.\nLearn about the Baymen’s culture and heritage. Museum admission and a little something for Dad are also included.\nTickets: $16/person (discount for Seaport Members with promo code member2025)\nAudienceView Professional
URL:https://oceancountytourism.com/event/fathers-day-weekend-boat-tours/2025-06-15/
LOCATION:Tuckerton Seaport\, 120 West Main Street\, Tuckerton\, NJ\, 08087\, United States
CATEGORIES:Nature
ATTACH;FMTTYPE=image/jpeg:https://oceancountytourism.com/wp-content/uploads/2025/06/503994655_1103844491792288_6035879309464778450_n.jpg
END:VEVENT
BEGIN:VEVENT
DTSTART;TZID=America/New_York:20250616T100000
DTEND;TZID=America/New_York:20250616T110000
DTSTAMP:20260424T122349
CREATED:20250331T153434Z
LAST-MODIFIED:20250331T153434Z
UID:10035637-1750068000-1750071600@oceancountytourism.com
SUMMARY:Little Farmers
DESCRIPTION:To register visit: Little Farmers: Parent & Child | Daffodil Valley
URL:https://oceancountytourism.com/event/little-farmers/2025-06-16/
LOCATION:Daffodil Valley Homestead\, 535 Beach Ave\, Manahawkin\, NJ\, 08050\, United States
CATEGORIES:Festivals & Family Fun,Nature
ATTACH;FMTTYPE=image/jpeg:https://oceancountytourism.com/wp-content/uploads/2025/03/486842430_611678191857325_5371582053115036403_n-1.jpg
END:VEVENT
BEGIN:VEVENT
DTSTART;TZID=America/New_York:20250620T100000
DTEND;TZID=America/New_York:20250620T160000
DTSTAMP:20260424T122349
CREATED:20250610T142357Z
LAST-MODIFIED:20250610T142357Z
UID:10036925-1750413600-1750435200@oceancountytourism.com
SUMMARY:Forged in Fire-Free Boat Tours!
DESCRIPTION:Join us for Fire Friday at Tuckerton Seaport on June 20.\nExplore the essential role fire has played in the Pinelands across time\, from historical practices to present day wildfire management and future preservation efforts.\nLearn how fire is woven into the folklife of the region and why it remains a powerful force in shaping the landscape.\n\nForge DemonstrationWatch Blacksmith Stephen Nuttall at work\, demonstrating traditional techniques using fire at the forge.\nMeet the FirefightersConnect with members of the NJ Forest Fire Service\, your local fire departments\, and Smokey Bear. Climb aboard a fire truck\, hear about local fire safety efforts\, and discover how you can give back to your community.\nFree Creek Tours for First Responders and Their Families\nTickets: AudienceView Professional
URL:https://oceancountytourism.com/event/forged-in-fire-free-boat-tours/
LOCATION:Tuckerton Seaport\, 120 West Main Street\, Tuckerton\, NJ\, 08087\, United States
CATEGORIES:Nature
ATTACH;FMTTYPE=image/jpeg:https://oceancountytourism.com/wp-content/uploads/2025/06/494645944_1103251108518293_1012358481486492701_n.jpg
END:VEVENT
BEGIN:VEVENT
DTSTART;TZID=America/New_York:20250620T150000
DTEND;TZID=America/New_York:20250620T190000
DTSTAMP:20260424T122349
CREATED:20250604T152623Z
LAST-MODIFIED:20250604T152623Z
UID:10036719-1750431600-1750446000@oceancountytourism.com
SUMMARY:International Horseshoe Crab Day
DESCRIPTION:Come learn about an unusual sea creature known as the horseshoe crab. \nThe Delaware Bay shorelines are the site of the largest horseshoe crab spawning in the world. \nMake a craft\, meet live horseshoe crabs\, and learn what makes them so special. \nIncluded with general admission. \nInternational Horseshoe Crab Day | Aquarium
URL:https://oceancountytourism.com/event/international-horseshoe-crab-day/
LOCATION:Jenkinson’s Aquarium\, 300 Ocean Ave\, Point Pleasant Beach\, NJ\, 08742\, United States
CATEGORIES:Festivals & Family Fun,Nature
ATTACH;FMTTYPE=image/png:https://oceancountytourism.com/wp-content/uploads/2025/06/Horseshoe-crab-day-graphic.png
END:VEVENT
BEGIN:VEVENT
DTSTART;TZID=America/New_York:20250620T173000
DTEND;TZID=America/New_York:20250620T193000
DTSTAMP:20260424T122349
CREATED:20250428T173739Z
LAST-MODIFIED:20250428T173739Z
UID:10036003-1750440600-1750447800@oceancountytourism.com
SUMMARY:Eyes of the Wild Animal Show
DESCRIPTION:We’re getting WILD at the beach! \n\nFun\, Comedy and Education collide in this program\, featuring up close and personal encounters with some of our planet’s most fascinating creatures. \nThe presentation is geared toward children and adults alike\, \nso if you’re looking for something fun and unique to do with the family that also teaches respect for our environment and all of the creatures who live in it\, this is the perfect event for you! \nEach night the show times are as follows: 5:30pm\, 6:15pm and 7pm \n\nJune 20th – Pavilion Beach Stage \n\nJuly 18th – Pavilion Beach Stage \n\nAugust 15th – Pavilion Beach Stage \n\nAugust 26th – South Beach Stage \n\nhttps://jenkinsons.com/ \ninformation@jenkinsons.com \n7328920600
URL:https://oceancountytourism.com/event/eyes-of-the-wild-animal-show/2025-06-20/
LOCATION:Jenkinson’s Boardwalk\, 300 Ocean Ave.\, Point Pleasant Beach\, NJ\, 08742\, United States
CATEGORIES:Festivals & Family Fun,Nature
ATTACH;FMTTYPE=image/jpeg:https://oceancountytourism.com/wp-content/uploads/2025/04/29606-EyesOfTheWild-SQ-All.jpg
END:VEVENT
BEGIN:VEVENT
DTSTART;TZID=America/New_York:20250621T120000
DTEND;TZID=America/New_York:20250621T143000
DTSTAMP:20260424T122349
CREATED:20250428T150847Z
LAST-MODIFIED:20250428T150847Z
UID:10036002-1750507200-1750516200@oceancountytourism.com
SUMMARY:Paws and Unwind
DESCRIPTION:
URL:https://oceancountytourism.com/event/paws-and-unwind/
LOCATION:Popcorn Park Animal Refuge\, 1 Humane Way\, Forked River\, NJ\, 08731\, United States
CATEGORIES:Nature
ATTACH;FMTTYPE=image/jpeg:https://oceancountytourism.com/wp-content/uploads/2025/04/493208654_1086554743517786_5813896622207115389_n.jpg
END:VEVENT
BEGIN:VEVENT
DTSTART;TZID=America/New_York:20250621T120000
DTEND;TZID=America/New_York:20250621T160000
DTSTAMP:20260424T122349
CREATED:20250604T153624Z
LAST-MODIFIED:20250604T153624Z
UID:10036720-1750507200-1750521600@oceancountytourism.com
SUMMARY:Pollinator Day
DESCRIPTION:Join us today as we focus on the importance of the relationship between pollinators and plants! \nThere will be educational displays\, crafts\, activities\, and more! \nIncluded with general admission. \nPollinator Day | Aquarium
URL:https://oceancountytourism.com/event/pollinator-day/
LOCATION:Jenkinson’s Aquarium\, 300 Ocean Ave\, Point Pleasant Beach\, NJ\, 08742\, United States
CATEGORIES:Festivals & Family Fun,Nature
ATTACH;FMTTYPE=image/png:https://oceancountytourism.com/wp-content/uploads/2025/06/Pollinator-Day-SQ.png
END:VEVENT
BEGIN:VEVENT
DTSTART;TZID=America/New_York:20250622T100000
DTEND;TZID=America/New_York:20250622T100000
DTSTAMP:20260424T122349
CREATED:20250407T125953Z
LAST-MODIFIED:20250407T125953Z
UID:10035805-1750586400-1750586400@oceancountytourism.com
SUMMARY:Double Trouble State Park Sunday Fundays!
DESCRIPTION:
URL:https://oceancountytourism.com/event/double-trouble-state-park-sunday-fundays/2025-06-22/
LOCATION:Double Trouble State Park\, 581 Pinewald Road\, Bayville
CATEGORIES:Festivals & Family Fun,Nature
ATTACH;FMTTYPE=image/jpeg:https://oceancountytourism.com/wp-content/uploads/2025/04/488228780_1058346542990452_5604869047678826708_n.jpg
END:VEVENT
BEGIN:VEVENT
DTSTART;TZID=America/New_York:20250623T100000
DTEND;TZID=America/New_York:20250623T110000
DTSTAMP:20260424T122349
CREATED:20250331T153434Z
LAST-MODIFIED:20250331T153434Z
UID:10035638-1750672800-1750676400@oceancountytourism.com
SUMMARY:Little Farmers
DESCRIPTION:To register visit: Little Farmers: Parent & Child | Daffodil Valley
URL:https://oceancountytourism.com/event/little-farmers/2025-06-23/
LOCATION:Daffodil Valley Homestead\, 535 Beach Ave\, Manahawkin\, NJ\, 08050\, United States
CATEGORIES:Festivals & Family Fun,Nature
ATTACH;FMTTYPE=image/jpeg:https://oceancountytourism.com/wp-content/uploads/2025/03/486842430_611678191857325_5371582053115036403_n-1.jpg
END:VEVENT
BEGIN:VEVENT
DTSTART;TZID=America/New_York:20250628T210000
DTEND;TZID=America/New_York:20250628T230000
DTSTAMP:20260424T122349
CREATED:20250401T160319Z
LAST-MODIFIED:20250401T160319Z
UID:10035680-1751144400-1751151600@oceancountytourism.com
SUMMARY:Night of the Stars
DESCRIPTION:
URL:https://oceancountytourism.com/event/night-of-the-stars-4/2025-06-28/
LOCATION:Jakes Branch County Park\, 1100 Double Trouble Rd\, Beachwood\, NJ\, 08722\, United States
CATEGORIES:Festivals & Family Fun,Nature
ATTACH;FMTTYPE=image/jpeg:https://oceancountytourism.com/wp-content/uploads/2025/04/487481240_1066485348844081_4863700717152380157_n.jpg
END:VEVENT
BEGIN:VEVENT
DTSTART;TZID=America/New_York:20250629T100000
DTEND;TZID=America/New_York:20250629T100000
DTSTAMP:20260424T122349
CREATED:20250407T125953Z
LAST-MODIFIED:20250407T125953Z
UID:10035806-1751191200-1751191200@oceancountytourism.com
SUMMARY:Double Trouble State Park Sunday Fundays!
DESCRIPTION:
URL:https://oceancountytourism.com/event/double-trouble-state-park-sunday-fundays/2025-06-29/
LOCATION:Double Trouble State Park\, 581 Pinewald Road\, Bayville
CATEGORIES:Festivals & Family Fun,Nature
ATTACH;FMTTYPE=image/jpeg:https://oceancountytourism.com/wp-content/uploads/2025/04/488228780_1058346542990452_5604869047678826708_n.jpg
END:VEVENT
BEGIN:VEVENT
DTSTART;TZID=America/New_York:20250630T100000
DTEND;TZID=America/New_York:20250630T110000
DTSTAMP:20260424T122349
CREATED:20250331T153434Z
LAST-MODIFIED:20250331T153434Z
UID:10035639-1751277600-1751281200@oceancountytourism.com
SUMMARY:Little Farmers
DESCRIPTION:To register visit: Little Farmers: Parent & Child | Daffodil Valley
URL:https://oceancountytourism.com/event/little-farmers/2025-06-30/
LOCATION:Daffodil Valley Homestead\, 535 Beach Ave\, Manahawkin\, NJ\, 08050\, United States
CATEGORIES:Festivals & Family Fun,Nature
ATTACH;FMTTYPE=image/jpeg:https://oceancountytourism.com/wp-content/uploads/2025/03/486842430_611678191857325_5371582053115036403_n-1.jpg
END:VEVENT
END:VCALENDAR