BEGIN:VCALENDAR
VERSION:2.0
PRODID:-//Ocean County Tourism - ECPv6.15.18//NONSGML v1.0//EN
CALSCALE:GREGORIAN
METHOD:PUBLISH
X-ORIGINAL-URL:https://oceancountytourism.com
X-WR-CALDESC:Events for Ocean County Tourism
REFRESH-INTERVAL;VALUE=DURATION:PT1H
X-Robots-Tag:noindex
X-PUBLISHED-TTL:PT1H
BEGIN:VTIMEZONE
TZID:America/New_York
BEGIN:DAYLIGHT
TZOFFSETFROM:-0500
TZOFFSETTO:-0400
TZNAME:EDT
DTSTART:20250309T070000
END:DAYLIGHT
BEGIN:STANDARD
TZOFFSETFROM:-0400
TZOFFSETTO:-0500
TZNAME:EST
DTSTART:20251102T060000
END:STANDARD
BEGIN:DAYLIGHT
TZOFFSETFROM:-0500
TZOFFSETTO:-0400
TZNAME:EDT
DTSTART:20260308T070000
END:DAYLIGHT
BEGIN:STANDARD
TZOFFSETFROM:-0400
TZOFFSETTO:-0500
TZNAME:EST
DTSTART:20261101T060000
END:STANDARD
BEGIN:DAYLIGHT
TZOFFSETFROM:-0500
TZOFFSETTO:-0400
TZNAME:EDT
DTSTART:20270314T070000
END:DAYLIGHT
BEGIN:STANDARD
TZOFFSETFROM:-0400
TZOFFSETTO:-0500
TZNAME:EST
DTSTART:20271107T060000
END:STANDARD
END:VTIMEZONE
BEGIN:VEVENT
DTSTART;TZID=America/New_York:20260802T190000
DTEND;TZID=America/New_York:20260802T190000
DTSTAMP:20260420T185825
CREATED:20260420T123004Z
LAST-MODIFIED:20260420T123004Z
UID:10042505-1785697200-1785697200@oceancountytourism.com
SUMMARY:Lavallette Summer Concert Series
DESCRIPTION:Free Summer Concerts at the Lavallette Gazebo \nEnjoy live music under the stars! \nSundays all summer long \nConcerts begin at 7pm \nJuly 5th at 8pm (fireworks night) \nPerformers to be announced \nSponsored in part by the Ocean County Carousel of Music
URL:https://oceancountytourism.com/event/lavallette-summer-concert-series/2026-08-02/
LOCATION:Lavallette Gazebo & Bayfront\, Philadelphia Avenue\, Lavallette\, NJ\, 08735\, United States
CATEGORIES:Concerts,Free,Live Entertainment
ATTACH;FMTTYPE=image/jpeg:https://oceancountytourism.com/wp-content/uploads/2026/04/Event-Poster-Web-Concerts.jpg
ORGANIZER;CN="Enjoy Lavallette":MAILTO:info@enjoylavallette.com
END:VEVENT
BEGIN:VEVENT
DTSTART;TZID=America/New_York:20260802T203000
DTEND;TZID=America/New_York:20260802T203000
DTSTAMP:20260420T185825
CREATED:20260317T175435Z
LAST-MODIFIED:20260317T175435Z
UID:10041799-1785702600-1785702600@oceancountytourism.com
SUMMARY:Movies On The Beach - Back To The Future
DESCRIPTION:Movies on the Beach – Sponsored by Playa Bowls Seaside Heights\, and macc’s Mac & Cheese \nBring your blanket\, beach chairs\, and the whole family for Movies on the Beach in Seaside Heights! \nEnjoy free outdoor movies right on the sand\, with the ocean as your backdrop and the stars overhead. \nStarting at dusk\, we’ll be showing classic & popular movies throughout the summer. It’s the perfect way to wind down after a day at the beach or boardwalk. \nFree admission\nRight on the beach\nFamily-friendly fun \nGrab some snacks from the boardwalk\, settle into the sand\, and enjoy a movie night like no other. \nMovies begin at dusk. Check our schedule for featured films each week.\nJuly 5 – Jaws\nJuly 12 – Zootopia 2\nJuly 19 – The Super Mario Galaxy\nJuly 26 – The SpongeBob Movie: Search for Squarepants\nAugust 2 – Back to the Future\nAugust 9 – Lilo & Stitch\nAugust 16 – ET\nAugust 23 – How to Train Your Dragon \nSeaside Heights Beach\, enter at Fremont Avenue Beach Entrance \nWeather and conditions permitting \nMovies On The Beach – Back To The Future – Seaside Heights New Jersey Official Tourism Information Site
URL:https://oceancountytourism.com/event/movies-on-the-beach-back-to-the-future/
LOCATION:Seaside Heights Boardwalk\, 410 Boardwalk\, Seaside Heights\, NJ\, 08751\, United States
CATEGORIES:Festivals & Family Fun,Free,Movies
ATTACH;FMTTYPE=image/jpeg:https://oceancountytourism.com/wp-content/uploads/2026/03/BID_SH_MoviesOnTheBeach_7x9BackToTheFuture-796x1024-1.jpg
END:VEVENT
BEGIN:VEVENT
DTSTART;TZID=America/New_York:20260804T203000
DTEND;TZID=America/New_York:20260804T203000
DTSTAMP:20260420T185825
CREATED:20260420T152323Z
LAST-MODIFIED:20260420T152323Z
UID:10042523-1785875400-1785875400@oceancountytourism.com
SUMMARY:Movies on the Bay
DESCRIPTION:The Borough of Lavallette presents: Movies on the Bay Summer 2026 \nFree movie nights on the bayfront! \nschedule @ www.enjoylavallette.com/movies-on-the-bay \nTuesdays \nJuly 7\, July 14\, July 21\, July 28\, Aug 4\, Aug 11\, Aug 18\, Aug 25 and Sept 1.
URL:https://oceancountytourism.com/event/movies-on-the-bay/2026-08-04/
LOCATION:Lavallette Gazebo & Bayfront\, Philadelphia Avenue\, Lavallette\, NJ\, 08735\, United States
CATEGORIES:Festivals & Family Fun,Free,Movies
ATTACH;FMTTYPE=image/jpeg:https://oceancountytourism.com/wp-content/uploads/2026/04/Event-Poster-Web-Movies.jpg
ORGANIZER;CN="Enjoy Lavallette":MAILTO:info@enjoylavallette.com
END:VEVENT
BEGIN:VEVENT
DTSTART;TZID=America/New_York:20260805T160000
DTEND;TZID=America/New_York:20260805T170000
DTSTAMP:20260420T185825
CREATED:20260407T183135Z
LAST-MODIFIED:20260407T183135Z
UID:10042323-1785945600-1785949200@oceancountytourism.com
SUMMARY:Wildlife Animal Show
DESCRIPTION:Get ready for a wild adventure at Casino Pier!\nJoin us for an exciting FREE Wildlife Animal Show that brings you up close and personal with amazing animals from snakes to frogs to gators!\nThis interactive experience is perfect for families and animal lovers of all ages!\nDuring the show\, you’ll learn fascinating facts about each animal — where they live\, what they eat\, and what makes them unique.\nOur knowledgeable animal handlers will guide you through an engaging\, hands-on presentation that’s both educational and entertaining.\nBest of all\, guests will have the opportunity to safely pet and interact with select animals\, creating unforgettable memories right on the boardwalk.\nIt’s a rare chance to connect with wildlife while enjoying all the fun the pier has to offer.\nShow at 4pm on the Pier Stage by the Ferris Wheel\nDon’t miss this free wild and wonderful experience — fun\, learning\, and a little adventure await!
URL:https://oceancountytourism.com/event/wildlife-animal-show/2026-08-05/
LOCATION:Casino Pier & Breakwater Beach\, 800 Ocean Terrace\, Seaside Heights\, NJ\, 08751\, United States
CATEGORIES:Festivals & Family Fun,Free,Nature
ATTACH;FMTTYPE=image/jpeg:https://oceancountytourism.com/wp-content/uploads/2026/04/668531483_1403913075114758_3949837074834344171_n.jpg
END:VEVENT
BEGIN:VEVENT
DTSTART;TZID=America/New_York:20260809T190000
DTEND;TZID=America/New_York:20260809T190000
DTSTAMP:20260420T185825
CREATED:20260420T123004Z
LAST-MODIFIED:20260420T123004Z
UID:10042506-1786302000-1786302000@oceancountytourism.com
SUMMARY:Lavallette Summer Concert Series
DESCRIPTION:Free Summer Concerts at the Lavallette Gazebo \nEnjoy live music under the stars! \nSundays all summer long \nConcerts begin at 7pm \nJuly 5th at 8pm (fireworks night) \nPerformers to be announced \nSponsored in part by the Ocean County Carousel of Music
URL:https://oceancountytourism.com/event/lavallette-summer-concert-series/2026-08-09/
LOCATION:Lavallette Gazebo & Bayfront\, Philadelphia Avenue\, Lavallette\, NJ\, 08735\, United States
CATEGORIES:Concerts,Free,Live Entertainment
ATTACH;FMTTYPE=image/jpeg:https://oceancountytourism.com/wp-content/uploads/2026/04/Event-Poster-Web-Concerts.jpg
ORGANIZER;CN="Enjoy Lavallette":MAILTO:info@enjoylavallette.com
END:VEVENT
BEGIN:VEVENT
DTSTART;TZID=America/New_York:20260809T203000
DTEND;TZID=America/New_York:20260809T203000
DTSTAMP:20260420T185825
CREATED:20260317T175737Z
LAST-MODIFIED:20260317T175737Z
UID:10041800-1786307400-1786307400@oceancountytourism.com
SUMMARY:Movies On The Beach - Lilo & Stitch
DESCRIPTION:Movies on the Beach – Sponsored by Playa Bowls Seaside Heights\, and macc’s Mac & Cheese \nBring your blanket\, beach chairs\, and the whole family for Movies on the Beach in Seaside Heights! \nEnjoy free outdoor movies right on the sand\, with the ocean as your backdrop and the stars overhead. \nStarting at dusk\, we’ll be showing classic & popular movies throughout the summer. \nIt’s the perfect way to wind down after a day at the beach or boardwalk. \nFree admission\nRight on the beach\nFamily-friendly fun \nGrab some snacks from the boardwalk\, settle into the sand\, and enjoy a movie night like no other. \nMovies begin at dusk. Check our schedule for featured films each week.\nJuly 5 – Jaws\nJuly 12 – Zootopia 2\nJuly 19 – The Super Mario Galaxy\nJuly 26 – The SpongeBob Movie: Search for Squarepants\nAugust 2 – Back to the Future\nAugust 9 – Lilo & Stitch\nAugust 16 – ET\nAugust 23 – How to Train Your Dragon \nSeaside Heights Beach\, enter at Fremont Avenue Beach Entrance \nWeather and conditions permitting \nMovies On The Beach – Lilo & Stitch – Seaside Heights New Jersey Official Tourism Information Site
URL:https://oceancountytourism.com/event/movies-on-the-beach-lilo-stitch/
LOCATION:Seaside Heights Boardwalk\, 410 Boardwalk\, Seaside Heights\, NJ\, 08751\, United States
CATEGORIES:Festivals & Family Fun,Free,Movies
ATTACH;FMTTYPE=image/jpeg:https://oceancountytourism.com/wp-content/uploads/2026/03/BID_SH_MoviesOnTheBeach_7x9_LiloStitch-796x1024-1.jpg
END:VEVENT
BEGIN:VEVENT
DTSTART;TZID=America/New_York:20260810T190000
DTEND;TZID=America/New_York:20260810T190000
DTSTAMP:20260420T185825
CREATED:20260317T185516Z
LAST-MODIFIED:20260317T185516Z
UID:10041818-1786388400-1786388400@oceancountytourism.com
SUMMARY:Monday Night Concert Series - Jukebox Legends + Ladies
DESCRIPTION:Monday Night Concert Series – Jukebox Legends + Ladies \n\n\n\n\nMonday\, August 10\n\n\n\n\nFree Monday night concerts are held at the Franklin Avenue Stage on the boardwalk from 7 p.m. to dusk throughout the summer. \nThese weekly\, family-friendly events feature local singers and bands\, covering genres from oldies to dance tunes.\nAttendees are encouraged to bring beach chairs. \nMonday Night Concert Series – Jukebox Legends + Ladies – Seaside Heights New Jersey Official Tourism Information Site \n 
URL:https://oceancountytourism.com/event/monday-night-concert-series-jukebox-legends-ladies/
LOCATION:Seaside Heights Boardwalk\, 410 Boardwalk\, Seaside Heights\, NJ\, 08751\, United States
CATEGORIES:Concerts,Free,Live Entertainment
ATTACH;FMTTYPE=image/png:https://oceancountytourism.com/wp-content/uploads/2026/03/jukebox.png
END:VEVENT
BEGIN:VEVENT
DTSTART;TZID=America/New_York:20260811T203000
DTEND;TZID=America/New_York:20260811T203000
DTSTAMP:20260420T185825
CREATED:20260420T152323Z
LAST-MODIFIED:20260420T152323Z
UID:10042524-1786480200-1786480200@oceancountytourism.com
SUMMARY:Movies on the Bay
DESCRIPTION:The Borough of Lavallette presents: Movies on the Bay Summer 2026 \nFree movie nights on the bayfront! \nschedule @ www.enjoylavallette.com/movies-on-the-bay \nTuesdays \nJuly 7\, July 14\, July 21\, July 28\, Aug 4\, Aug 11\, Aug 18\, Aug 25 and Sept 1.
URL:https://oceancountytourism.com/event/movies-on-the-bay/2026-08-11/
LOCATION:Lavallette Gazebo & Bayfront\, Philadelphia Avenue\, Lavallette\, NJ\, 08735\, United States
CATEGORIES:Festivals & Family Fun,Free,Movies
ATTACH;FMTTYPE=image/jpeg:https://oceancountytourism.com/wp-content/uploads/2026/04/Event-Poster-Web-Movies.jpg
ORGANIZER;CN="Enjoy Lavallette":MAILTO:info@enjoylavallette.com
END:VEVENT
BEGIN:VEVENT
DTSTART;TZID=America/New_York:20260812T160000
DTEND;TZID=America/New_York:20260812T170000
DTSTAMP:20260420T185825
CREATED:20260407T183135Z
LAST-MODIFIED:20260407T183135Z
UID:10042324-1786550400-1786554000@oceancountytourism.com
SUMMARY:Wildlife Animal Show
DESCRIPTION:Get ready for a wild adventure at Casino Pier!\nJoin us for an exciting FREE Wildlife Animal Show that brings you up close and personal with amazing animals from snakes to frogs to gators!\nThis interactive experience is perfect for families and animal lovers of all ages!\nDuring the show\, you’ll learn fascinating facts about each animal — where they live\, what they eat\, and what makes them unique.\nOur knowledgeable animal handlers will guide you through an engaging\, hands-on presentation that’s both educational and entertaining.\nBest of all\, guests will have the opportunity to safely pet and interact with select animals\, creating unforgettable memories right on the boardwalk.\nIt’s a rare chance to connect with wildlife while enjoying all the fun the pier has to offer.\nShow at 4pm on the Pier Stage by the Ferris Wheel\nDon’t miss this free wild and wonderful experience — fun\, learning\, and a little adventure await!
URL:https://oceancountytourism.com/event/wildlife-animal-show/2026-08-12/
LOCATION:Casino Pier & Breakwater Beach\, 800 Ocean Terrace\, Seaside Heights\, NJ\, 08751\, United States
CATEGORIES:Festivals & Family Fun,Free,Nature
ATTACH;FMTTYPE=image/jpeg:https://oceancountytourism.com/wp-content/uploads/2026/04/668531483_1403913075114758_3949837074834344171_n.jpg
END:VEVENT
BEGIN:VEVENT
DTSTART;TZID=America/New_York:20260816T190000
DTEND;TZID=America/New_York:20260816T190000
DTSTAMP:20260420T185825
CREATED:20260420T123004Z
LAST-MODIFIED:20260420T123004Z
UID:10042507-1786906800-1786906800@oceancountytourism.com
SUMMARY:Lavallette Summer Concert Series
DESCRIPTION:Free Summer Concerts at the Lavallette Gazebo \nEnjoy live music under the stars! \nSundays all summer long \nConcerts begin at 7pm \nJuly 5th at 8pm (fireworks night) \nPerformers to be announced \nSponsored in part by the Ocean County Carousel of Music
URL:https://oceancountytourism.com/event/lavallette-summer-concert-series/2026-08-16/
LOCATION:Lavallette Gazebo & Bayfront\, Philadelphia Avenue\, Lavallette\, NJ\, 08735\, United States
CATEGORIES:Concerts,Free,Live Entertainment
ATTACH;FMTTYPE=image/jpeg:https://oceancountytourism.com/wp-content/uploads/2026/04/Event-Poster-Web-Concerts.jpg
ORGANIZER;CN="Enjoy Lavallette":MAILTO:info@enjoylavallette.com
END:VEVENT
BEGIN:VEVENT
DTSTART;TZID=America/New_York:20260816T203000
DTEND;TZID=America/New_York:20260816T203000
DTSTAMP:20260420T185825
CREATED:20260317T180311Z
LAST-MODIFIED:20260317T180311Z
UID:10041801-1786912200-1786912200@oceancountytourism.com
SUMMARY:Movies On The Beach - E.T.
DESCRIPTION:Movies on the Beach – Sponsored by Playa Bowls Seaside Heights\, and macc’s Mac & Cheese \nBring your blanket\, beach chairs\, and the whole family for Movies on the Beach in Seaside Heights! \n Enjoy free outdoor movies right on the sand\, with the ocean as your backdrop and the stars overhead. \nStarting at dusk\, we’ll be showing classic & popular movies throughout the summer. \nIt’s the perfect way to wind down after a day at the beach or boardwalk. \nFree admission\nRight on the beach\nFamily-friendly fun \nGrab some snacks from the boardwalk\, settle into the sand\, and enjoy a movie night like no other. \nMovies begin at dusk. Check our schedule for featured films each week.\nJuly 5 – Jaws\nJuly 12 – Zootopia 2\nJuly 19 – The Super Mario Galaxy\nJuly 26 – The SpongeBob Movie: Search for Squarepants\nAugust 2 – Back to the Future\nAugust 9 – Lilo & Stitch\nAugust 16 – ET\nAugust 23 – How to Train Your Dragon \nSeaside Heights Beach\, enter at Fremont Avenue Beach Entrance \nWeather and conditions permitting \nMovies On The Beach – E.T. – Seaside Heights New Jersey Official Tourism Information Site
URL:https://oceancountytourism.com/event/movies-on-the-beach-e-t/
LOCATION:Seaside Heights Boardwalk\, 410 Boardwalk\, Seaside Heights\, NJ\, 08751\, United States
CATEGORIES:Festivals & Family Fun,Free,Movies
ATTACH;FMTTYPE=image/jpeg:https://oceancountytourism.com/wp-content/uploads/2026/03/BID_SH_MoviesOnTheBeach_7x9_ET-796x1024-1.jpg
END:VEVENT
BEGIN:VEVENT
DTSTART;TZID=America/New_York:20260817T190000
DTEND;TZID=America/New_York:20260817T190000
DTSTAMP:20260420T185825
CREATED:20260317T190129Z
LAST-MODIFIED:20260317T190129Z
UID:10041820-1786993200-1786993200@oceancountytourism.com
SUMMARY:Monday Night Concert Series - Sky's the Limit
DESCRIPTION:Monday Night Concert Series – Sky’s the Limit \nTribute to the Duprees \n\n\n\n\nMonday\, August 17\n\n\n\n\n\n\n\n\nFree Monday night concerts are held at the Franklin Avenue Stage on the boardwalk from 7 p.m. to dusk throughout the summer. \nThese weekly\, family-friendly events feature local singers and bands\, covering genres from oldies to dance tunes.\nAttendees are encouraged to bring beach chairs. \nMonday Night Concert Series – Sky’s the Limit – Seaside Heights New Jersey Official Tourism Information Site
URL:https://oceancountytourism.com/event/monday-night-concert-series-skys-the-limit/
LOCATION:Seaside Heights Boardwalk\, 410 Boardwalk\, Seaside Heights\, NJ\, 08751\, United States
CATEGORIES:Concerts,Free,Live Entertainment
ATTACH;FMTTYPE=image/jpeg:https://oceancountytourism.com/wp-content/uploads/2026/03/images.jpg
END:VEVENT
BEGIN:VEVENT
DTSTART;TZID=America/New_York:20260818T203000
DTEND;TZID=America/New_York:20260818T203000
DTSTAMP:20260420T185825
CREATED:20260420T152323Z
LAST-MODIFIED:20260420T152323Z
UID:10042525-1787085000-1787085000@oceancountytourism.com
SUMMARY:Movies on the Bay
DESCRIPTION:The Borough of Lavallette presents: Movies on the Bay Summer 2026 \nFree movie nights on the bayfront! \nschedule @ www.enjoylavallette.com/movies-on-the-bay \nTuesdays \nJuly 7\, July 14\, July 21\, July 28\, Aug 4\, Aug 11\, Aug 18\, Aug 25 and Sept 1.
URL:https://oceancountytourism.com/event/movies-on-the-bay/2026-08-18/
LOCATION:Lavallette Gazebo & Bayfront\, Philadelphia Avenue\, Lavallette\, NJ\, 08735\, United States
CATEGORIES:Festivals & Family Fun,Free,Movies
ATTACH;FMTTYPE=image/jpeg:https://oceancountytourism.com/wp-content/uploads/2026/04/Event-Poster-Web-Movies.jpg
ORGANIZER;CN="Enjoy Lavallette":MAILTO:info@enjoylavallette.com
END:VEVENT
BEGIN:VEVENT
DTSTART;TZID=America/New_York:20260822T160000
DTEND;TZID=America/New_York:20260822T160000
DTSTAMP:20260420T185825
CREATED:20260318T123519Z
LAST-MODIFIED:20260318T123519Z
UID:10041833-1787414400-1787414400@oceancountytourism.com
SUMMARY:Seaside Showdown
DESCRIPTION:Titan Championship Wrestling presents Seaside Showdown live on the Boardwalk of Seaside Heights\, NJ in front of The Beachcomber Bar & Grill \nMeet and greet starts at 4pm – Bell Time 5pm\nFree event on the Boardwalk! \nSaturday\, June 6 \nSaturday\, August 22 \nTitan Championship Wrestling – Family Friendly Wrestling Entertainment
URL:https://oceancountytourism.com/event/seaside-showdown/2026-08-22/
LOCATION:Beachcomber Bar & Grill\, 100 Ocean Terrace\, Seaside Heights\, 08751
CATEGORIES:Free,Live Entertainment
ATTACH;FMTTYPE=image/jpeg:https://oceancountytourism.com/wp-content/uploads/2026/03/seaside-showdown.jpg
ORGANIZER;CN="Titan Championship Wrestling":MAILTO:titancwe@gmail.com
END:VEVENT
BEGIN:VEVENT
DTSTART;TZID=America/New_York:20260823T190000
DTEND;TZID=America/New_York:20260823T190000
DTSTAMP:20260420T185825
CREATED:20260420T123004Z
LAST-MODIFIED:20260420T123004Z
UID:10042508-1787511600-1787511600@oceancountytourism.com
SUMMARY:Lavallette Summer Concert Series
DESCRIPTION:Free Summer Concerts at the Lavallette Gazebo \nEnjoy live music under the stars! \nSundays all summer long \nConcerts begin at 7pm \nJuly 5th at 8pm (fireworks night) \nPerformers to be announced \nSponsored in part by the Ocean County Carousel of Music
URL:https://oceancountytourism.com/event/lavallette-summer-concert-series/2026-08-23/
LOCATION:Lavallette Gazebo & Bayfront\, Philadelphia Avenue\, Lavallette\, NJ\, 08735\, United States
CATEGORIES:Concerts,Free,Live Entertainment
ATTACH;FMTTYPE=image/jpeg:https://oceancountytourism.com/wp-content/uploads/2026/04/Event-Poster-Web-Concerts.jpg
ORGANIZER;CN="Enjoy Lavallette":MAILTO:info@enjoylavallette.com
END:VEVENT
BEGIN:VEVENT
DTSTART;TZID=America/New_York:20260823T203000
DTEND;TZID=America/New_York:20260823T203000
DTSTAMP:20260420T185825
CREATED:20260317T180832Z
LAST-MODIFIED:20260317T180832Z
UID:10041802-1787517000-1787517000@oceancountytourism.com
SUMMARY:Movies On The Beach - How To Train Your Dragon
DESCRIPTION:Movies on the Beach – Sponsored by Playa Bowls Seaside Heights\, and macc’s Mac & Cheese \nBring your blanket\, beach chairs\, and the whole family for Movies on the Beach in Seaside Heights! \nEnjoy free outdoor movies right on the sand\, with the ocean as your backdrop and the stars overhead. \nStarting at dusk\, we’ll be showing classic & popular movies throughout the summer. It’s the perfect way to wind down after a day at the beach or boardwalk. \nFree admission\nRight on the beach\nFamily-friendly fun \nGrab some snacks from the boardwalk\, settle into the sand\, and enjoy a movie night like no other. \nMovies begin at dusk. Check our schedule for featured films each week.\nJuly 5 – Jaws\nJuly 12 – Zootopia 2\nJuly 19 – The Super Mario Galaxy\nJuly 26 – The SpongeBob Movie: Search for Squarepants\nAugust 2 – Back to the Future\nAugust 9 – Lilo & Stitch\nAugust 16 – ET\nAugust 23 – How to Train Your Dragon \nSeaside Heights Beach\, enter at Fremont Avenue Beach Entrance \nWeather and Conditions permitting \nMovies On The Beach – How To Train Your Dragon – Seaside Heights New Jersey Official Tourism Information Site
URL:https://oceancountytourism.com/event/movies-on-the-beach-how-to-train-your-dragon/
LOCATION:Seaside Heights Boardwalk\, 410 Boardwalk\, Seaside Heights\, NJ\, 08751\, United States
CATEGORIES:Festivals & Family Fun,Free,Movies
ATTACH;FMTTYPE=image/jpeg:https://oceancountytourism.com/wp-content/uploads/2026/03/BID_SH_MoviesOnTheBeach_7x9_HowToTrainYourDragon-796x1024-1.jpg
END:VEVENT
BEGIN:VEVENT
DTSTART;TZID=America/New_York:20260824T190000
DTEND;TZID=America/New_York:20260824T190000
DTSTAMP:20260420T185825
CREATED:20260317T190441Z
LAST-MODIFIED:20260317T190441Z
UID:10041821-1787598000-1787598000@oceancountytourism.com
SUMMARY:Monday Night Concert Series: The Cameos
DESCRIPTION:Monday Night Concert Series: The Cameos\nNew Jersey’s Favorite Oldies Group\n\n\n\n\n\n\n\nMonday\, August 24\n\n\n\n\n\n\n\n\nFree Monday night concerts are held at the Franklin Avenue Stage on the boardwalk from 7 p.m. to dusk throughout the summer. \nThese weekly\, family-friendly events feature local singers and bands\, covering genres from oldies to dance tunes.\nAttendees are encouraged to bring beach chairs. \nMonday Night Concert Series: The Cameos – Seaside Heights New Jersey Official Tourism Information Site
URL:https://oceancountytourism.com/event/monday-night-concert-series-the-cameos/
LOCATION:Seaside Heights Boardwalk\, 410 Boardwalk\, Seaside Heights\, NJ\, 08751\, United States
CATEGORIES:Concerts,Free,Live Entertainment
ATTACH;FMTTYPE=image/jpeg:https://oceancountytourism.com/wp-content/uploads/2026/03/cameos.jpg
END:VEVENT
BEGIN:VEVENT
DTSTART;TZID=America/New_York:20260825T203000
DTEND;TZID=America/New_York:20260825T203000
DTSTAMP:20260420T185825
CREATED:20260420T152323Z
LAST-MODIFIED:20260420T152323Z
UID:10042526-1787689800-1787689800@oceancountytourism.com
SUMMARY:Movies on the Bay
DESCRIPTION:The Borough of Lavallette presents: Movies on the Bay Summer 2026 \nFree movie nights on the bayfront! \nschedule @ www.enjoylavallette.com/movies-on-the-bay \nTuesdays \nJuly 7\, July 14\, July 21\, July 28\, Aug 4\, Aug 11\, Aug 18\, Aug 25 and Sept 1.
URL:https://oceancountytourism.com/event/movies-on-the-bay/2026-08-25/
LOCATION:Lavallette Gazebo & Bayfront\, Philadelphia Avenue\, Lavallette\, NJ\, 08735\, United States
CATEGORIES:Festivals & Family Fun,Free,Movies
ATTACH;FMTTYPE=image/jpeg:https://oceancountytourism.com/wp-content/uploads/2026/04/Event-Poster-Web-Movies.jpg
ORGANIZER;CN="Enjoy Lavallette":MAILTO:info@enjoylavallette.com
END:VEVENT
BEGIN:VEVENT
DTSTART;TZID=America/New_York:20260830T190000
DTEND;TZID=America/New_York:20260830T190000
DTSTAMP:20260420T185825
CREATED:20260420T123004Z
LAST-MODIFIED:20260420T123004Z
UID:10042509-1788116400-1788116400@oceancountytourism.com
SUMMARY:Lavallette Summer Concert Series
DESCRIPTION:Free Summer Concerts at the Lavallette Gazebo \nEnjoy live music under the stars! \nSundays all summer long \nConcerts begin at 7pm \nJuly 5th at 8pm (fireworks night) \nPerformers to be announced \nSponsored in part by the Ocean County Carousel of Music
URL:https://oceancountytourism.com/event/lavallette-summer-concert-series/2026-08-30/
LOCATION:Lavallette Gazebo & Bayfront\, Philadelphia Avenue\, Lavallette\, NJ\, 08735\, United States
CATEGORIES:Concerts,Free,Live Entertainment
ATTACH;FMTTYPE=image/jpeg:https://oceancountytourism.com/wp-content/uploads/2026/04/Event-Poster-Web-Concerts.jpg
ORGANIZER;CN="Enjoy Lavallette":MAILTO:info@enjoylavallette.com
END:VEVENT
END:VCALENDAR