BEGIN:VCALENDAR
VERSION:2.0
PRODID:-//Ocean County Tourism - ECPv6.15.18//NONSGML v1.0//EN
CALSCALE:GREGORIAN
METHOD:PUBLISH
X-WR-CALNAME:Ocean County Tourism
X-ORIGINAL-URL:https://oceancountytourism.com
X-WR-CALDESC:Events for Ocean County Tourism
REFRESH-INTERVAL;VALUE=DURATION:PT1H
X-Robots-Tag:noindex
X-PUBLISHED-TTL:PT1H
BEGIN:VTIMEZONE
TZID:America/New_York
BEGIN:DAYLIGHT
TZOFFSETFROM:-0500
TZOFFSETTO:-0400
TZNAME:EDT
DTSTART:20240310T070000
END:DAYLIGHT
BEGIN:STANDARD
TZOFFSETFROM:-0400
TZOFFSETTO:-0500
TZNAME:EST
DTSTART:20241103T060000
END:STANDARD
BEGIN:DAYLIGHT
TZOFFSETFROM:-0500
TZOFFSETTO:-0400
TZNAME:EDT
DTSTART:20250309T070000
END:DAYLIGHT
BEGIN:STANDARD
TZOFFSETFROM:-0400
TZOFFSETTO:-0500
TZNAME:EST
DTSTART:20251102T060000
END:STANDARD
BEGIN:DAYLIGHT
TZOFFSETFROM:-0500
TZOFFSETTO:-0400
TZNAME:EDT
DTSTART:20260308T070000
END:DAYLIGHT
BEGIN:STANDARD
TZOFFSETFROM:-0400
TZOFFSETTO:-0500
TZNAME:EST
DTSTART:20261101T060000
END:STANDARD
END:VTIMEZONE
BEGIN:VEVENT
DTSTART;TZID=America/New_York:20250906T120000
DTEND;TZID=America/New_York:20250906T150000
DTSTAMP:20260424T012546
CREATED:20250707T114024Z
LAST-MODIFIED:20250707T114024Z
UID:10037688-1757160000-1757170800@oceancountytourism.com
SUMMARY:ICE CREAM SOCIAL & BLUEGRASS BAND
DESCRIPTION:The Brick Township Historical Society will hold an Ice Cream Social with “The Last Whippoorwill\,” a local bluegrass band as a featured attraction. \nAttendees are welcome to bring their lunch (no grills please). \nSeating will be on a first come\, first serve basis\, so people can bring their own folding chairs\, if they wish to do so. \nFREE ADMISSION \nhttps://bricktownshiphistoricalsociety.com \n732-785-2500 \nRain Date Sept. 7\, 2025 \nParking is in a lot 150 ft. east of the museum accessed by a driveway with a blue sign that says\, “Havens Farm.”
URL:https://oceancountytourism.com/event/ice-cream-social-bluegrass-band-2/
LOCATION:Havens Homestead Musuem\, 521 Herbertsville Road\, Brick\, NJ\, 08723\, United States
CATEGORIES:Concerts,Free
ATTACH;FMTTYPE=image/jpeg:https://oceancountytourism.com/wp-content/uploads/2022/04/icons-concert.jpg
END:VEVENT
BEGIN:VEVENT
DTSTART;TZID=America/New_York:20250907T080000
DTEND;TZID=America/New_York:20250907T140000
DTSTAMP:20260424T012546
CREATED:20250728T182453Z
LAST-MODIFIED:20250728T182453Z
UID:10038178-1757232000-1757253600@oceancountytourism.com
SUMMARY:Tractors\, Tails & Treasures
DESCRIPTION:🚜Tractors\, Tails & Treasures Sunday September 7th 8a-2p🌻 | Facebook
URL:https://oceancountytourism.com/event/tractors-tails-treasures/
LOCATION:New Egypt Flea Market\, 933 Monmouth County Road\, Cream Ridge\, NJ\, 08514\, United States
CATEGORIES:Festivals & Family Fun,Free
ATTACH;FMTTYPE=image/jpeg:https://oceancountytourism.com/wp-content/uploads/2025/07/522641973_1305824861545920_253107625996272791_n.jpg
END:VEVENT
BEGIN:VEVENT
DTSTART;TZID=America/New_York:20250909T193000
DTEND;TZID=America/New_York:20250909T193000
DTSTAMP:20260424T012546
CREATED:20250707T113705Z
LAST-MODIFIED:20250707T114519Z
UID:10037687-1757446200-1757446200@oceancountytourism.com
SUMMARY:Meeting/Program about the Vietnam War
DESCRIPTION:The Brick Township Historical Society will hold a meeting featuring Paul Zigo\, director of the World War II Studies Institute\, presenting a program on Vietnam during the years of 1964 to 1973\, FREE ADMISSION \nPlease park is the rear of the firehouse and enter by the door on the right on ground level. \nhttps://bricktownshiphistoricalsociety.com \n732-785-2500
URL:https://oceancountytourism.com/event/meeting-program-about-the-vietnam-war/
LOCATION:Herbertsville Firehouse\, 601 Herbertsville Rd\, Brick\, NJ\, 08724\, United States
CATEGORIES:Cultural & Heritage,Free,History
ATTACH;FMTTYPE=image/jpeg:https://oceancountytourism.com/wp-content/uploads/2022/04/icon-history.jpg
END:VEVENT
BEGIN:VEVENT
DTSTART;TZID=America/New_York:20250928T080000
DTEND;TZID=America/New_York:20250928T110000
DTSTAMP:20260424T012546
CREATED:20250515T144452Z
LAST-MODIFIED:20250515T144452Z
UID:10036299-1759046400-1759057200@oceancountytourism.com
SUMMARY:Cars - N- Coffee
DESCRIPTION:Sweetwater Coffee and Tea at Ocean County Mall has teamed up again with Riccardi Racing and Ocean County Casa for our monthly cars n coffee. \nThis event is free it is the 4th Sunday from April to November 8am-11am. \nCars and Coffee | Facebook
URL:https://oceancountytourism.com/event/cars-n-coffee/2025-09-28/
LOCATION:Sweetwaters Coffee & Tea Ocean County Mall\, 1201 Hooper Ave Unit A05\, Toms River\, NJ\, 08753\, United States
CATEGORIES:Free
ATTACH;FMTTYPE=image/jpeg:https://oceancountytourism.com/wp-content/uploads/2025/05/497547598_1234788661989026_6118905731122901647_n.jpg
END:VEVENT
END:VCALENDAR