BEGIN:VCALENDAR
VERSION:2.0
PRODID:-//Ocean County Tourism - ECPv6.15.18//NONSGML v1.0//EN
CALSCALE:GREGORIAN
METHOD:PUBLISH
X-WR-CALNAME:Ocean County Tourism
X-ORIGINAL-URL:https://oceancountytourism.com
X-WR-CALDESC:Events for Ocean County Tourism
REFRESH-INTERVAL;VALUE=DURATION:PT1H
X-Robots-Tag:noindex
X-PUBLISHED-TTL:PT1H
BEGIN:VTIMEZONE
TZID:America/New_York
BEGIN:DAYLIGHT
TZOFFSETFROM:-0500
TZOFFSETTO:-0400
TZNAME:EDT
DTSTART:20240310T070000
END:DAYLIGHT
BEGIN:STANDARD
TZOFFSETFROM:-0400
TZOFFSETTO:-0500
TZNAME:EST
DTSTART:20241103T060000
END:STANDARD
BEGIN:DAYLIGHT
TZOFFSETFROM:-0500
TZOFFSETTO:-0400
TZNAME:EDT
DTSTART:20250309T070000
END:DAYLIGHT
BEGIN:STANDARD
TZOFFSETFROM:-0400
TZOFFSETTO:-0500
TZNAME:EST
DTSTART:20251102T060000
END:STANDARD
BEGIN:DAYLIGHT
TZOFFSETFROM:-0500
TZOFFSETTO:-0400
TZNAME:EDT
DTSTART:20260308T070000
END:DAYLIGHT
BEGIN:STANDARD
TZOFFSETFROM:-0400
TZOFFSETTO:-0500
TZNAME:EST
DTSTART:20261101T060000
END:STANDARD
END:VTIMEZONE
BEGIN:VEVENT
DTSTART;TZID=America/New_York:20250801T183000
DTEND;TZID=America/New_York:20250801T183000
DTSTAMP:20260424T072535
CREATED:20250610T180748Z
LAST-MODIFIED:20250610T180748Z
UID:10036947-1754073000-1754073000@oceancountytourism.com
SUMMARY:Tuckerton's Summer Concerts
DESCRIPTION:
URL:https://oceancountytourism.com/event/tuckertons-summer-concerts-2/2025-08-01/
LOCATION:The All Wars Memorial Ball Field\, 310 Bay Ave\, Tuckerton\, 08087\, United States
CATEGORIES:Concerts,Free,Live Entertainment
ATTACH;FMTTYPE=image/jpeg:https://oceancountytourism.com/wp-content/uploads/2025/06/505880395_1052998910269458_3007093284578862082_n.jpg
END:VEVENT
BEGIN:VEVENT
DTSTART;TZID=America/New_York:20250804T180000
DTEND;TZID=America/New_York:20250804T200000
DTSTAMP:20260424T072535
CREATED:20250623T140009Z
LAST-MODIFIED:20250623T140009Z
UID:10037559-1754330400-1754337600@oceancountytourism.com
SUMMARY:Summer Fun Nights
DESCRIPTION:
URL:https://oceancountytourism.com/event/summer-fun-nights/2025-08-04/
LOCATION:Birch and Surf Park\, 1001 Ensign Ave\, Beachwood\, NJ\, 08722\, United States
CATEGORIES:Festivals & Family Fun,Free
ATTACH;FMTTYPE=image/png:https://oceancountytourism.com/wp-content/uploads/2025/06/Beachwood_Summer_Fun_Nights.png
END:VEVENT
BEGIN:VEVENT
DTSTART;TZID=America/New_York:20250805T170000
DTEND;TZID=America/New_York:20250805T200000
DTSTAMP:20260424T072535
CREATED:20250729T150923Z
LAST-MODIFIED:20250729T150923Z
UID:10038194-1754413200-1754424000@oceancountytourism.com
SUMMARY:Brick Township National Night Out
DESCRIPTION:
URL:https://oceancountytourism.com/event/brick-township-national-night-out/
LOCATION:Windward Beach Park\, 265 Princeton Ave\, Brick\, NJ\, 08724\, United States
CATEGORIES:Festivals & Family Fun,Free
ATTACH;FMTTYPE=image/jpeg:https://oceancountytourism.com/wp-content/uploads/2025/07/520527797_1176672557828608_6942834783557988690_n.jpg
END:VEVENT
BEGIN:VEVENT
DTSTART;TZID=America/New_York:20250805T180000
DTEND;TZID=America/New_York:20250805T183000
DTSTAMP:20260424T072535
CREATED:20250604T154959Z
LAST-MODIFIED:20250604T154959Z
UID:10036738-1754416800-1754418600@oceancountytourism.com
SUMMARY:Beach Bingo
DESCRIPTION:Join us for Bingo on the Beach! This is a free event. \nPlease meet our staff in front of the Aquarium. \nWeather permitting.
URL:https://oceancountytourism.com/event/beach-bingo-2/2025-08-05/
LOCATION:Jenkinson’s Aquarium\, 300 Ocean Ave\, Point Pleasant Beach\, NJ\, 08742\, United States
CATEGORIES:Festivals & Family Fun,Free
ATTACH;FMTTYPE=image/jpeg:https://oceancountytourism.com/wp-content/uploads/2025/06/Beach-Bingo-2025.jpg
END:VEVENT
BEGIN:VEVENT
DTSTART;TZID=America/New_York:20250805T190000
DTEND;TZID=America/New_York:20250805T190000
DTSTAMP:20260424T072535
CREATED:20250611T123851Z
LAST-MODIFIED:20250723T145808Z
UID:10036962-1754420400-1754420400@oceancountytourism.com
SUMMARY:Toms River Recreation Summer Concert Series - Austin City Nights
DESCRIPTION:Mayor Rodrick and the Toms River Recreation Department present Austin City Nights as part of our summer concert series on Tuesday August 5th\, 7pm at Shelter Cove Beach. \nBoaters are also welcome to anchor in the Cove to listen to the band and enjoy the evening on the Bay. \nParking at Shelter Cove and auxiliary parking with shuttle service from High School East. \nArrive early to grab a spot on the beach\, bring your blanket\, chair\, and family\, but leave the pets at home. \nKona Ice and food truck will be on site for those wishing to have a little to eat while watching the concert. \nFacebook: Toms River Township Government \nhttps://tomsrivertownship.com/211/Recreation \nrecreation@tomsrivertownship.com \n732 341 1000 x 8414 or x8437 \n 
URL:https://oceancountytourism.com/event/toms-river-tuesday-series-austin-city-nights/
LOCATION:Shelter Cove Beach\, 1390 Bay Ave\, Toms River\, 08753\, United States
CATEGORIES:Concerts,Free,Live Entertainment
ATTACH;FMTTYPE=image/png:https://oceancountytourism.com/wp-content/uploads/2025/06/Austin-City-Nights-8-5-25.png
END:VEVENT
BEGIN:VEVENT
DTSTART;TZID=America/New_York:20250806T183000
DTEND;TZID=America/New_York:20250806T200000
DTSTAMP:20260424T072535
CREATED:20250624T133521Z
LAST-MODIFIED:20250624T133521Z
UID:10037565-1754505000-1754510400@oceancountytourism.com
SUMMARY:Jenkinson's Boardwalk Summer Concert Series
DESCRIPTION:
URL:https://oceancountytourism.com/event/jenkinsons-boardwalk-summer-concert-series/2025-08-06/
LOCATION:Jenkinson’s Boardwalk\, 300 Ocean Ave.\, Point Pleasant Beach\, NJ\, 08742\, United States
CATEGORIES:Concerts,Free,Live Entertainment
ATTACH;FMTTYPE=image/jpeg:https://oceancountytourism.com/wp-content/uploads/2025/06/493610257_1124906586335799_2631648137361941538_n.jpg
END:VEVENT
BEGIN:VEVENT
DTSTART;TZID=America/New_York:20250806T193000
DTEND;TZID=America/New_York:20250806T193000
DTSTAMP:20260424T072535
CREATED:20250606T131920Z
LAST-MODIFIED:20250606T131920Z
UID:10036795-1754508600-1754508600@oceancountytourism.com
SUMMARY:Concerts on the Green
DESCRIPTION:
URL:https://oceancountytourism.com/event/concerts-on-the-green/2025-08-06/
LOCATION:Veterans Bicentennial Park Beach Haven\, 100 Engleside Ave.\, Beach Haven\, NJ\, 08008\, United States
CATEGORIES:Concerts,Free
ATTACH;FMTTYPE=image/jpeg:https://oceancountytourism.com/wp-content/uploads/2025/06/CAP-2025-Concert-Schedule-e1748876956283-791x1024-1.jpg
END:VEVENT
BEGIN:VEVENT
DTSTART;TZID=America/New_York:20250807T190000
DTEND;TZID=America/New_York:20250807T190000
DTSTAMP:20260424T072535
CREATED:20250528T124253Z
LAST-MODIFIED:20250528T124253Z
UID:10036504-1754593200-1754593200@oceancountytourism.com
SUMMARY:Kites & Castles
DESCRIPTION:Join us for a fun\, family evening\, building themed sand sculptures & flying kites!This weeks theme: Crazy CartoonsTHINGS TO KNOW:*Bring your own shovels\, buckets\, props\, etc and don’t forget your kite!*Sculpture building starts at 7pm and goes approx a half hour.*Prizes for participants – 1 Grand Prize winner*We take photos to be published on social media \nFREE EVENT! KITES & CASTLES – “Crazy Cartoons” | Facebook
URL:https://oceancountytourism.com/event/kites-castles-7/
LOCATION:Philadelphia Avenue Beach\, 1200 Oceanfront\, Lavallette\, NJ\, 08735\, United States
CATEGORIES:Festivals & Family Fun,Free
ATTACH;FMTTYPE=image/jpeg:https://oceancountytourism.com/wp-content/uploads/2025/05/500043465_1158573372978598_5784393869861041598_n.jpg
ORGANIZER;CN="Enjoy Lavallette":MAILTO:info@enjoylavallette.com
END:VEVENT
BEGIN:VEVENT
DTSTART;TZID=America/New_York:20250808T183000
DTEND;TZID=America/New_York:20250808T183000
DTSTAMP:20260424T072535
CREATED:20250610T180748Z
LAST-MODIFIED:20250610T180748Z
UID:10036948-1754677800-1754677800@oceancountytourism.com
SUMMARY:Tuckerton's Summer Concerts
DESCRIPTION:
URL:https://oceancountytourism.com/event/tuckertons-summer-concerts-2/2025-08-08/
LOCATION:The All Wars Memorial Ball Field\, 310 Bay Ave\, Tuckerton\, 08087\, United States
CATEGORIES:Concerts,Free,Live Entertainment
ATTACH;FMTTYPE=image/jpeg:https://oceancountytourism.com/wp-content/uploads/2025/06/505880395_1052998910269458_3007093284578862082_n.jpg
END:VEVENT
BEGIN:VEVENT
DTSTART;TZID=America/New_York:20250808T203000
DTEND;TZID=America/New_York:20250808T223000
DTSTAMP:20260424T072535
CREATED:20250731T121652Z
LAST-MODIFIED:20250731T121652Z
UID:10038260-1754685000-1754692200@oceancountytourism.com
SUMMARY:Date Night: Movies on the Beach
DESCRIPTION:FREE movies on the beach for Adults ONLY. \nAudience members will be seated on the beach in the vicinity of the Beach Patrol North Headquarters. \nThe movie will roll at dusk. \nNo rain date. \nSeaside Heights BID will be on the beach selling beer\, wine and seltzers during the movie for 21+! \nDate Night: Movies on the Beach: Dirty Dancing – Seaside Heights New Jersey Official Tourism Information Site
URL:https://oceancountytourism.com/event/date-night-movies-on-the-beach/
LOCATION:Seaside Heights Boardwalk\, 410 Boardwalk\, Seaside Heights\, NJ\, 08751\, United States
CATEGORIES:Free,Movies
ATTACH;FMTTYPE=image/jpeg:https://oceancountytourism.com/wp-content/uploads/2025/07/BID_SH_DateNight_Exit82_DirtyDancing.jpg
END:VEVENT
BEGIN:VEVENT
DTSTART;TZID=America/New_York:20250810T160000
DTEND;TZID=America/New_York:20250810T190000
DTSTAMP:20260424T072535
CREATED:20250616T193559Z
LAST-MODIFIED:20250616T193559Z
UID:10037505-1754841600-1754852400@oceancountytourism.com
SUMMARY:Cars and Concerts
DESCRIPTION:
URL:https://oceancountytourism.com/event/cars-and-concerts/2025-08-10/
LOCATION:RWJBH Field of Dreams\, 1505 N Bay Ave\, Toms River\, NJ\, 08753\, United States
CATEGORIES:Concerts,Festivals & Family Fun,Free
ATTACH;FMTTYPE=image/jpeg:https://oceancountytourism.com/wp-content/uploads/2025/06/506448081_1148191317342277_6683513451901140781_n.jpg
END:VEVENT
BEGIN:VEVENT
DTSTART;TZID=America/New_York:20250810T190000
DTEND;TZID=America/New_York:20250810T190000
DTSTAMP:20260424T072535
CREATED:20250611T124315Z
LAST-MODIFIED:20250723T155044Z
UID:10036963-1754852400-1754852400@oceancountytourism.com
SUMMARY:Toms River Sunday Concert Series - British Invasion
DESCRIPTION:Mayor Rodrick and the Toms River Recreation Department present British Invasion as part of our summer concert series on Tuesday August 10th\, 7pm at Shelter Cove Beach. \nBoaters are also welcome to anchor in the Cove to listen to the band and enjoy the evening on the Bay. \nParking at Shelter Cove and auxiliary parking with shuttle service from High School East. \nArrive early to grab a spot on the beach\, bring your blanket\, chair\, and family\, but leave the pets at home. \nKona Ice and food truck will be on site for those wishing to have a little to eat while watching the concert. \nFacebook: Toms River Township Government \nhttps://tomsrivertownship.com/211/Recreation \nrecreation@tomsrivertownship.com \n732 341 1000 x 8414 or x8437
URL:https://oceancountytourism.com/event/toms-river-sunday-concert-series-british-invasion/
LOCATION:Shelter Cove Beach\, 1390 Bay Ave\, Toms River\, 08753\, United States
CATEGORIES:Concerts,Free
ATTACH;FMTTYPE=image/png:https://oceancountytourism.com/wp-content/uploads/2025/06/British-Invasion-8-10-25.png
END:VEVENT
BEGIN:VEVENT
DTSTART;TZID=America/New_York:20250812T100000
DTEND;TZID=America/New_York:20250812T110000
DTSTAMP:20260424T072535
CREATED:20250515T142006Z
LAST-MODIFIED:20250515T142006Z
UID:10036287-1754992800-1754996400@oceancountytourism.com
SUMMARY:Krafty Kids Tuesdays
DESCRIPTION:Join us for a free kids program on Tuesday mornings!\nThere is no sign-up for this- most programs can handle up to 30 kids.\nJune 24th- Stay Healthy While Having Fun in the SunJuly 1st – Daisy Doodle Tattoos & Henna Tattoos with JuliaJuly 8th – Lego for Kids with Bricks & MinifigsJuly 15th – Stay Healthy While Having Fun in the SunJuly 22nd – Crafting with LBI Sea ShellsJuly 29th – Fun & Healthy Foods with PangeaAugust 12th- Arts & Crafts Sensory Play with Next Level KidsAugust 19th – Lego for Kids with Bricks & MinifigsAugust 26th – Art with Cathleen Engelsen (11am-12pm)*\nKrafty Kids | Facebook
URL:https://oceancountytourism.com/event/krafty-kids-tuesdays/2025-08-12/
LOCATION:Bayview Park Pavilion\, 6805 Long Beach Blvd.\, Long Beach\, NJ\, 08008\, United States
CATEGORIES:Festivals & Family Fun,Free
ATTACH;FMTTYPE=image/jpeg:https://oceancountytourism.com/wp-content/uploads/2025/05/495306035_122129474252667953_522956589893580234_n.jpg
END:VEVENT
BEGIN:VEVENT
DTSTART;TZID=America/New_York:20250812T180000
DTEND;TZID=America/New_York:20250812T183000
DTSTAMP:20260424T072535
CREATED:20250604T154959Z
LAST-MODIFIED:20250604T154959Z
UID:10036739-1755021600-1755023400@oceancountytourism.com
SUMMARY:Beach Bingo
DESCRIPTION:Join us for Bingo on the Beach! This is a free event. \nPlease meet our staff in front of the Aquarium. \nWeather permitting.
URL:https://oceancountytourism.com/event/beach-bingo-2/2025-08-12/
LOCATION:Jenkinson’s Aquarium\, 300 Ocean Ave\, Point Pleasant Beach\, NJ\, 08742\, United States
CATEGORIES:Festivals & Family Fun,Free
ATTACH;FMTTYPE=image/jpeg:https://oceancountytourism.com/wp-content/uploads/2025/06/Beach-Bingo-2025.jpg
END:VEVENT
BEGIN:VEVENT
DTSTART;TZID=America/New_York:20250813T180000
DTEND;TZID=America/New_York:20250813T210000
DTSTAMP:20260424T072535
CREATED:20250509T143955Z
LAST-MODIFIED:20250604T183825Z
UID:10036178-1755108000-1755118800@oceancountytourism.com
SUMMARY:Berkeley Summer Concert Series
DESCRIPTION:
URL:https://oceancountytourism.com/event/berkeley-summer-concert-series-4/
LOCATION:Veterans Park Bayville\, 489 Bill Zimmerman Jr Way\, Bayville\, NJ\, 08721\, United States
CATEGORIES:Concerts,Free,Live Entertainment
ATTACH;FMTTYPE=image/jpeg:https://oceancountytourism.com/wp-content/uploads/2025/05/503552062_1025177429806602_7407359755192621148_n.jpg
END:VEVENT
BEGIN:VEVENT
DTSTART;TZID=America/New_York:20250813T193000
DTEND;TZID=America/New_York:20250813T193000
DTSTAMP:20260424T072535
CREATED:20250606T131920Z
LAST-MODIFIED:20250606T131920Z
UID:10036796-1755113400-1755113400@oceancountytourism.com
SUMMARY:Concerts on the Green
DESCRIPTION:
URL:https://oceancountytourism.com/event/concerts-on-the-green/2025-08-13/
LOCATION:Veterans Bicentennial Park Beach Haven\, 100 Engleside Ave.\, Beach Haven\, NJ\, 08008\, United States
CATEGORIES:Concerts,Free
ATTACH;FMTTYPE=image/jpeg:https://oceancountytourism.com/wp-content/uploads/2025/06/CAP-2025-Concert-Schedule-e1748876956283-791x1024-1.jpg
END:VEVENT
BEGIN:VEVENT
DTSTART;TZID=America/New_York:20250814T190000
DTEND;TZID=America/New_York:20250814T190000
DTSTAMP:20260424T072535
CREATED:20250528T125232Z
LAST-MODIFIED:20250528T125232Z
UID:10036505-1755198000-1755198000@oceancountytourism.com
SUMMARY:Kites & Castles
DESCRIPTION:Join us for a fun\, family evening\, building themed sand sculptures & flying kites!This weeks theme: Mermaids & PiratesTHINGS TO KNOW:*Bring your own shovels\, buckets\, props\, etc and don’t forget your kite!*Sculpture building starts at 7pm and goes approx a half hour.*Prizes for participants – 1 Grand Prize winner*We take photos to be published on social media \nFREE EVENT! KITES & CASTLES – “Mermaids & Pirates” | Facebook
URL:https://oceancountytourism.com/event/kites-castles-8/
LOCATION:Philadelphia Avenue Beach\, 1200 Oceanfront\, Lavallette\, NJ\, 08735\, United States
CATEGORIES:Festivals & Family Fun,Free
ATTACH;FMTTYPE=image/jpeg:https://oceancountytourism.com/wp-content/uploads/2025/05/500393517_1158573949645207_7449749133912832193_n.jpg
ORGANIZER;CN="Enjoy Lavallette":MAILTO:info@enjoylavallette.com
END:VEVENT
BEGIN:VEVENT
DTSTART;TZID=America/New_York:20250815T183000
DTEND;TZID=America/New_York:20250815T183000
DTSTAMP:20260424T072535
CREATED:20250610T180748Z
LAST-MODIFIED:20250610T180748Z
UID:10036949-1755282600-1755282600@oceancountytourism.com
SUMMARY:Tuckerton's Summer Concerts
DESCRIPTION:
URL:https://oceancountytourism.com/event/tuckertons-summer-concerts-2/2025-08-15/
LOCATION:The All Wars Memorial Ball Field\, 310 Bay Ave\, Tuckerton\, 08087\, United States
CATEGORIES:Concerts,Free,Live Entertainment
ATTACH;FMTTYPE=image/jpeg:https://oceancountytourism.com/wp-content/uploads/2025/06/505880395_1052998910269458_3007093284578862082_n.jpg
END:VEVENT
BEGIN:VEVENT
DTSTART;TZID=America/New_York:20250819T100000
DTEND;TZID=America/New_York:20250819T110000
DTSTAMP:20260424T072535
CREATED:20250515T142006Z
LAST-MODIFIED:20250515T142006Z
UID:10036288-1755597600-1755601200@oceancountytourism.com
SUMMARY:Krafty Kids Tuesdays
DESCRIPTION:Join us for a free kids program on Tuesday mornings!\nThere is no sign-up for this- most programs can handle up to 30 kids.\nJune 24th- Stay Healthy While Having Fun in the SunJuly 1st – Daisy Doodle Tattoos & Henna Tattoos with JuliaJuly 8th – Lego for Kids with Bricks & MinifigsJuly 15th – Stay Healthy While Having Fun in the SunJuly 22nd – Crafting with LBI Sea ShellsJuly 29th – Fun & Healthy Foods with PangeaAugust 12th- Arts & Crafts Sensory Play with Next Level KidsAugust 19th – Lego for Kids with Bricks & MinifigsAugust 26th – Art with Cathleen Engelsen (11am-12pm)*\nKrafty Kids | Facebook
URL:https://oceancountytourism.com/event/krafty-kids-tuesdays/2025-08-19/
LOCATION:Bayview Park Pavilion\, 6805 Long Beach Blvd.\, Long Beach\, NJ\, 08008\, United States
CATEGORIES:Festivals & Family Fun,Free
ATTACH;FMTTYPE=image/jpeg:https://oceancountytourism.com/wp-content/uploads/2025/05/495306035_122129474252667953_522956589893580234_n.jpg
END:VEVENT
BEGIN:VEVENT
DTSTART;TZID=America/New_York:20250819T180000
DTEND;TZID=America/New_York:20250819T183000
DTSTAMP:20260424T072535
CREATED:20250604T154959Z
LAST-MODIFIED:20250604T154959Z
UID:10036740-1755626400-1755628200@oceancountytourism.com
SUMMARY:Beach Bingo
DESCRIPTION:Join us for Bingo on the Beach! This is a free event. \nPlease meet our staff in front of the Aquarium. \nWeather permitting.
URL:https://oceancountytourism.com/event/beach-bingo-2/2025-08-19/
LOCATION:Jenkinson’s Aquarium\, 300 Ocean Ave\, Point Pleasant Beach\, NJ\, 08742\, United States
CATEGORIES:Festivals & Family Fun,Free
ATTACH;FMTTYPE=image/jpeg:https://oceancountytourism.com/wp-content/uploads/2025/06/Beach-Bingo-2025.jpg
END:VEVENT
BEGIN:VEVENT
DTSTART;TZID=America/New_York:20250819T190000
DTEND;TZID=America/New_York:20250819T190000
DTSTAMP:20260424T072535
CREATED:20250611T130450Z
LAST-MODIFIED:20250724T122045Z
UID:10036965-1755630000-1755630000@oceancountytourism.com
SUMMARY:Toms River Tuesday Concert Series - The Benjamins
DESCRIPTION:Mayor Rodrick and the Toms River Recreation Department present The Benjamins as part of our summer concert series on Tuesday\, August 19th\, 7pm at Shelter Cove Beach. \nBoaters are also welcome to anchor in the Cove to listen to the band and enjoy the evening on the Bay. \nParking at Shelter Cove and auxiliary parking with shuttle service from High School East beginning at 6pm. \nParking is not permitted along Bay Avenue. Arrive early to grab a spot on the beach\, bring your blanket\, chair\, and family\, to enjoy food and live music with your friends and neighbors. \nKona Ice and a food truck will be on site for those wishing to have a little to eat while watching the concert. \nFireworks to follow immediately upon completion of concert at 9pm. Summer series is alcohol\, pet and smoking free. \nFacebook: Toms River Township Government \nhttps://tomsrivertownship.com/211/Recreation \nrecreation@tomsrivertownship.com \n732 341 1000 x 8414 or x8437 \n 
URL:https://oceancountytourism.com/event/toms-river-tuesday-concert-series-the-benjamins/
LOCATION:Shelter Cove Beach\, 1390 Bay Ave\, Toms River\, 08753\, United States
CATEGORIES:Concerts,Free,Live Entertainment
ATTACH;FMTTYPE=image/png:https://oceancountytourism.com/wp-content/uploads/2025/06/The-Benjamins-8-19-25.png
END:VEVENT
BEGIN:VEVENT
DTSTART;TZID=America/New_York:20250820T193000
DTEND;TZID=America/New_York:20250820T193000
DTSTAMP:20260424T072535
CREATED:20250606T131920Z
LAST-MODIFIED:20250606T131920Z
UID:10036797-1755718200-1755718200@oceancountytourism.com
SUMMARY:Concerts on the Green
DESCRIPTION:
URL:https://oceancountytourism.com/event/concerts-on-the-green/2025-08-20/
LOCATION:Veterans Bicentennial Park Beach Haven\, 100 Engleside Ave.\, Beach Haven\, NJ\, 08008\, United States
CATEGORIES:Concerts,Free
ATTACH;FMTTYPE=image/jpeg:https://oceancountytourism.com/wp-content/uploads/2025/06/CAP-2025-Concert-Schedule-e1748876956283-791x1024-1.jpg
END:VEVENT
BEGIN:VEVENT
DTSTART;TZID=America/New_York:20250821T130000
DTEND;TZID=America/New_York:20250821T150000
DTSTAMP:20260424T072535
CREATED:20250605T182707Z
LAST-MODIFIED:20250605T182707Z
UID:10036787-1755781200-1755788400@oceancountytourism.com
SUMMARY:Ice Cream Social & Classic Car Show
DESCRIPTION:
URL:https://oceancountytourism.com/event/ice-cream-social-classic-car-show/
LOCATION:Little Egg Harbor Community Center\, 319 W Cala Breeze Way\, Little Egg Harbor\, NJ\, 08087\, United States
CATEGORIES:Festivals & Family Fun,Free
ATTACH;FMTTYPE=image/jpeg:https://oceancountytourism.com/wp-content/uploads/2025/06/501077361_1023545116632421_7215139018775073962_n.jpg
END:VEVENT
BEGIN:VEVENT
DTSTART;TZID=America/New_York:20250821T190000
DTEND;TZID=America/New_York:20250821T190000
DTSTAMP:20260424T072535
CREATED:20250528T125626Z
LAST-MODIFIED:20250528T125626Z
UID:10036506-1755802800-1755802800@oceancountytourism.com
SUMMARY:Kites & Castles
DESCRIPTION:Join us for a fun\, family evening\, building themed sand sculptures & flying kites!This weeks theme: Amazing AnimalsTHINGS TO KNOW:*Bring your own shovels\, buckets\, props\, etc and don’t forget your kite!*Sculpture building starts at 7pm and goes approx a half hour.*Prizes for participants – 1 Grand Prize winner*We take photos to be published on social media \nFREE EVENT! KITES & CASTLES – “Amazing Animals” | Facebook
URL:https://oceancountytourism.com/event/kites-castles-9/
LOCATION:Philadelphia Avenue Beach\, 1200 Oceanfront\, Lavallette\, NJ\, 08735\, United States
CATEGORIES:Festivals & Family Fun,Free
ATTACH;FMTTYPE=image/jpeg:https://oceancountytourism.com/wp-content/uploads/2025/05/500385483_1158574542978481_8637681014164033268_n.jpg
ORGANIZER;CN="Enjoy Lavallette":MAILTO:info@enjoylavallette.com
END:VEVENT
BEGIN:VEVENT
DTSTART;TZID=America/New_York:20250822T194500
DTEND;TZID=America/New_York:20250822T194500
DTSTAMP:20260424T072535
CREATED:20250528T144135Z
LAST-MODIFIED:20250528T144135Z
UID:10036508-1755891900-1755891900@oceancountytourism.com
SUMMARY:Movie Night in the Park
DESCRIPTION:Free family event. Bring your chairs & blankets. Sorry\, no dogs allowed at this event. Rain date 8/24/25 \nMovie Night in the Park | Facebook
URL:https://oceancountytourism.com/event/movie-night-in-the-park-2/
LOCATION:Centennial Park\, Bay Head\, NJ\, 08742\, United States
CATEGORIES:Festivals & Family Fun,Free,Movies
ATTACH;FMTTYPE=image/jpeg:https://oceancountytourism.com/wp-content/uploads/2025/05/493020552_978693974435460_1741839785413947808_n.jpg
END:VEVENT
BEGIN:VEVENT
DTSTART;TZID=America/New_York:20250823T170000
DTEND;TZID=America/New_York:20250823T200000
DTSTAMP:20260424T072535
CREATED:20250509T143659Z
LAST-MODIFIED:20250604T184058Z
UID:10036177-1755968400-1755979200@oceancountytourism.com
SUMMARY:Berkeley Summer Concert Series
DESCRIPTION:  \n 
URL:https://oceancountytourism.com/event/berkeley-summer-concert-series-3/
LOCATION:White Sands Beach\, 23rd Avenue\, Seaside Park\, NJ\, 08752\, United States
CATEGORIES:Concerts,Free,Live Entertainment
ATTACH;FMTTYPE=image/jpeg:https://oceancountytourism.com/wp-content/uploads/2025/05/503552062_1025177429806602_7407359755192621148_n.jpg
END:VEVENT
BEGIN:VEVENT
DTSTART;TZID=America/New_York:20250824T080000
DTEND;TZID=America/New_York:20250824T110000
DTSTAMP:20260424T072535
CREATED:20250515T144452Z
LAST-MODIFIED:20250515T144452Z
UID:10036298-1756022400-1756033200@oceancountytourism.com
SUMMARY:Cars - N- Coffee
DESCRIPTION:Sweetwater Coffee and Tea at Ocean County Mall has teamed up again with Riccardi Racing and Ocean County Casa for our monthly cars n coffee. \nThis event is free it is the 4th Sunday from April to November 8am-11am. \nCars and Coffee | Facebook
URL:https://oceancountytourism.com/event/cars-n-coffee/2025-08-24/
LOCATION:Sweetwaters Coffee & Tea Ocean County Mall\, 1201 Hooper Ave Unit A05\, Toms River\, NJ\, 08753\, United States
CATEGORIES:Free
ATTACH;FMTTYPE=image/jpeg:https://oceancountytourism.com/wp-content/uploads/2025/05/497547598_1234788661989026_6118905731122901647_n.jpg
END:VEVENT
BEGIN:VEVENT
DTSTART;TZID=America/New_York:20250826T110000
DTEND;TZID=America/New_York:20250826T120000
DTSTAMP:20260424T072535
CREATED:20250515T142006Z
LAST-MODIFIED:20250515T142006Z
UID:10036289-1756206000-1756209600@oceancountytourism.com
SUMMARY:Krafty Kids Tuesdays
DESCRIPTION:Join us for a free kids program on Tuesday mornings!\nThere is no sign-up for this- most programs can handle up to 30 kids.\nJune 24th- Stay Healthy While Having Fun in the SunJuly 1st – Daisy Doodle Tattoos & Henna Tattoos with JuliaJuly 8th – Lego for Kids with Bricks & MinifigsJuly 15th – Stay Healthy While Having Fun in the SunJuly 22nd – Crafting with LBI Sea ShellsJuly 29th – Fun & Healthy Foods with PangeaAugust 12th- Arts & Crafts Sensory Play with Next Level KidsAugust 19th – Lego for Kids with Bricks & MinifigsAugust 26th – Art with Cathleen Engelsen (11am-12pm)*\nKrafty Kids | Facebook
URL:https://oceancountytourism.com/event/krafty-kids-tuesdays/2025-08-26/
LOCATION:Bayview Park Pavilion\, 6805 Long Beach Blvd.\, Long Beach\, NJ\, 08008\, United States
CATEGORIES:Festivals & Family Fun,Free
ATTACH;FMTTYPE=image/jpeg:https://oceancountytourism.com/wp-content/uploads/2025/05/495306035_122129474252667953_522956589893580234_n.jpg
END:VEVENT
BEGIN:VEVENT
DTSTART;TZID=America/New_York:20250826T180000
DTEND;TZID=America/New_York:20250826T183000
DTSTAMP:20260424T072535
CREATED:20250604T154959Z
LAST-MODIFIED:20250604T154959Z
UID:10036741-1756231200-1756233000@oceancountytourism.com
SUMMARY:Beach Bingo
DESCRIPTION:Join us for Bingo on the Beach! This is a free event. \nPlease meet our staff in front of the Aquarium. \nWeather permitting.
URL:https://oceancountytourism.com/event/beach-bingo-2/2025-08-26/
LOCATION:Jenkinson’s Aquarium\, 300 Ocean Ave\, Point Pleasant Beach\, NJ\, 08742\, United States
CATEGORIES:Festivals & Family Fun,Free
ATTACH;FMTTYPE=image/jpeg:https://oceancountytourism.com/wp-content/uploads/2025/06/Beach-Bingo-2025.jpg
END:VEVENT
BEGIN:VEVENT
DTSTART;TZID=America/New_York:20250828T190000
DTEND;TZID=America/New_York:20250828T190000
DTSTAMP:20260424T072535
CREATED:20250528T130051Z
LAST-MODIFIED:20250528T130051Z
UID:10036507-1756407600-1756407600@oceancountytourism.com
SUMMARY:Kites & Castles
DESCRIPTION:Join us for a fun\, family evening\, building themed sand sculptures & flying kites!This weeks theme: Back to SchoolTHINGS TO KNOW:*Bring your own shovels\, buckets\, props\, etc and don’t forget your kite!*Sculpture building starts at 7pm and goes approx a half hour.*Prizes for participants – 1 Grand Prize winner*We take photos to be published on social media \nFREE EVENT! KITES & CASTLES – “Back to School” | Facebook
URL:https://oceancountytourism.com/event/kites-castles-10/
LOCATION:Philadelphia Avenue Beach\, 1200 Oceanfront\, Lavallette\, NJ\, 08735\, United States
CATEGORIES:Festivals & Family Fun,Free
ATTACH;FMTTYPE=image/jpeg:https://oceancountytourism.com/wp-content/uploads/2025/05/500411589_1158575156311753_8117320502657055017_n.jpg
ORGANIZER;CN="Enjoy Lavallette":MAILTO:info@enjoylavallette.com
END:VEVENT
END:VCALENDAR