BEGIN:VCALENDAR
VERSION:2.0
PRODID:-//Ocean County Tourism - ECPv6.15.18//NONSGML v1.0//EN
CALSCALE:GREGORIAN
METHOD:PUBLISH
X-ORIGINAL-URL:https://oceancountytourism.com
X-WR-CALDESC:Events for Ocean County Tourism
REFRESH-INTERVAL;VALUE=DURATION:PT1H
X-Robots-Tag:noindex
X-PUBLISHED-TTL:PT1H
BEGIN:VTIMEZONE
TZID:America/New_York
BEGIN:DAYLIGHT
TZOFFSETFROM:-0500
TZOFFSETTO:-0400
TZNAME:EDT
DTSTART:20250309T070000
END:DAYLIGHT
BEGIN:STANDARD
TZOFFSETFROM:-0400
TZOFFSETTO:-0500
TZNAME:EST
DTSTART:20251102T060000
END:STANDARD
BEGIN:DAYLIGHT
TZOFFSETFROM:-0500
TZOFFSETTO:-0400
TZNAME:EDT
DTSTART:20260308T070000
END:DAYLIGHT
BEGIN:STANDARD
TZOFFSETFROM:-0400
TZOFFSETTO:-0500
TZNAME:EST
DTSTART:20261101T060000
END:STANDARD
BEGIN:DAYLIGHT
TZOFFSETFROM:-0500
TZOFFSETTO:-0400
TZNAME:EDT
DTSTART:20270314T070000
END:DAYLIGHT
BEGIN:STANDARD
TZOFFSETFROM:-0400
TZOFFSETTO:-0500
TZNAME:EST
DTSTART:20271107T060000
END:STANDARD
END:VTIMEZONE
BEGIN:VEVENT
DTSTART;TZID=America/New_York:20260215T150000
DTEND;TZID=America/New_York:20260215T150000
DTSTAMP:20260419T215343
CREATED:20260121T193240Z
LAST-MODIFIED:20260121T193240Z
UID:10040977-1771167600-1771167600@oceancountytourism.com
SUMMARY:Finnegan's Wake
DESCRIPTION:
URL:https://oceancountytourism.com/event/finnegans-wake/
LOCATION:Hemingway’s\, 612 Boulevard\, Seaside Heights\, NJ\, United States
CATEGORIES:Food,Live Entertainment
ATTACH;FMTTYPE=image/jpeg:https://oceancountytourism.com/wp-content/uploads/2026/01/616809392_1274214918072530_7078847227842993208_n.jpg
END:VEVENT
BEGIN:VEVENT
DTSTART;TZID=America/New_York:20260215T140000
DTEND;TZID=America/New_York:20260215T180000
DTSTAMP:20260419T215343
CREATED:20251121T162853Z
LAST-MODIFIED:20251121T162853Z
UID:10039905-1771164000-1771178400@oceancountytourism.com
SUMMARY:Love for Pitties Valentine's Bash
DESCRIPTION:For more information\, sponsorships or tickets visit: Non Profit Organization | The Pittie Project
URL:https://oceancountytourism.com/event/love-for-pitties-valentines-bash/
LOCATION:Yesterday’s Restaurant\, 938 Atlantic City Blvd\, Bayville\, 08721\, United States
CATEGORIES:Food
ATTACH;FMTTYPE=image/jpeg:https://oceancountytourism.com/wp-content/uploads/2025/11/564005003_1161951029251448_6261011240235129180_n.jpg
END:VEVENT
BEGIN:VEVENT
DTSTART;TZID=America/New_York:20260215T120000
DTEND;TZID=America/New_York:20260215T170000
DTSTAMP:20260419T215343
CREATED:20260121T131726Z
LAST-MODIFIED:20260121T131726Z
UID:10040931-1771156800-1771174800@oceancountytourism.com
SUMMARY:Wine & Chocolate Weekends
DESCRIPTION:Entertainment line-up (1pm-5pm)\nFeb 7th – Rob Messina\nFeb 8th – The Bergers\nFeb 14th – First Call\nFeb 15th – The Bergers\n\n\nVendors (Subject to Change):\nChocolate Moonshine\nMr. Big Stuff Cookies\nPsychic and Tarot Card reader\nLinked by Mint permanent jewelry\nCluster’s Popcorn\n Cold Stone Creamery\n\n\nFREE ADMISSION with sweet deals inside.
URL:https://oceancountytourism.com/event/wine-chocolate-weekends/2026-02-15/
LOCATION:Laurita Winery\, 85 Archertown Road\, New Egypt\, NJ\, 08533\, United States
CATEGORIES:Food
ATTACH;FMTTYPE=image/jpeg:https://oceancountytourism.com/wp-content/uploads/2026/01/618127750_1334204338754748_1390932480825546568_n.jpg
END:VEVENT
BEGIN:VEVENT
DTSTART;TZID=America/New_York:20260215T120000
DTEND;TZID=America/New_York:20260215T160000
DTSTAMP:20260419T215343
CREATED:20251211T153910Z
LAST-MODIFIED:20251211T153910Z
UID:10040063-1771156800-1771171200@oceancountytourism.com
SUMMARY:LBI Invitational Chili Cook-Off
DESCRIPTION:
URL:https://oceancountytourism.com/event/lbi-invitational-chili-cook-off/
LOCATION:St Francis Community Center\, 4700 Long Beach Blvd.\, Long Beach Township\, NJ\, 08008\, United States
CATEGORIES:Festivals & Family Fun,Food,Live Entertainment
ATTACH;FMTTYPE=image/jpeg:https://oceancountytourism.com/wp-content/uploads/2025/12/597397948_1287279550093668_2044363292366583624_n.jpg
END:VEVENT
BEGIN:VEVENT
DTSTART;TZID=America/New_York:20260215T100000
DTEND;TZID=America/New_York:20260215T100000
DTSTAMP:20260419T215343
CREATED:20260102T160549Z
LAST-MODIFIED:20260102T160549Z
UID:10040394-1771149600-1771149600@oceancountytourism.com
SUMMARY:Galentine's Brunch with Live Music
DESCRIPTION:Celebrate friendship and fabulous company at a special Galentine’s Brunch on Sunday\, February 15th at 10 AM. Gather the gals for a morning filled with laughter\, love\, and delicious food.\nEnjoy a traditional breakfast spread featuring freshly baked scones\, seasonal favorites\, and a variety of sweet and savory dishes crafted to make the day extra special.\nSip on gourmet tea\, coffee\, or orange juice while toasting to friendship and fun.\nPrice: $50 per personDate & Time: Sunday\, February 15th | 10:00 AM\nA perfect way to celebrate the amazing women who make life brighter. Reserve a spot and make this Galentine’s Day one to remember.\nThe cost is $50 per person plus tax and a cash gratuity.\nPlease call 732-818-7580 to reserve your seats\, or visit RESY and Eventbrite to purchase online.\nGalantine’s Brunch with Live Music | Facebook
URL:https://oceancountytourism.com/event/galentines-brunch-with-live-music/
LOCATION:Mathis House\, 600 Main St\, Toms River\, NJ\, 08753\, United States
CATEGORIES:Food,Live Entertainment
ATTACH;FMTTYPE=image/jpeg:https://oceancountytourism.com/wp-content/uploads/2026/01/600309594_1579342923717832_3679574010715567553_n.jpg
END:VEVENT
BEGIN:VEVENT
DTSTART;TZID=America/New_York:20260215T090000
DTEND;TZID=America/New_York:20260215T210000
DTSTAMP:20260419T215343
CREATED:20260120T151530Z
LAST-MODIFIED:20260120T151530Z
UID:10040823-1771146000-1771189200@oceancountytourism.com
SUMMARY:A Valentine's Date Night Dinner
DESCRIPTION:Reservations are open — Reserve by phone only 609-888-6063
URL:https://oceancountytourism.com/event/a-valentines-date-night-dinner/2026-02-15/
LOCATION:The Waterfront\, 361 East Lacey Road\, Lacey\, NJ\, United States
CATEGORIES:Food
ATTACH;FMTTYPE=image/jpeg:https://oceancountytourism.com/wp-content/uploads/2026/01/615882379_1358891562701803_7056698967325872439_n.jpg
END:VEVENT
BEGIN:VEVENT
DTSTART;TZID=America/New_York:20260215T080000
DTEND;TZID=America/New_York:20260215T110000
DTSTAMP:20260419T215343
CREATED:20260129T151200Z
LAST-MODIFIED:20260129T151200Z
UID:10041137-1771142400-1771153200@oceancountytourism.com
SUMMARY:All You Can Eat Breakfast
DESCRIPTION:
URL:https://oceancountytourism.com/event/all-you-can-eat-breakfast/
LOCATION:New Egypt Elks Lodge\, 105 Lakewood Road\, New Egypt\, NJ\, United States
CATEGORIES:Food
ATTACH;FMTTYPE=image/jpeg:https://oceancountytourism.com/wp-content/uploads/2026/01/622598419_1308590454643116_7815717243233867185_n.jpg
END:VEVENT
BEGIN:VEVENT
DTSTART;TZID=America/New_York:20260214T190000
DTEND;TZID=America/New_York:20260214T213000
DTSTAMP:20260419T215343
CREATED:20260102T160210Z
LAST-MODIFIED:20260102T160210Z
UID:10040393-1771095600-1771104600@oceancountytourism.com
SUMMARY:Valentine's Romantic Steak Dinner with Live Music
DESCRIPTION:Evening Highlights:Live romantic music throughout the eveningElegant table settings with roses for each coupleGourmet multi-course dinner prepared by our culinary teamGourmet Teas and Coffee\nThe Romantic Evening Menu will include:\nFresh Garden Salad with seasonal greens and house vinaigretteWarm Cup of Chef’s SoupMain Entrée (select in advance)\nFilet Mignon – perfectly grilled and served with a rich demi-glaceorSalmon Fillet – pan-seared and finished with a delicate lemon butter sauce\nSides:\nGrilled AsparagusGarlic Mashed Potatoes\nDessert:Chocolate-Covered Strawberries\nThe cost is $75 per person plus tax and a cash gratuity. Seniors 65+ and Military personnel are subject to a 10% discount.\nPlease call 732-818-7580 to reserve your seats\, or visit RESY and Eventbrite to purchase online.Cancellations with 24 hours’ notice result in a credit to the Mathis House for a future reservation.\nValentine’s Romantic Steak Dinner with Live Music | Facebook
URL:https://oceancountytourism.com/event/valentines-romantic-steak-dinner-with-live-music/2026-02-14/
LOCATION:Mathis House\, 600 Main St\, Toms River\, NJ\, 08753\, United States
CATEGORIES:Food,Live Entertainment
ATTACH;FMTTYPE=image/jpeg:https://oceancountytourism.com/wp-content/uploads/2026/01/598983181_1579321877053270_2405859623327377058_n.jpg
END:VEVENT
BEGIN:VEVENT
DTSTART;TZID=America/New_York:20260214T190000
DTEND;TZID=America/New_York:20260214T190000
DTSTAMP:20260419T215344
CREATED:20260115T195110Z
LAST-MODIFIED:20260115T195110Z
UID:10040682-1771095600-1771095600@oceancountytourism.com
SUMMARY:Valentine's Dinner
DESCRIPTION:  \nPrices start at $65 per person\, plus gratuity & tax. See more details online & make reservations \nLaurita Winery – Winery. Marketplace. Eatery. Located in Ocean County\, NJ
URL:https://oceancountytourism.com/event/valentines-dinner/2026-02-14/
LOCATION:Laurita Winery\, 85 Archertown Road\, New Egypt\, NJ\, 08533\, United States
CATEGORIES:Food
ATTACH;FMTTYPE=image/jpeg:https://oceancountytourism.com/wp-content/uploads/2026/01/614955957_1329313232577192_5274024694158878351_n.jpg
END:VEVENT
BEGIN:VEVENT
DTSTART;TZID=America/New_York:20260214T180000
DTEND;TZID=America/New_York:20260214T220000
DTSTAMP:20260419T215344
CREATED:20260127T153840Z
LAST-MODIFIED:20260127T153840Z
UID:10041027-1771092000-1771106400@oceancountytourism.com
SUMMARY:Jackson Amvets Post #2 Valentine's Day Dinner & Live Music
DESCRIPTION:
URL:https://oceancountytourism.com/event/jackson-amvets-post-2-valentines-day-dinner-live-music/
LOCATION:Jackson Amvets Post #2\, 1290 Toms River Rd\, Jackson\, 08527\, United States
CATEGORIES:Food
ATTACH;FMTTYPE=image/jpeg:https://oceancountytourism.com/wp-content/uploads/2026/01/619931005_122118229323074782_2763714937527004768_n.jpg
END:VEVENT
BEGIN:VEVENT
DTSTART;TZID=America/New_York:20260214T173000
DTEND;TZID=America/New_York:20260214T203000
DTSTAMP:20260419T215344
CREATED:20260129T161555Z
LAST-MODIFIED:20260129T161555Z
UID:10041140-1771090200-1771101000@oceancountytourism.com
SUMMARY:'Til Death Do Us Part Murder Mystery
DESCRIPTION:For tickets contact Jenn at (609)296-2137 or jlynn@ocvts.org
URL:https://oceancountytourism.com/event/til-death-do-us-part-murder-mystery/
LOCATION:Cuisine on the Green at Atlantis\, 261 Country Club Blvd.\, Toms River\, NJ\, United States
CATEGORIES:Food,Live Entertainment
ATTACH;FMTTYPE=image/jpeg:https://oceancountytourism.com/wp-content/uploads/2026/01/623225145_1491599359639134_1476848134366133700_n.jpg
END:VEVENT
BEGIN:VEVENT
DTSTART;TZID=America/New_York:20260214T120000
DTEND;TZID=America/New_York:20260214T200000
DTSTAMP:20260419T215344
CREATED:20251230T202753Z
LAST-MODIFIED:20251230T202753Z
UID:10040364-1771070400-1771099200@oceancountytourism.com
SUMMARY:109th Annual BHVFC Turkey Dinner
DESCRIPTION:109th Annual Turkey Dinner | Facebook
URL:https://oceancountytourism.com/event/109th-annual-bhvfc-turkey-dinner/
LOCATION:Beach Haven Vol. Fire Co #1\, 100 S Bay Avenue\, Beach Haven\, NJ\, 08008\, United States
CATEGORIES:Food
ATTACH;FMTTYPE=image/jpeg:https://oceancountytourism.com/wp-content/uploads/2025/12/597947193_1269192618574591_3672477447672983343_n.jpg
END:VEVENT
BEGIN:VEVENT
DTSTART;TZID=America/New_York:20260214T110000
DTEND;TZID=America/New_York:20260214T140000
DTSTAMP:20260419T215344
CREATED:20260121T144055Z
LAST-MODIFIED:20260121T144055Z
UID:10040975-1771066800-1771077600@oceancountytourism.com
SUMMARY:Riverside Anniversary Bash Valentines Weekend
DESCRIPTION:
URL:https://oceancountytourism.com/event/riverside-anniversary-bash-valentines-weekend/2026-02-14/
LOCATION:Riverside Tavern\, 400 Atlantic City Blvd\, Beachwood\, 08722\, United States
CATEGORIES:Food,Live Entertainment
ATTACH;FMTTYPE=image/jpeg:https://oceancountytourism.com/wp-content/uploads/2026/01/618079918_892592616855449_129857785708167423_n.jpg
END:VEVENT
BEGIN:VEVENT
DTSTART;TZID=America/New_York:20260214T090000
DTEND;TZID=America/New_York:20260214T150000
DTSTAMP:20260419T215344
CREATED:20260203T152756Z
LAST-MODIFIED:20260203T152756Z
UID:10041173-1771059600-1771081200@oceancountytourism.com
SUMMARY:Bake Sale
DESCRIPTION:
URL:https://oceancountytourism.com/event/bake-sale/
LOCATION:PetSmart Manahawkin\, 219 Stafford Park Blvd\, Stafford Township\, NJ\, 08050\, United States
CATEGORIES:Food
ATTACH;FMTTYPE=image/jpeg:https://oceancountytourism.com/wp-content/uploads/2026/02/625458668_1330059019166629_322702139271651903_n.jpg
END:VEVENT
BEGIN:VEVENT
DTSTART;TZID=America/New_York:20260213T190000
DTEND;TZID=America/New_York:20260213T190000
DTSTAMP:20260419T215344
CREATED:20260102T155357Z
LAST-MODIFIED:20260102T155357Z
UID:10040391-1771009200-1771009200@oceancountytourism.com
SUMMARY:Cupid's Little Arrow Valentine's Murder Mystery
DESCRIPTION:Sherlock Holmes – And the Case of Cupid’s ArrowGrab your spyglass\, your deerstalker hat\, and prepare yourself for a Valentine’s evening like none other!\nPit your mind against the world-famous sleuth Sherlock Holmes as he unlocks the secrets of an amorous demise!\nThe love of a man’s life has been kidnapped on the eve of Valentine’s Day\, and to make matters worse\, the butler was slain by a golden arrow-Cupid’s arrow! This latest tawdry affair\, turned homicide\, will keep you riveted\, with plenty of Riddles brood style audience participation\, interaction\, and laughs; you can’t help but be pulled into the show. Literally!!!\nSo bring yourself\, your sweetheart\, and your wits to help us solve the case of Cupid’s arrow!\nDinner includes a seasonal salad\, a cup of soup\, chicken Plicata\, penne vodka\, sausage and peppers\, roasted vegetables\, warm dinner rolls\, and dessert.\nCoffee and tea included.\nThe tickets are $75 per person plus tax and a cash gratuity.\nSeniors 65+ and Military Personnel receive a 10% discount. Call 732-818-7580 to make your reservation or visit RESY or Eventbrite.\nCupid’s Little Arrow Valentine’s Murder Mystery Dinner Show | Facebook
URL:https://oceancountytourism.com/event/cupids-little-arrow-valentines-murder-mystery/2026-02-13/
LOCATION:Mathis House\, 600 Main St\, Toms River\, NJ\, 08753\, United States
CATEGORIES:Food,Live Entertainment
ATTACH;FMTTYPE=image/jpeg:https://oceancountytourism.com/wp-content/uploads/2026/01/600352810_1579231523728972_4767396929344200079_n.jpg
END:VEVENT
BEGIN:VEVENT
DTSTART;TZID=America/New_York:20260213T180000
DTEND;TZID=America/New_York:20260213T180000
DTSTAMP:20260419T215344
CREATED:20260209T132641Z
LAST-MODIFIED:20260209T132641Z
UID:10041259-1771005600-1771005600@oceancountytourism.com
SUMMARY:Cuvée & Chocolate
DESCRIPTION:AN ELEVATED CHOCOLATE & WINE PAIRING EXPERIENCE \nJoin us for a guided tour where every exquisite bonbon is perfectly paired with fine wine. \nEnjoy curated charcuterie\, light bites\, and beverages throughout the experience. \nhttps://tastefullydoneevents.com/upcoming-events \nTastefullyDoneEvents@gmail.com \n908-420-2713
URL:https://oceancountytourism.com/event/cuvee-chocolate/
LOCATION:Handcrafted Chocolate\, 2804 Bridge Avenue\, Point Pleasant\, 08742\, United States
CATEGORIES:Food
ATTACH;FMTTYPE=image/jpeg:https://oceancountytourism.com/wp-content/uploads/2026/02/7C98E14A-9D74-494C-89D0-AC471B865AEC.jpeg
END:VEVENT
BEGIN:VEVENT
DTSTART;TZID=America/New_York:20260212T180000
DTEND;TZID=America/New_York:20260212T210000
DTSTAMP:20260419T215344
CREATED:20260121T132050Z
LAST-MODIFIED:20260121T132050Z
UID:10040932-1770919200-1770930000@oceancountytourism.com
SUMMARY:Galentine's Night
DESCRIPTION:Galentine’s Night at Laurita Winery | Facebook
URL:https://oceancountytourism.com/event/galentines-night/
LOCATION:Laurita Winery\, 85 Archertown Road\, New Egypt\, NJ\, 08533\, United States
CATEGORIES:Food
ATTACH;FMTTYPE=image/jpeg:https://oceancountytourism.com/wp-content/uploads/2026/01/618231616_1334216695420179_6044714711864343911_n-scaled.jpg
END:VEVENT
BEGIN:VEVENT
DTSTART;TZID=America/New_York:20260212T180000
DTEND;TZID=America/New_York:20260212T180000
DTSTAMP:20260419T215344
CREATED:20260127T194846Z
LAST-MODIFIED:20260127T194846Z
UID:10041029-1770919200-1770919200@oceancountytourism.com
SUMMARY:Valentine Cake Decorating
DESCRIPTION:Feel free to call with your questions\, reservations and custom orders! \nBakery | Jersey Shore | A Sweet Memory Cake Shoppe
URL:https://oceancountytourism.com/event/valentine-cake-decorating/
LOCATION:A Sweet Memory Cake Shoppe & Tea Room\, 521 Route 9\, Waretown\, NJ\, 08758\, United States
CATEGORIES:Festivals & Family Fun,Food
ATTACH;FMTTYPE=image/jpeg:https://oceancountytourism.com/wp-content/uploads/2026/01/623254291_18557219569062538_8217664044122618700_n.jpg
END:VEVENT
BEGIN:VEVENT
DTSTART;TZID=America/New_York:20260211T180000
DTEND;TZID=America/New_York:20260211T180000
DTSTAMP:20260419T215344
CREATED:20260102T154313Z
LAST-MODIFIED:20260102T154313Z
UID:10040387-1770832800-1770832800@oceancountytourism.com
SUMMARY:Daddy Daughter Valentine's Tea Party
DESCRIPTION:As you sip your tea\, your kiddos will get creative\, crafting homemade Valentine’s Day cards for their special friends and family.\nAll supplies will be provided by the Mathis House\, so just bring your enthusiasm!\nThe event will be filled with the sweet sounds of live piano music\, ensuring a delightful atmosphere for everyone.\n Ticket Information:\nChildren are $10\, Adults $20 plus tax and a cash gratuity.\nDon’t miss out on this memorable experience! Call 732-818-7580 for your tickets or visit RESY or Eventbrite purchase your tickets.\nDaddy Daughter Valentine’s Tea Party | Facebook
URL:https://oceancountytourism.com/event/daddy-daughter-valentines-tea-party/
LOCATION:Mathis House\, 600 Main St\, Toms River\, NJ\, 08753\, United States
CATEGORIES:Food
ATTACH;FMTTYPE=image/jpeg:https://oceancountytourism.com/wp-content/uploads/2026/01/600330063_1579303473721777_4920957045502229049_n.jpg
END:VEVENT
BEGIN:VEVENT
DTSTART;TZID=America/New_York:20260209T153000
DTEND;TZID=America/New_York:20260209T200000
DTSTAMP:20260419T215344
CREATED:20260115T181753Z
LAST-MODIFIED:20260115T181753Z
UID:10040679-1770651000-1770667200@oceancountytourism.com
SUMMARY:Daddy-Daughter Date Night Sock Hop!
DESCRIPTION:
URL:https://oceancountytourism.com/event/daddy-daughter-date-night-sock-hop/
LOCATION:Chick-fil-A Manahawkin\, 434 Route 72\, Manahawkin\, NJ\, 08050\, United States
CATEGORIES:Festivals & Family Fun,Food
ATTACH;FMTTYPE=image/jpeg:https://oceancountytourism.com/wp-content/uploads/2026/01/615404490_893281049731863_2041001949949662912_n.jpg
END:VEVENT
BEGIN:VEVENT
DTSTART;TZID=America/New_York:20260208T100000
DTEND;TZID=America/New_York:20260208T100000
DTSTAMP:20260419T215344
CREATED:20260120T145140Z
LAST-MODIFIED:20260120T145326Z
UID:10040770-1770544800-1770544800@oceancountytourism.com
SUMMARY:Boozy Bouquet Brunch
DESCRIPTION:Tickets are limited! \nCall 732-493-9484 \nFacebook
URL:https://oceancountytourism.com/event/boozy-boutique-brunch/
LOCATION:Joe Bella’s Italian Kitchen + Bar\, 781 Fischer Blvd\, Toms River\, 08753\, United States
CATEGORIES:Food
ATTACH;FMTTYPE=image/jpeg:https://oceancountytourism.com/wp-content/uploads/2026/01/618635608_18095237417489248_804583802801134720_n.jpg
END:VEVENT
BEGIN:VEVENT
DTSTART;TZID=America/New_York:20260207T120000
DTEND;TZID=America/New_York:20260207T180000
DTSTAMP:20260419T215344
CREATED:20260128T140856Z
LAST-MODIFIED:20260128T140856Z
UID:10041078-1770465600-1770487200@oceancountytourism.com
SUMMARY:1st Annual Pickle Jam
DESCRIPTION:Jetty and The Picklr are teaming up to host a pickleball tournament open to both players and spectators all while supporting a great cause.\nTeams are open to all\, with spots limited to 16 teams.\nThe $100 entry per team includes a limited-edition event tee\, and every team is guaranteed to play more than one game.\nWhen you’re not on the court\, enjoy live music\, food\, and merch throughout the day.\nThe event is open to the public\, and all proceeds benefit the Jetty Rock Foundation.\nFor more information and to sign up visit: Pickle Jam – Jetty Rock Foundation
URL:https://oceancountytourism.com/event/1st-annual-pickle-jam/
LOCATION:The Picklr Manahawkin-LBI\, 205 NJ-72 West\, Manahawkin\, 08050\, United States
CATEGORIES:Festivals & Family Fun,Food,Live Entertainment
ATTACH;FMTTYPE=image/jpeg:https://oceancountytourism.com/wp-content/uploads/2026/01/Screenshot_28-1-2026_9652_jettyrockfoundation.org_.jpeg
END:VEVENT
BEGIN:VEVENT
DTSTART;TZID=America/New_York:20260207T090000
DTEND;TZID=America/New_York:20260207T120000
DTSTAMP:20260419T215344
CREATED:20260116T155635Z
LAST-MODIFIED:20260116T155635Z
UID:10040701-1770454800-1770465600@oceancountytourism.com
SUMMARY:Ice Cream for Breakfast Day
DESCRIPTION:Ice Cream For Breakfast Day | Facebook
URL:https://oceancountytourism.com/event/ice-cream-for-breakfast-day-2/
LOCATION:The WooHoo\, 211 S Bay Ave\, Beach Haven\, 08008\, United States
CATEGORIES:Food
ATTACH;FMTTYPE=image/jpeg:https://oceancountytourism.com/wp-content/uploads/2026/01/611009446_1329596765850220_2664159936771480665_n.jpg
END:VEVENT
BEGIN:VEVENT
DTSTART;TZID=America/New_York:20260206T190000
DTEND;TZID=America/New_York:20260206T230000
DTSTAMP:20260419T215344
CREATED:20260121T132530Z
LAST-MODIFIED:20260121T132530Z
UID:10040934-1770404400-1770418800@oceancountytourism.com
SUMMARY:Back to the 80s Dance Party
DESCRIPTION:Back to the 80s Dance Party. Feb 6. 7pm-11pm – Laurita Winery and Marketplace – Plumsted\, NJ | Tock | Tock
URL:https://oceancountytourism.com/event/back-to-the-80s-dance-party/
LOCATION:Laurita Winery\, 85 Archertown Road\, New Egypt\, NJ\, 08533\, United States
CATEGORIES:Food
ATTACH;FMTTYPE=image/jpeg:https://oceancountytourism.com/wp-content/uploads/2026/01/619240007_1334207938754388_2599562493845784_n-scaled.jpg
END:VEVENT
BEGIN:VEVENT
DTSTART;TZID=America/New_York:20260206T190000
DTEND;TZID=America/New_York:20260206T190000
DTSTAMP:20260419T215344
CREATED:20260102T154039Z
LAST-MODIFIED:20260102T154039Z
UID:10040386-1770404400-1770404400@oceancountytourism.com
SUMMARY:Galentine's Dinner Buffet with Live Music
DESCRIPTION:Indulge in a fabulous dinner of delicious comfort food buffet.\nEnjoy the enchanting sounds of live music as we toast to friendship and create unforgettable memories. We are a BYOB.\nStay tuned for menu details and more exciting updates!\nThe cost is $50 per person\, plus tax and cash gratuity; seniors 65+ and military personnel are subject to a 10% discount.\nKindly visit RESY\, Eventbrite\, or call the Inn at 732-818-7580 to purchase tickets.\nCancellations with a 24-hour notice result in a credit to the Mathis House.\n Galantine’s Dinner Buffet with Live Music | Facebook
URL:https://oceancountytourism.com/event/galentines-dinner-buffet-with-live-music/
LOCATION:Mathis House\, 600 Main St\, Toms River\, NJ\, 08753\, United States
CATEGORIES:Food
ATTACH;FMTTYPE=image/jpeg:https://oceancountytourism.com/wp-content/uploads/2026/01/600257708_1579166487068809_3493842685654205179_n.jpg
END:VEVENT
BEGIN:VEVENT
DTSTART;TZID=America/New_York:20260206T180000
DTEND;TZID=America/New_York:20260206T200000
DTSTAMP:20260419T215344
CREATED:20260120T152137Z
LAST-MODIFIED:20260120T152137Z
UID:10040824-1770400800-1770408000@oceancountytourism.com
SUMMARY:Valentine's Cake Decorating Class with Honey Bloom Bakery
DESCRIPTION:Tickets are almost gone! Visit: Valentine’s Cake Decorating Class with Honey Bloom Bakery – Friday Feb 6th
URL:https://oceancountytourism.com/event/valentines-cake-decorating-class-with-honey-bloom-bakery/
LOCATION:Vine Garden & Gift\, 783 Fischer Blvd.\, Toms River
CATEGORIES:Food
ATTACH;FMTTYPE=image/jpeg:https://oceancountytourism.com/wp-content/uploads/2026/01/616934376_18518737198068248_3779622548747092352_n.jpg
ORGANIZER;CN="Honey Bloom Bakery":MAILTO:honeybloombakery@gmail.com
END:VEVENT
BEGIN:VEVENT
DTSTART;TZID=America/New_York:20260205T190000
DTEND;TZID=America/New_York:20260205T190000
DTSTAMP:20260419T215344
CREATED:20260114T173209Z
LAST-MODIFIED:20260114T173209Z
UID:10040636-1770318000-1770318000@oceancountytourism.com
SUMMARY:Super Bowl Trivia Night
DESCRIPTION:
URL:https://oceancountytourism.com/event/super-bowl-trivia-night/
LOCATION:Seaside Social House\, 116 Sumner Ave.\, Seaside Heights
CATEGORIES:Food,Live Entertainment
ATTACH;FMTTYPE=image/jpeg:https://oceancountytourism.com/wp-content/uploads/2026/01/610941071_122118102063033787_3403721817650023815_n.jpg
ORGANIZER;CN="Shoreline Trivia Co.":MAILTO:shorelinetriviaco@gmail.com
END:VEVENT
BEGIN:VEVENT
DTSTART;TZID=America/New_York:20260205T123000
DTEND;TZID=America/New_York:20260205T143000
DTSTAMP:20260419T215344
CREATED:20260205T200150Z
LAST-MODIFIED:20260205T200150Z
UID:10041249-1770294600-1770301800@oceancountytourism.com
SUMMARY:Sushi Making Class
DESCRIPTION:Sunday\, Mar 22\, 2026\n12:30 PM – 2:30 PM\n$65 per ticket\nFor tickets visit: Sushi Making Class. March 22. 12:30pm-2:30pm – Laurita Winery and Marketplace – Plumsted\, NJ | Tock | Tock
URL:https://oceancountytourism.com/event/sushi-making-class/
LOCATION:Laurita Winery\, 85 Archertown Road\, New Egypt\, NJ\, 08533\, United States
CATEGORIES:Food
ATTACH;FMTTYPE=image/jpeg:https://oceancountytourism.com/wp-content/uploads/2026/02/Screenshot_5-2-2026_145447_www.exploretock.com_.jpeg
END:VEVENT
BEGIN:VEVENT
DTSTART;TZID=America/New_York:20260201T090000
DTEND;TZID=America/New_York:20260201T140000
DTSTAMP:20260419T215344
CREATED:20260112T141340Z
LAST-MODIFIED:20260112T141340Z
UID:10040586-1769936400-1769954400@oceancountytourism.com
SUMMARY:Walt Week!
DESCRIPTION:Starts Wednesday 1/28 until Sunday 2/1. Open every day 9-4:00 and Sunday 9-2:00.\nWalt week is back!! | Facebook
URL:https://oceancountytourism.com/event/walt-week/2026-02-01/
LOCATION:Anna Banana’s Bakery\, 657 E. Bay Ave.\, Manahawkin\, NJ\, United States
CATEGORIES:Food
ATTACH;FMTTYPE=image/jpeg:https://oceancountytourism.com/wp-content/uploads/2026/01/612660005_1315856400563110_8496452200499015411_n.jpg
END:VEVENT
BEGIN:VEVENT
DTSTART;TZID=America/New_York:20260131T150000
DTEND;TZID=America/New_York:20260131T180000
DTSTAMP:20260419T215344
CREATED:20260107T192444Z
LAST-MODIFIED:20260107T192444Z
UID:10040488-1769871600-1769882400@oceancountytourism.com
SUMMARY:Lakehurst's Souper Bowl of Chili Cook-Off
DESCRIPTION:
URL:https://oceancountytourism.com/event/lakehursts-souper-bowl-of-chili-cook-off/
LOCATION:Lakehurst Community Center\, 207 Center Street\, Lakehurst\, NJ\, 08733\, United States
CATEGORIES:Food
ATTACH;FMTTYPE=image/jpeg:https://oceancountytourism.com/wp-content/uploads/2026/01/611163592_850867714247416_1937475017074140687_n.jpg
ORGANIZER;CN="Lakehurst Borough Historical Society":MAILTO:lakehurstbhs@gmail.com
END:VEVENT
END:VCALENDAR