BEGIN:VCALENDAR
VERSION:2.0
PRODID:-//Ocean County Tourism - ECPv6.15.18//NONSGML v1.0//EN
CALSCALE:GREGORIAN
METHOD:PUBLISH
X-ORIGINAL-URL:https://oceancountytourism.com
X-WR-CALDESC:Events for Ocean County Tourism
REFRESH-INTERVAL;VALUE=DURATION:PT1H
X-Robots-Tag:noindex
X-PUBLISHED-TTL:PT1H
BEGIN:VTIMEZONE
TZID:America/New_York
BEGIN:DAYLIGHT
TZOFFSETFROM:-0500
TZOFFSETTO:-0400
TZNAME:EDT
DTSTART:20250309T070000
END:DAYLIGHT
BEGIN:STANDARD
TZOFFSETFROM:-0400
TZOFFSETTO:-0500
TZNAME:EST
DTSTART:20251102T060000
END:STANDARD
BEGIN:DAYLIGHT
TZOFFSETFROM:-0500
TZOFFSETTO:-0400
TZNAME:EDT
DTSTART:20260308T070000
END:DAYLIGHT
BEGIN:STANDARD
TZOFFSETFROM:-0400
TZOFFSETTO:-0500
TZNAME:EST
DTSTART:20261101T060000
END:STANDARD
BEGIN:DAYLIGHT
TZOFFSETFROM:-0500
TZOFFSETTO:-0400
TZNAME:EDT
DTSTART:20270314T070000
END:DAYLIGHT
BEGIN:STANDARD
TZOFFSETFROM:-0400
TZOFFSETTO:-0500
TZNAME:EST
DTSTART:20271107T060000
END:STANDARD
END:VTIMEZONE
BEGIN:VEVENT
DTSTART;TZID=America/New_York:20260801T120000
DTEND;TZID=America/New_York:20260801T180000
DTSTAMP:20260421T203755
CREATED:20260421T173758Z
LAST-MODIFIED:20260421T173758Z
UID:10042535-1785585600-1785607200@oceancountytourism.com
SUMMARY:New Egypt Vol. Fire Co. 125th Anniversary Celebration
DESCRIPTION:New Egypt Vol. Fire Co. 125th Anniversary Celebration \nSaturday August 1st\, 2026 \n12pm-6pm \nFood trucks\, music\, parade and much more! \nParade starts at 12pm and ends at the New Egypt Elks Lodge \nCeremony begins at 2pm \n 
URL:https://oceancountytourism.com/event/new-egypt-vol-fire-co-125th-anniversary-celebration/
LOCATION:New Egypt Vol Fire Co #1\, 59 Main Street\, New Egypt\, NJ\, 08533\, United States
CATEGORIES:Festivals & Family Fun,Food,Live Entertainment
ATTACH;FMTTYPE=image/jpeg:https://oceancountytourism.com/wp-content/uploads/2026/04/674359675_1005993201776280_205496754716125656_n.jpg
END:VEVENT
BEGIN:VEVENT
DTSTART;TZID=America/New_York:20260801T170000
DTEND;TZID=America/New_York:20260801T220000
DTSTAMP:20260421T203755
CREATED:20260121T130421Z
LAST-MODIFIED:20260217T170833Z
UID:10040905-1785603600-1785621600@oceancountytourism.com
SUMMARY:Downtown Night Out
DESCRIPTION:Downtown Toms River’s Downtown Night Out Themes \nDTNO Starts May 29th- October 17th \nFridays & Saturdays 5pm-10pm \nMay 30th – Dog’s Night Out \nAugust 8th – Princess Party \nSeptember 5th- Local Summer \nSeptember 26th – Family Fun Night \nOctober 9th – Flannel Fest \nOctober 10th – Howl-O-Ween \n#Meetmedowntown learn more at: www.downtowntomsriver.com \nemail: info@downtowntomsriver.com or call 732-341-8738 \nSponsor a theme night! Host a fundraiser\, contact the BID to learn more!
URL:https://oceancountytourism.com/event/downtown-night-out-2/2026-08-01/
LOCATION:Washington Street\, 101 Washington Street\, Toms River\, NJ\, 08753\, United States
CATEGORIES:Festivals & Family Fun,Food
ATTACH;FMTTYPE=image/jpeg:https://oceancountytourism.com/wp-content/uploads/2026/01/617499317_1463560862440822_5281405072319168570_n.jpg
END:VEVENT
BEGIN:VEVENT
DTSTART;TZID=America/New_York:20260806T170000
DTEND;TZID=America/New_York:20260806T200000
DTSTAMP:20260421T203755
CREATED:20260107T151333Z
LAST-MODIFIED:20260107T151333Z
UID:10040480-1786035600-1786046400@oceancountytourism.com
SUMMARY:Car\, Truck & Motorcycle Cruise Nights
DESCRIPTION:For more information visit: HOME | Jersey Shore Car Shows
URL:https://oceancountytourism.com/event/car-truck-motorcycle-cruise-nights/2026-08-06/
LOCATION:Adventure Crossing USA\, 515 Monmouth Rd\, Jackson\, 08527\, United States
CATEGORIES:Festivals & Family Fun,Food,Live Entertainment
ATTACH;FMTTYPE=image/jpeg:https://oceancountytourism.com/wp-content/uploads/2026/01/611937355_897106529542205_695520853748070515_n.jpg
ORGANIZER;CN="Jersey Shore Car Shows":MAILTO:info@jerseyshorecarshows.org
END:VEVENT
BEGIN:VEVENT
DTSTART;TZID=America/New_York:20260806T180000
DTEND;TZID=America/New_York:20260806T193000
DTSTAMP:20260421T203755
CREATED:20260326T190746Z
LAST-MODIFIED:20260326T190746Z
UID:10042115-1786039200-1786044600@oceancountytourism.com
SUMMARY:20th Annual Chocolate Fair
DESCRIPTION:The 20th Annual Chocolate Fair \nThe most delicious event of the summer! \nAugust 6\, 2026 \nDoors open for ticket holders at 6pm \nLBI Historical Museum \n129 Engleside Ave. Beach Haven \nwww.lbihistoricalmuseum.org \n20th Annual Chocolate Fair! | My Site \n 
URL:https://oceancountytourism.com/event/20th-annual-chocolate-fair/
LOCATION:Long Beach Island Historical Association Museum\, 129 Engleside Ave.\, Beach Haven\, NJ\, 08008\, United States
CATEGORIES:Festivals,Food
ATTACH;FMTTYPE=image/jpeg:https://oceancountytourism.com/wp-content/uploads/2026/03/Screenshot_26-3-2026_15337_www.lbihistoricalmuseum.org_.jpeg
END:VEVENT
BEGIN:VEVENT
DTSTART;TZID=America/New_York:20260807T170000
DTEND;TZID=America/New_York:20260807T220000
DTSTAMP:20260421T203755
CREATED:20260121T130421Z
LAST-MODIFIED:20260217T170833Z
UID:10040906-1786122000-1786140000@oceancountytourism.com
SUMMARY:Downtown Night Out
DESCRIPTION:Downtown Toms River’s Downtown Night Out Themes \nDTNO Starts May 29th- October 17th \nFridays & Saturdays 5pm-10pm \nMay 30th – Dog’s Night Out \nAugust 8th – Princess Party \nSeptember 5th- Local Summer \nSeptember 26th – Family Fun Night \nOctober 9th – Flannel Fest \nOctober 10th – Howl-O-Ween \n#Meetmedowntown learn more at: www.downtowntomsriver.com \nemail: info@downtowntomsriver.com or call 732-341-8738 \nSponsor a theme night! Host a fundraiser\, contact the BID to learn more!
URL:https://oceancountytourism.com/event/downtown-night-out-2/2026-08-07/
LOCATION:Washington Street\, 101 Washington Street\, Toms River\, NJ\, 08753\, United States
CATEGORIES:Festivals & Family Fun,Food
ATTACH;FMTTYPE=image/jpeg:https://oceancountytourism.com/wp-content/uploads/2026/01/617499317_1463560862440822_5281405072319168570_n.jpg
END:VEVENT
BEGIN:VEVENT
DTSTART;TZID=America/New_York:20260808T170000
DTEND;TZID=America/New_York:20260808T220000
DTSTAMP:20260421T203755
CREATED:20260121T130421Z
LAST-MODIFIED:20260217T170833Z
UID:10040907-1786208400-1786226400@oceancountytourism.com
SUMMARY:Downtown Night Out
DESCRIPTION:Downtown Toms River’s Downtown Night Out Themes \nDTNO Starts May 29th- October 17th \nFridays & Saturdays 5pm-10pm \nMay 30th – Dog’s Night Out \nAugust 8th – Princess Party \nSeptember 5th- Local Summer \nSeptember 26th – Family Fun Night \nOctober 9th – Flannel Fest \nOctober 10th – Howl-O-Ween \n#Meetmedowntown learn more at: www.downtowntomsriver.com \nemail: info@downtowntomsriver.com or call 732-341-8738 \nSponsor a theme night! Host a fundraiser\, contact the BID to learn more!
URL:https://oceancountytourism.com/event/downtown-night-out-2/2026-08-08/
LOCATION:Washington Street\, 101 Washington Street\, Toms River\, NJ\, 08753\, United States
CATEGORIES:Festivals & Family Fun,Food
ATTACH;FMTTYPE=image/jpeg:https://oceancountytourism.com/wp-content/uploads/2026/01/617499317_1463560862440822_5281405072319168570_n.jpg
END:VEVENT
BEGIN:VEVENT
DTSTART;TZID=America/New_York:20260811T160000
DTEND;TZID=America/New_York:20260811T210000
DTSTAMP:20260421T203755
CREATED:20260120T201147Z
LAST-MODIFIED:20260218T164622Z
UID:10040829-1786464000-1786482000@oceancountytourism.com
SUMMARY:Dock Road Marlin Fest
DESCRIPTION:Dock Road Marlin Fest Beach Haven\, NJ \nAugust 11th-14th\, 2026 \nVendors\, food\, music \nOfficial weigh in location for the 57th Annual White Marlin Invitational Tournament \nFor additional information visit: Dock Road Marlin Fest | Beach Haven
URL:https://oceancountytourism.com/event/dock-road-marlin-fest-2/2026-08-11/
LOCATION:Dock Road\, 601 Dock Rd\, Beach Haven\, NJ\, 08008\, United States
CATEGORIES:Festivals & Family Fun,Food
ATTACH;FMTTYPE=image/jpeg:https://oceancountytourism.com/wp-content/uploads/2026/01/617588637_894900273120794_3970069700454768545_n.jpg
END:VEVENT
BEGIN:VEVENT
DTSTART;TZID=America/New_York:20260811T180000
DTEND;TZID=America/New_York:20260811T200000
DTSTAMP:20260421T203755
CREATED:20260312T125501Z
LAST-MODIFIED:20260312T125501Z
UID:10041629-1786471200-1786478400@oceancountytourism.com
SUMMARY:Bikes & Ice Cream
DESCRIPTION:Ocean County Powersports \nWe want you to join us for our bikes and ice cream night! \n6pm-8pm \nLive music\, ice cream and more! \nDates this year: 4/16\, 5/19\, 6/24\, 7/24\, 8/11 and 9/24 \nCars-trucks-bikes-autocycle-quadricycles all welcome. \nBikes & Ice Cream Nights! April 16th | Facebook
URL:https://oceancountytourism.com/event/bikes-ice-cream/2026-08-11/
LOCATION:Miss Mindy’s Ice Cream\, 155 Rt 9\, Bayville\, NJ\, 08721\, United States
CATEGORIES:Festivals & Family Fun,Food,Live Entertainment
ATTACH;FMTTYPE=image/jpeg:https://oceancountytourism.com/wp-content/uploads/2026/03/635187355_1428350239304428_6775291682927124214_n.jpg
ORGANIZER;CN="Ocean County Powersports":MAILTO:sales@oceancountypowersports.com
END:VEVENT
BEGIN:VEVENT
DTSTART;TZID=America/New_York:20260812T160000
DTEND;TZID=America/New_York:20260812T210000
DTSTAMP:20260421T203755
CREATED:20260120T201147Z
LAST-MODIFIED:20260218T164622Z
UID:10040830-1786550400-1786568400@oceancountytourism.com
SUMMARY:Dock Road Marlin Fest
DESCRIPTION:Dock Road Marlin Fest Beach Haven\, NJ \nAugust 11th-14th\, 2026 \nVendors\, food\, music \nOfficial weigh in location for the 57th Annual White Marlin Invitational Tournament \nFor additional information visit: Dock Road Marlin Fest | Beach Haven
URL:https://oceancountytourism.com/event/dock-road-marlin-fest-2/2026-08-12/
LOCATION:Dock Road\, 601 Dock Rd\, Beach Haven\, NJ\, 08008\, United States
CATEGORIES:Festivals & Family Fun,Food
ATTACH;FMTTYPE=image/jpeg:https://oceancountytourism.com/wp-content/uploads/2026/01/617588637_894900273120794_3970069700454768545_n.jpg
END:VEVENT
BEGIN:VEVENT
DTSTART;TZID=America/New_York:20260813T160000
DTEND;TZID=America/New_York:20260813T210000
DTSTAMP:20260421T203755
CREATED:20260120T201147Z
LAST-MODIFIED:20260218T164622Z
UID:10040831-1786636800-1786654800@oceancountytourism.com
SUMMARY:Dock Road Marlin Fest
DESCRIPTION:Dock Road Marlin Fest Beach Haven\, NJ \nAugust 11th-14th\, 2026 \nVendors\, food\, music \nOfficial weigh in location for the 57th Annual White Marlin Invitational Tournament \nFor additional information visit: Dock Road Marlin Fest | Beach Haven
URL:https://oceancountytourism.com/event/dock-road-marlin-fest-2/2026-08-13/
LOCATION:Dock Road\, 601 Dock Rd\, Beach Haven\, NJ\, 08008\, United States
CATEGORIES:Festivals & Family Fun,Food
ATTACH;FMTTYPE=image/jpeg:https://oceancountytourism.com/wp-content/uploads/2026/01/617588637_894900273120794_3970069700454768545_n.jpg
END:VEVENT
BEGIN:VEVENT
DTSTART;TZID=America/New_York:20260814T160000
DTEND;TZID=America/New_York:20260814T210000
DTSTAMP:20260421T203755
CREATED:20260120T201147Z
LAST-MODIFIED:20260218T164622Z
UID:10040832-1786723200-1786741200@oceancountytourism.com
SUMMARY:Dock Road Marlin Fest
DESCRIPTION:Dock Road Marlin Fest Beach Haven\, NJ \nAugust 11th-14th\, 2026 \nVendors\, food\, music \nOfficial weigh in location for the 57th Annual White Marlin Invitational Tournament \nFor additional information visit: Dock Road Marlin Fest | Beach Haven
URL:https://oceancountytourism.com/event/dock-road-marlin-fest-2/2026-08-14/
LOCATION:Dock Road\, 601 Dock Rd\, Beach Haven\, NJ\, 08008\, United States
CATEGORIES:Festivals & Family Fun,Food
ATTACH;FMTTYPE=image/jpeg:https://oceancountytourism.com/wp-content/uploads/2026/01/617588637_894900273120794_3970069700454768545_n.jpg
END:VEVENT
BEGIN:VEVENT
DTSTART;TZID=America/New_York:20260814T170000
DTEND;TZID=America/New_York:20260814T220000
DTSTAMP:20260421T203755
CREATED:20260121T130421Z
LAST-MODIFIED:20260217T170833Z
UID:10040908-1786726800-1786744800@oceancountytourism.com
SUMMARY:Downtown Night Out
DESCRIPTION:Downtown Toms River’s Downtown Night Out Themes \nDTNO Starts May 29th- October 17th \nFridays & Saturdays 5pm-10pm \nMay 30th – Dog’s Night Out \nAugust 8th – Princess Party \nSeptember 5th- Local Summer \nSeptember 26th – Family Fun Night \nOctober 9th – Flannel Fest \nOctober 10th – Howl-O-Ween \n#Meetmedowntown learn more at: www.downtowntomsriver.com \nemail: info@downtowntomsriver.com or call 732-341-8738 \nSponsor a theme night! Host a fundraiser\, contact the BID to learn more!
URL:https://oceancountytourism.com/event/downtown-night-out-2/2026-08-14/
LOCATION:Washington Street\, 101 Washington Street\, Toms River\, NJ\, 08753\, United States
CATEGORIES:Festivals & Family Fun,Food
ATTACH;FMTTYPE=image/jpeg:https://oceancountytourism.com/wp-content/uploads/2026/01/617499317_1463560862440822_5281405072319168570_n.jpg
END:VEVENT
BEGIN:VEVENT
DTSTART;TZID=America/New_York:20260815T170000
DTEND;TZID=America/New_York:20260815T220000
DTSTAMP:20260421T203755
CREATED:20260121T130421Z
LAST-MODIFIED:20260217T170833Z
UID:10040909-1786813200-1786831200@oceancountytourism.com
SUMMARY:Downtown Night Out
DESCRIPTION:Downtown Toms River’s Downtown Night Out Themes \nDTNO Starts May 29th- October 17th \nFridays & Saturdays 5pm-10pm \nMay 30th – Dog’s Night Out \nAugust 8th – Princess Party \nSeptember 5th- Local Summer \nSeptember 26th – Family Fun Night \nOctober 9th – Flannel Fest \nOctober 10th – Howl-O-Ween \n#Meetmedowntown learn more at: www.downtowntomsriver.com \nemail: info@downtowntomsriver.com or call 732-341-8738 \nSponsor a theme night! Host a fundraiser\, contact the BID to learn more!
URL:https://oceancountytourism.com/event/downtown-night-out-2/2026-08-15/
LOCATION:Washington Street\, 101 Washington Street\, Toms River\, NJ\, 08753\, United States
CATEGORIES:Festivals & Family Fun,Food
ATTACH;FMTTYPE=image/jpeg:https://oceancountytourism.com/wp-content/uploads/2026/01/617499317_1463560862440822_5281405072319168570_n.jpg
END:VEVENT
BEGIN:VEVENT
DTSTART;TZID=America/New_York:20260820T170000
DTEND;TZID=America/New_York:20260820T200000
DTSTAMP:20260421T203755
CREATED:20260107T151938Z
LAST-MODIFIED:20260218T152546Z
UID:10040484-1787245200-1787256000@oceancountytourism.com
SUMMARY:Car\, Truck & Motorcycle Cruise Nights
DESCRIPTION:Car\, truck & motorcycle cruise nights \n515 Monmouth Rd Jackson NJ \n1st & 3rd Thursdays June through September 2026 \n5pm-8pm- weather permitting \nopen to all years/makes/models! \nExciting theme nights\, live music and entertainment\, awesome food & drinks and family fun for all! \nDonations accepted for The Mission Hosted by Surf Corvette Club \nSpecial Hot Rod Haunting Trunk or Treat Saturday October 10\, 2026 from 4pm-9pm \n  \nFor more information visit: HOME | Jersey Shore Car Shows
URL:https://oceancountytourism.com/event/car-truck-motorcycle-cruise-nights-2/2026-08-20/
LOCATION:Adventure Crossing USA\, 515 Monmouth Rd\, Jackson\, 08527\, United States
CATEGORIES:Festivals & Family Fun,Food,Live Entertainment
ATTACH;FMTTYPE=image/jpeg:https://oceancountytourism.com/wp-content/uploads/2026/01/611937355_897106529542205_695520853748070515_n.jpg
END:VEVENT
BEGIN:VEVENT
DTSTART;TZID=America/New_York:20260821T170000
DTEND;TZID=America/New_York:20260821T220000
DTSTAMP:20260421T203755
CREATED:20260121T130421Z
LAST-MODIFIED:20260217T170833Z
UID:10040910-1787331600-1787349600@oceancountytourism.com
SUMMARY:Downtown Night Out
DESCRIPTION:Downtown Toms River’s Downtown Night Out Themes \nDTNO Starts May 29th- October 17th \nFridays & Saturdays 5pm-10pm \nMay 30th – Dog’s Night Out \nAugust 8th – Princess Party \nSeptember 5th- Local Summer \nSeptember 26th – Family Fun Night \nOctober 9th – Flannel Fest \nOctober 10th – Howl-O-Ween \n#Meetmedowntown learn more at: www.downtowntomsriver.com \nemail: info@downtowntomsriver.com or call 732-341-8738 \nSponsor a theme night! Host a fundraiser\, contact the BID to learn more!
URL:https://oceancountytourism.com/event/downtown-night-out-2/2026-08-21/
LOCATION:Washington Street\, 101 Washington Street\, Toms River\, NJ\, 08753\, United States
CATEGORIES:Festivals & Family Fun,Food
ATTACH;FMTTYPE=image/jpeg:https://oceancountytourism.com/wp-content/uploads/2026/01/617499317_1463560862440822_5281405072319168570_n.jpg
END:VEVENT
BEGIN:VEVENT
DTSTART;TZID=America/New_York:20260822T170000
DTEND;TZID=America/New_York:20260822T220000
DTSTAMP:20260421T203755
CREATED:20260121T130421Z
LAST-MODIFIED:20260217T170833Z
UID:10040911-1787418000-1787436000@oceancountytourism.com
SUMMARY:Downtown Night Out
DESCRIPTION:Downtown Toms River’s Downtown Night Out Themes \nDTNO Starts May 29th- October 17th \nFridays & Saturdays 5pm-10pm \nMay 30th – Dog’s Night Out \nAugust 8th – Princess Party \nSeptember 5th- Local Summer \nSeptember 26th – Family Fun Night \nOctober 9th – Flannel Fest \nOctober 10th – Howl-O-Ween \n#Meetmedowntown learn more at: www.downtowntomsriver.com \nemail: info@downtowntomsriver.com or call 732-341-8738 \nSponsor a theme night! Host a fundraiser\, contact the BID to learn more!
URL:https://oceancountytourism.com/event/downtown-night-out-2/2026-08-22/
LOCATION:Washington Street\, 101 Washington Street\, Toms River\, NJ\, 08753\, United States
CATEGORIES:Festivals & Family Fun,Food
ATTACH;FMTTYPE=image/jpeg:https://oceancountytourism.com/wp-content/uploads/2026/01/617499317_1463560862440822_5281405072319168570_n.jpg
END:VEVENT
BEGIN:VEVENT
DTSTART;TZID=America/New_York:20260828T170000
DTEND;TZID=America/New_York:20260828T220000
DTSTAMP:20260421T203755
CREATED:20260121T130421Z
LAST-MODIFIED:20260217T170833Z
UID:10040912-1787936400-1787954400@oceancountytourism.com
SUMMARY:Downtown Night Out
DESCRIPTION:Downtown Toms River’s Downtown Night Out Themes \nDTNO Starts May 29th- October 17th \nFridays & Saturdays 5pm-10pm \nMay 30th – Dog’s Night Out \nAugust 8th – Princess Party \nSeptember 5th- Local Summer \nSeptember 26th – Family Fun Night \nOctober 9th – Flannel Fest \nOctober 10th – Howl-O-Ween \n#Meetmedowntown learn more at: www.downtowntomsriver.com \nemail: info@downtowntomsriver.com or call 732-341-8738 \nSponsor a theme night! Host a fundraiser\, contact the BID to learn more!
URL:https://oceancountytourism.com/event/downtown-night-out-2/2026-08-28/
LOCATION:Washington Street\, 101 Washington Street\, Toms River\, NJ\, 08753\, United States
CATEGORIES:Festivals & Family Fun,Food
ATTACH;FMTTYPE=image/jpeg:https://oceancountytourism.com/wp-content/uploads/2026/01/617499317_1463560862440822_5281405072319168570_n.jpg
END:VEVENT
BEGIN:VEVENT
DTSTART;TZID=America/New_York:20260829T170000
DTEND;TZID=America/New_York:20260829T220000
DTSTAMP:20260421T203755
CREATED:20260121T130421Z
LAST-MODIFIED:20260217T170833Z
UID:10040913-1788022800-1788040800@oceancountytourism.com
SUMMARY:Downtown Night Out
DESCRIPTION:Downtown Toms River’s Downtown Night Out Themes \nDTNO Starts May 29th- October 17th \nFridays & Saturdays 5pm-10pm \nMay 30th – Dog’s Night Out \nAugust 8th – Princess Party \nSeptember 5th- Local Summer \nSeptember 26th – Family Fun Night \nOctober 9th – Flannel Fest \nOctober 10th – Howl-O-Ween \n#Meetmedowntown learn more at: www.downtowntomsriver.com \nemail: info@downtowntomsriver.com or call 732-341-8738 \nSponsor a theme night! Host a fundraiser\, contact the BID to learn more!
URL:https://oceancountytourism.com/event/downtown-night-out-2/2026-08-29/
LOCATION:Washington Street\, 101 Washington Street\, Toms River\, NJ\, 08753\, United States
CATEGORIES:Festivals & Family Fun,Food
ATTACH;FMTTYPE=image/jpeg:https://oceancountytourism.com/wp-content/uploads/2026/01/617499317_1463560862440822_5281405072319168570_n.jpg
END:VEVENT
END:VCALENDAR