BEGIN:VCALENDAR
VERSION:2.0
PRODID:-//Ocean County Tourism - ECPv6.15.18//NONSGML v1.0//EN
CALSCALE:GREGORIAN
METHOD:PUBLISH
X-ORIGINAL-URL:https://oceancountytourism.com
X-WR-CALDESC:Events for Ocean County Tourism
REFRESH-INTERVAL;VALUE=DURATION:PT1H
X-Robots-Tag:noindex
X-PUBLISHED-TTL:PT1H
BEGIN:VTIMEZONE
TZID:America/New_York
BEGIN:DAYLIGHT
TZOFFSETFROM:-0500
TZOFFSETTO:-0400
TZNAME:EDT
DTSTART:20250309T070000
END:DAYLIGHT
BEGIN:STANDARD
TZOFFSETFROM:-0400
TZOFFSETTO:-0500
TZNAME:EST
DTSTART:20251102T060000
END:STANDARD
BEGIN:DAYLIGHT
TZOFFSETFROM:-0500
TZOFFSETTO:-0400
TZNAME:EDT
DTSTART:20260308T070000
END:DAYLIGHT
BEGIN:STANDARD
TZOFFSETFROM:-0400
TZOFFSETTO:-0500
TZNAME:EST
DTSTART:20261101T060000
END:STANDARD
BEGIN:DAYLIGHT
TZOFFSETFROM:-0500
TZOFFSETTO:-0400
TZNAME:EDT
DTSTART:20270314T070000
END:DAYLIGHT
BEGIN:STANDARD
TZOFFSETFROM:-0400
TZOFFSETTO:-0500
TZNAME:EST
DTSTART:20271107T060000
END:STANDARD
END:VTIMEZONE
BEGIN:VEVENT
DTSTART;TZID=America/New_York:20260825T100000
DTEND;TZID=America/New_York:20260825T180000
DTSTAMP:20260425T224838
CREATED:20260422T154906Z
LAST-MODIFIED:20260422T154906Z
UID:10042559-1787652000-1787680800@oceancountytourism.com
SUMMARY:Teacher Appreciation Day
DESCRIPTION:Celebrate the heroes of the classroom at Casino Pier with Teacher Appreciation Day!\nThis special day is our way of saying thank you to all the amazing educators who inspire\, guide\, and shape young minds every day.\nTeachers get to enjoy free rides on the pier and free waterpark admission as a token of our appreciation\, while families can join in the fun and show their gratitude.\nFrom thrilling slides to classic boardwalk attractions\, it’s the perfect way for teachers to unwind\, have fun\, and make lasting memories before school starts.\nBring the whole family and help us honor the incredible work teachers do all year long.\nTeachers receive a FREE Ride & Slide Admission (with valid Teacher’s ID)*Wristband excludes Go-Karts\, Skyscraper\, Sky Ride & SkyCoaster*Both Ride Wristband & Waterpark Admission have to be used that day. Only valid August 25\, 2026\n10am-6pm\nWeather permitting
URL:https://oceancountytourism.com/event/teacher-appreciation-day-2/
LOCATION:Casino Pier & Breakwater Beach\, 800 Ocean Terrace\, Seaside Heights\, NJ\, 08751\, United States
CATEGORIES:Festivals & Family Fun
ATTACH;FMTTYPE=image/jpeg:https://oceancountytourism.com/wp-content/uploads/2026/04/672385637_1412709064235159_2846715426663802805_n.jpg
END:VEVENT
END:VCALENDAR