BEGIN:VCALENDAR
VERSION:2.0
PRODID:-//Ocean County Tourism - ECPv6.15.18//NONSGML v1.0//EN
CALSCALE:GREGORIAN
METHOD:PUBLISH
X-ORIGINAL-URL:https://oceancountytourism.com
X-WR-CALDESC:Events for Ocean County Tourism
REFRESH-INTERVAL;VALUE=DURATION:PT1H
X-Robots-Tag:noindex
X-PUBLISHED-TTL:PT1H
BEGIN:VTIMEZONE
TZID:America/New_York
BEGIN:DAYLIGHT
TZOFFSETFROM:-0500
TZOFFSETTO:-0400
TZNAME:EDT
DTSTART:20250309T070000
END:DAYLIGHT
BEGIN:STANDARD
TZOFFSETFROM:-0400
TZOFFSETTO:-0500
TZNAME:EST
DTSTART:20251102T060000
END:STANDARD
BEGIN:DAYLIGHT
TZOFFSETFROM:-0500
TZOFFSETTO:-0400
TZNAME:EDT
DTSTART:20260308T070000
END:DAYLIGHT
BEGIN:STANDARD
TZOFFSETFROM:-0400
TZOFFSETTO:-0500
TZNAME:EST
DTSTART:20261101T060000
END:STANDARD
BEGIN:DAYLIGHT
TZOFFSETFROM:-0500
TZOFFSETTO:-0400
TZNAME:EDT
DTSTART:20270314T070000
END:DAYLIGHT
BEGIN:STANDARD
TZOFFSETFROM:-0400
TZOFFSETTO:-0500
TZNAME:EST
DTSTART:20271107T060000
END:STANDARD
END:VTIMEZONE
BEGIN:VEVENT
DTSTART;TZID=America/New_York:20260812T170000
DTEND;TZID=America/New_York:20260812T190000
DTSTAMP:20260425T175634
CREATED:20260424T142644Z
LAST-MODIFIED:20260424T142644Z
UID:10042846-1786554000-1786561200@oceancountytourism.com
SUMMARY:Luau Night
DESCRIPTION:Luau Night at Breakwater Beach Waterpark! \nGet ready to feel the island vibes during our Family Fun Nights at Breakwater Beach Waterpark! \nJoin us for a tropical evening filled with high-energy luau dancing\, an exciting fire dancer performance\, and plenty of Hawaiian-style fun for the whole family. \nSlide into the night with extended waterpark hours\, soak up the festive atmosphere\, and make unforgettable summer memories under the sunset. \nSpecial Admission: Just $20 from 5–7pm (admission window closes at 7pm) August 12 \nGrab your friends\, bring the family\, and don’t miss this unforgettable island-inspired night at the shore! \ncasinopiernj.com/specials-events \ninfo@casinopiernj.com \n7327936488
URL:https://oceancountytourism.com/event/luau-night/
LOCATION:Breakwater Beach Waterpark\, 62 Grant Avenue\, Seaside Heights\, 08751
CATEGORIES:Festivals & Family Fun
ATTACH;FMTTYPE=image/jpeg:https://oceancountytourism.com/wp-content/uploads/2026/04/Luau_SSH-Web-Block.jpg
END:VEVENT
END:VCALENDAR