BEGIN:VCALENDAR
VERSION:2.0
PRODID:-//Ocean County Tourism - ECPv6.15.18//NONSGML v1.0//EN
CALSCALE:GREGORIAN
METHOD:PUBLISH
X-WR-CALNAME:Ocean County Tourism
X-ORIGINAL-URL:https://oceancountytourism.com
X-WR-CALDESC:Events for Ocean County Tourism
REFRESH-INTERVAL;VALUE=DURATION:PT1H
X-Robots-Tag:noindex
X-PUBLISHED-TTL:PT1H
BEGIN:VTIMEZONE
TZID:America/New_York
BEGIN:DAYLIGHT
TZOFFSETFROM:-0500
TZOFFSETTO:-0400
TZNAME:EDT
DTSTART:20250309T070000
END:DAYLIGHT
BEGIN:STANDARD
TZOFFSETFROM:-0400
TZOFFSETTO:-0500
TZNAME:EST
DTSTART:20251102T060000
END:STANDARD
BEGIN:DAYLIGHT
TZOFFSETFROM:-0500
TZOFFSETTO:-0400
TZNAME:EDT
DTSTART:20260308T070000
END:DAYLIGHT
BEGIN:STANDARD
TZOFFSETFROM:-0400
TZOFFSETTO:-0500
TZNAME:EST
DTSTART:20261101T060000
END:STANDARD
BEGIN:DAYLIGHT
TZOFFSETFROM:-0500
TZOFFSETTO:-0400
TZNAME:EDT
DTSTART:20270314T070000
END:DAYLIGHT
BEGIN:STANDARD
TZOFFSETFROM:-0400
TZOFFSETTO:-0500
TZNAME:EST
DTSTART:20271107T060000
END:STANDARD
END:VTIMEZONE
BEGIN:VEVENT
DTSTART;TZID=America/New_York:20260806T183000
DTEND;TZID=America/New_York:20260806T200000
DTSTAMP:20260425T140013
CREATED:20260422T155907Z
LAST-MODIFIED:20260422T155907Z
UID:10042561-1786041000-1786046400@oceancountytourism.com
SUMMARY:T-Rex Dino-Mite Show
DESCRIPTION:August 6 \nGet ready for a ROAR-some adventure at Casino Pier with the T-Rex Dino-Mite Show\nStep back in time and come face-to-face with the king of the dinosaurs!\nThis interactive\, family-friendly show brings prehistoric excitement to life with life-sized dinosaurs and fun educational facts that kids (and adults!) will love.\nFrom stomping T-Rexes to daring dino encounters\, the action is nonstop and perfectly sized for young paleontologists.\nMeet\, learn about\, and even pose with these incredible creatures as the show combines entertainment\, education\, and a healthy dose of dinosaur-sized fun.\nIt’s an unforgettable experience that makes the pier roar with excitement!\nFREE Shows at 6:30pm & 7:30pm on the Pier Stage by the Ferris WheelFun\, interactive\, and perfect for the whole family\nBring your dino-loving crew for a prehistoric adventure you won’t want to miss
URL:https://oceancountytourism.com/event/t-rex-dino-mite-show/
LOCATION:Casino Pier & Breakwater Beach\, 800 Ocean Terrace\, Seaside Heights\, NJ\, 08751\, United States
CATEGORIES:Festivals & Family Fun
ATTACH;FMTTYPE=image/jpeg:https://oceancountytourism.com/wp-content/uploads/2026/04/672090593_1411223871050345_1536816760391023301_n.jpg
END:VEVENT
END:VCALENDAR