BEGIN:VCALENDAR
VERSION:2.0
PRODID:-//Ocean County Tourism - ECPv6.15.18//NONSGML v1.0//EN
CALSCALE:GREGORIAN
METHOD:PUBLISH
X-ORIGINAL-URL:https://oceancountytourism.com
X-WR-CALDESC:Events for Ocean County Tourism
REFRESH-INTERVAL;VALUE=DURATION:PT1H
X-Robots-Tag:noindex
X-PUBLISHED-TTL:PT1H
BEGIN:VTIMEZONE
TZID:America/New_York
BEGIN:DAYLIGHT
TZOFFSETFROM:-0500
TZOFFSETTO:-0400
TZNAME:EDT
DTSTART:20250309T070000
END:DAYLIGHT
BEGIN:STANDARD
TZOFFSETFROM:-0400
TZOFFSETTO:-0500
TZNAME:EST
DTSTART:20251102T060000
END:STANDARD
BEGIN:DAYLIGHT
TZOFFSETFROM:-0500
TZOFFSETTO:-0400
TZNAME:EDT
DTSTART:20260308T070000
END:DAYLIGHT
BEGIN:STANDARD
TZOFFSETFROM:-0400
TZOFFSETTO:-0500
TZNAME:EST
DTSTART:20261101T060000
END:STANDARD
BEGIN:DAYLIGHT
TZOFFSETFROM:-0500
TZOFFSETTO:-0400
TZNAME:EDT
DTSTART:20270314T070000
END:DAYLIGHT
BEGIN:STANDARD
TZOFFSETFROM:-0400
TZOFFSETTO:-0500
TZNAME:EST
DTSTART:20271107T060000
END:STANDARD
END:VTIMEZONE
BEGIN:VEVENT
DTSTART;TZID=America/New_York:20260804T110000
DTEND;TZID=America/New_York:20260804T120000
DTSTAMP:20260425T124747
CREATED:20260406T183259Z
LAST-MODIFIED:20260406T183259Z
UID:10042289-1785841200-1785844800@oceancountytourism.com
SUMMARY:Mermazing Mermaids
DESCRIPTION:Dive into a day of splashes and song as real-life mermaids bring their voices — and their sparkle — to the waterpark.\nGather around for an interactive sing-a-long filled with favorite under-the-sea tunes\, clappable moments\,\nand plenty of audience participation that will have little ocean lovers singing at the top of their lungs.\nBetween verses\, guests can swim\, play\, and cool off while mermaids mingle by the Waterfalls\, posing for photos and sharing magical smiles.\nAfter the sing-a-long\, families are invited to a special meet & greet\, where kids can meet their finned friends up close and capture mer-mazing photo memories.\nGrab your swimsuits\, warm up those vocal cords\, and get ready for a fintastic day of music\, magic\, and waterpark fun! \nMermaid Meet & Greets\, 11am-12pmNear Lighthouse Cove (Toddler Area)Tuesday\, July 7thTuesday\, August 4th\n\nMermaid Sing-a-Longs\, 11am-12pmBy the Waterfalls (Near Hot Tubs)Tuesday\, July 21stTuesday\, August 18th
URL:https://oceancountytourism.com/event/mermazing-mermaids-7/
LOCATION:Breakwater Beach Waterpark\, 62 Grant Avenue\, Seaside Heights\, 08751
CATEGORIES:Festivals & Family Fun
ATTACH;FMTTYPE=image/jpeg:https://oceancountytourism.com/wp-content/uploads/2026/04/658198761_1398135485692517_5196567675106414955_n.jpg
END:VEVENT
BEGIN:VEVENT
DTSTART;TZID=America/New_York:20260804T170000
DTEND;TZID=America/New_York:20260804T170000
DTSTAMP:20260425T124747
CREATED:20260406T191413Z
LAST-MODIFIED:20260406T191413Z
UID:10042298-1785862800-1785862800@oceancountytourism.com
SUMMARY:National Night Out - Plumsted
DESCRIPTION:This is an annual community event hosted and organized by the Plumsted Police Department. \nThe event promotes police community relationships\, as well as neighborhood camaraderie. \nThe event is free. Exhibits include emergency vehicle equipment and vehicle display\, K-9\, fingerprinting\, local vendors\, food and rides. \nplumsted.org
URL:https://oceancountytourism.com/event/national-night-out-plumsted/
LOCATION:New Egypt High School\, 117 Evergreen Road\, New Egypt\, NJ\, 08533\, United States
CATEGORIES:Festivals & Family Fun
ATTACH;FMTTYPE=image/jpeg:https://oceancountytourism.com/wp-content/uploads/2026/04/PD10226-scaled.jpeg
END:VEVENT
END:VCALENDAR