BEGIN:VCALENDAR
VERSION:2.0
PRODID:-//Ocean County Tourism - ECPv6.15.18//NONSGML v1.0//EN
CALSCALE:GREGORIAN
METHOD:PUBLISH
X-ORIGINAL-URL:https://oceancountytourism.com
X-WR-CALDESC:Events for Ocean County Tourism
REFRESH-INTERVAL;VALUE=DURATION:PT1H
X-Robots-Tag:noindex
X-PUBLISHED-TTL:PT1H
BEGIN:VTIMEZONE
TZID:America/New_York
BEGIN:DAYLIGHT
TZOFFSETFROM:-0500
TZOFFSETTO:-0400
TZNAME:EDT
DTSTART:20250309T070000
END:DAYLIGHT
BEGIN:STANDARD
TZOFFSETFROM:-0400
TZOFFSETTO:-0500
TZNAME:EST
DTSTART:20251102T060000
END:STANDARD
BEGIN:DAYLIGHT
TZOFFSETFROM:-0500
TZOFFSETTO:-0400
TZNAME:EDT
DTSTART:20260308T070000
END:DAYLIGHT
BEGIN:STANDARD
TZOFFSETFROM:-0400
TZOFFSETTO:-0500
TZNAME:EST
DTSTART:20261101T060000
END:STANDARD
BEGIN:DAYLIGHT
TZOFFSETFROM:-0500
TZOFFSETTO:-0400
TZNAME:EDT
DTSTART:20270314T070000
END:DAYLIGHT
BEGIN:STANDARD
TZOFFSETFROM:-0400
TZOFFSETTO:-0500
TZNAME:EST
DTSTART:20271107T060000
END:STANDARD
END:VTIMEZONE
BEGIN:VEVENT
DTSTART;TZID=America/New_York:20260721T110000
DTEND;TZID=America/New_York:20260721T120000
DTSTAMP:20260421T050850
CREATED:20260406T184640Z
LAST-MODIFIED:20260406T184640Z
UID:10042290-1784631600-1784635200@oceancountytourism.com
SUMMARY:Mermazing Mermaids Sing-a-Long
DESCRIPTION:Dive into a day of splashes and song as real-life mermaids bring their voices — and their sparkle — to the waterpark.\nGather around for an interactive sing-a-long filled with favorite under-the-sea tunes\, clappable moments\,\nand plenty of audience participation that will have little ocean lovers singing at the top of their lungs.\nBetween verses\, guests can swim\, play\, and cool off while mermaids mingle by the Waterfalls\, posing for photos and sharing magical smiles.\nAfter the sing-a-long\, families are invited to a special meet & greet\, where kids can meet their finned friends up close and capture mer-mazing photo memories.\nGrab your swimsuits\, warm up those vocal cords\, and get ready for a fintastic day of music\, magic\, and waterpark fun! \nMermaid Meet & Greets\, 11am-12pmNear Lighthouse Cove (Toddler Area)Tuesday\, July 7thTuesday\, August 4th\n\nMermaid Sing-a-Longs\, 11am-12pmBy the Waterfalls (Near Hot Tubs)Tuesday\, July 21stTuesday\, August 18th
URL:https://oceancountytourism.com/event/mermazing-mermaids-sing-a-long-4/
LOCATION:Breakwater Beach Waterpark\, 62 Grant Avenue\, Seaside Heights\, 08751
CATEGORIES:Festivals & Family Fun
ATTACH;FMTTYPE=image/jpeg:https://oceancountytourism.com/wp-content/uploads/2026/04/659780866_1398133772359355_2249538069152596100_n.jpg
END:VEVENT
BEGIN:VEVENT
DTSTART;TZID=America/New_York:20260721T160000
DTEND;TZID=America/New_York:20260721T210000
DTSTAMP:20260421T050850
CREATED:20260417T183250Z
LAST-MODIFIED:20260417T183250Z
UID:10042479-1784649600-1784667600@oceancountytourism.com
SUMMARY:Christmas in July
DESCRIPTION:‘Tis the SEAson! Jenkinson’s Boardwalk transforms into a winter wonderland for our annual Christmas in July celebration on Tuesday & Wednesday\, July 21 & 22 from 4pm–9pm each day! \nDaily Entertainment Includes: \n\nFree Photos with Santa on the South Beach Stage\, by the rides (4–9pm) • Diving Santa Shows (5pm & 6:30pm) – included with Aquarium general admission • Holiday-themed food\, sweets & treats throughout the boardwalk • Face painting • Special character appearances • Games\, activities & more festive fun!\n\nTuesday\, July 21: \n4-9pm Santa (South Stage) \n4-9pm Face Painting (Pavilion End) \n4-5pm Elf Storytime (In front of guest services) 5-8pm – Drumline Drummers 5pm – Diving Santa (Aquarium) 5-6pm Rock and Roll Playhouse- Holiday Edition (Radio Deck) 6-7pm – Elf Storytime (In front of Guest Services) 6:30pm – Diving Santa (Aquarium) 5-8pm Winter Princess Dining at Oceanside Dining 7pm Movie Trivia (Pavilion Beach Stage) ~8:45pm Movies on the Beach – The Santa Claus \n\nWednesday\, July 22: \n4-9pm Santa (South Stage) \n4-9pm Face Painting (Pavilion End) \n4-5pm Elf Storytime (In front of Guest Servies) 4-7pm – Craft with Author of Beach Santa\, M.B Paradise 5-8pm – Drumline Drummers 5pm – Diving Santa (Aquarium) 5pm – Yosi Holiday Show (Radio Deck) 6pm – Yosi Holiday Show (Radio Deck) 6:30pm – Diving Santa (Aquarium) 7-8pm – Elf Storytime (In front of Guest Services) \n\nhttps://jenkinsons.com/event/christmas-in-july-4/2026-07-21/ \ninformation@jenkinsons.com \n7328920600
URL:https://oceancountytourism.com/event/christmas-in-july-3/2026-07-21/
LOCATION:Jenkinson’s Boardwalk\, 300 Ocean Ave.\, Point Pleasant Beach\, NJ\, 08742\, United States
CATEGORIES:Festivals & Family Fun
ATTACH;FMTTYPE=image/jpeg:https://oceancountytourism.com/wp-content/uploads/2026/04/31733-JulyChristmas-SQ.jpg
END:VEVENT
BEGIN:VEVENT
DTSTART;TZID=America/New_York:20260721T180000
DTEND;TZID=America/New_York:20260721T200000
DTSTAMP:20260421T050850
CREATED:20260417T123815Z
LAST-MODIFIED:20260417T123815Z
UID:10042467-1784656800-1784664000@oceancountytourism.com
SUMMARY:Superhero Night
DESCRIPTION:Heroes assemble at Casino Pier for an action-packed Superhero Night on the Pier!\nGet ready for a day filled with excitement\, adventure\, and larger-than-life fun as your favorite superheroes make special appearances at the pier.\nGuests of all ages can enjoy meet-and-greet opportunities\, snap epic photos\, and share high-fives with their heroes.\nPlus\, transform into a hero yourself with superhero-themed face painting!\nChoose your colors\, strike your best heroic pose\, and show off your super style as you explore the rides and attractions.From thrilling rides to heroic encounters\, it’s a day of power-packed fun the whole family will love.\nJuly 21 & August 18 from 6pm-8pm on the Pier StageFREE Face Painting next to the stage.\nDon your cape and join us for a super night at the shore!\nPlus it’s Eat\, Putt & Play from 6pm-11pm! $33 for a 2-Hr Ride Wristband\, Slice of Cheese Pizza\, Medium Fountain Drink & Wacky Rooftop Golf Admission!
URL:https://oceancountytourism.com/event/superhero-night/2026-07-21/
LOCATION:Casino Pier & Breakwater Beach\, 800 Ocean Terrace\, Seaside Heights\, NJ\, 08751\, United States
CATEGORIES:Festivals & Family Fun
ATTACH;FMTTYPE=image/jpeg:https://oceancountytourism.com/wp-content/uploads/2026/04/669093104_1408847487954650_7818312840811683575_n.jpg
END:VEVENT
END:VCALENDAR