BEGIN:VCALENDAR
VERSION:2.0
PRODID:-//Ocean County Tourism - ECPv6.15.18//NONSGML v1.0//EN
CALSCALE:GREGORIAN
METHOD:PUBLISH
X-ORIGINAL-URL:https://oceancountytourism.com
X-WR-CALDESC:Events for Ocean County Tourism
REFRESH-INTERVAL;VALUE=DURATION:PT1H
X-Robots-Tag:noindex
X-PUBLISHED-TTL:PT1H
BEGIN:VTIMEZONE
TZID:America/New_York
BEGIN:DAYLIGHT
TZOFFSETFROM:-0500
TZOFFSETTO:-0400
TZNAME:EDT
DTSTART:20250309T070000
END:DAYLIGHT
BEGIN:STANDARD
TZOFFSETFROM:-0400
TZOFFSETTO:-0500
TZNAME:EST
DTSTART:20251102T060000
END:STANDARD
BEGIN:DAYLIGHT
TZOFFSETFROM:-0500
TZOFFSETTO:-0400
TZNAME:EDT
DTSTART:20260308T070000
END:DAYLIGHT
BEGIN:STANDARD
TZOFFSETFROM:-0400
TZOFFSETTO:-0500
TZNAME:EST
DTSTART:20261101T060000
END:STANDARD
BEGIN:DAYLIGHT
TZOFFSETFROM:-0500
TZOFFSETTO:-0400
TZNAME:EDT
DTSTART:20270314T070000
END:DAYLIGHT
BEGIN:STANDARD
TZOFFSETFROM:-0400
TZOFFSETTO:-0500
TZNAME:EST
DTSTART:20271107T060000
END:STANDARD
END:VTIMEZONE
BEGIN:VEVENT
DTSTART;TZID=America/New_York:20260714T180000
DTEND;TZID=America/New_York:20260714T190000
DTSTAMP:20260421T191233
CREATED:20260220T192936Z
LAST-MODIFIED:20260220T192936Z
UID:10041454-1784052000-1784055600@oceancountytourism.com
SUMMARY:DinoShore Dino Fossil Hunt
DESCRIPTION:Dig Into Adventure at the Dino Fossil Hunt! \nStep back in time and unleash your inner paleontologist at our exciting Dino Fossil Hunt! \nLearn all about dinosaurs and then get ready to find your very own fossil that you can take home. \nThis hands-on adventure is perfect for dino lovers of all ages — packed with excitement\, discovery and plenty of photo-worthy moments. \nWho knows what ancient treasures you’ll uncover? \nBring your curiosity\, your sense of adventure and get ready to make unforgettable Jurassic-sized memories by the sea! \nJoin us July 14th at 6pm on the South Beach Stage (on the beach in front of the Amusement Park). \nJoin us on August 27th at 6pm on the Pavilion Beach Stage (on the beach in front of the Aquarium) \n**Please note that this event is weather permitting\, please check our social media for updates. \nhttps://jenkinsons.com/event/dinoshore-dino-fossil-hunt-3/2026-07-14/ \ninformation@jenkinsons.com \n7322954334
URL:https://oceancountytourism.com/event/dinoshore-dino-fossil-hunt-2/2026-07-14/
LOCATION:Jenkinson’s Boardwalk\, 300 Ocean Ave.\, Point Pleasant Beach\, NJ\, 08742\, United States
CATEGORIES:Festivals & Family Fun
ATTACH;FMTTYPE=image/jpeg:https://oceancountytourism.com/wp-content/uploads/2026/02/31305-DinoShore-SQ-FossilHunt.jpg
END:VEVENT
BEGIN:VEVENT
DTSTART;TZID=America/New_York:20260714T180000
DTEND;TZID=America/New_York:20260714T190000
DTSTAMP:20260421T191233
CREATED:20260407T183626Z
LAST-MODIFIED:20260407T183626Z
UID:10042325-1784052000-1784055600@oceancountytourism.com
SUMMARY:K-Pop Sing-A-Long
DESCRIPTION:Calling all K-Pop fans! Join us on the pier for a high-energy night filled with your favorite hits\, epic choreography moments\, and nonstop fan chants.\nWhether you know every lyric or just love the vibe\, this interactive sing-a-long is your chance to belt it out by the beach with fellow stans.\nDress in your inspired fits\, and get ready for a dance party under the boardwalk lights.\nWith big sound\, crowd participation\, and plenty of photo-worthy moments\, it’s the ultimate seaside celebration of K-Pop culture.\nLet’s turn the pier into a pop stage — voices up\, volume loud\, and good vibes only!\nShow is located on the Pier Stage by the Ferris Wheel at 6pm\, followed by Meet & Greet Photo Opportunities\nTuesday\, July 14th & July 28th\, 6pm\nIt’s ALSO Eat\, Putt & Play tonight from 6pm-11pm: A night of food\, fun\, and mini golf madness — $33 for cheese pizza slice\, medium fountain drink\, Wacky Rooftop Golf admission & 2-hour Pier Wristband!
URL:https://oceancountytourism.com/event/k-pop-sing-a-long/2026-07-14/
LOCATION:Casino Pier & Breakwater Beach\, 800 Ocean Terrace\, Seaside Heights\, NJ\, 08751\, United States
CATEGORIES:Festivals & Family Fun
ATTACH;FMTTYPE=image/jpeg:https://oceancountytourism.com/wp-content/uploads/2026/04/668543639_1403340731838659_1513949811420618315_n.jpg
END:VEVENT
END:VCALENDAR