BEGIN:VCALENDAR
VERSION:2.0
PRODID:-//Ocean County Tourism - ECPv6.15.18//NONSGML v1.0//EN
CALSCALE:GREGORIAN
METHOD:PUBLISH
X-ORIGINAL-URL:https://oceancountytourism.com
X-WR-CALDESC:Events for Ocean County Tourism
REFRESH-INTERVAL;VALUE=DURATION:PT1H
X-Robots-Tag:noindex
X-PUBLISHED-TTL:PT1H
BEGIN:VTIMEZONE
TZID:America/New_York
BEGIN:DAYLIGHT
TZOFFSETFROM:-0500
TZOFFSETTO:-0400
TZNAME:EDT
DTSTART:20250309T070000
END:DAYLIGHT
BEGIN:STANDARD
TZOFFSETFROM:-0400
TZOFFSETTO:-0500
TZNAME:EST
DTSTART:20251102T060000
END:STANDARD
BEGIN:DAYLIGHT
TZOFFSETFROM:-0500
TZOFFSETTO:-0400
TZNAME:EDT
DTSTART:20260308T070000
END:DAYLIGHT
BEGIN:STANDARD
TZOFFSETFROM:-0400
TZOFFSETTO:-0500
TZNAME:EST
DTSTART:20261101T060000
END:STANDARD
BEGIN:DAYLIGHT
TZOFFSETFROM:-0500
TZOFFSETTO:-0400
TZNAME:EDT
DTSTART:20270314T070000
END:DAYLIGHT
BEGIN:STANDARD
TZOFFSETFROM:-0400
TZOFFSETTO:-0500
TZNAME:EST
DTSTART:20271107T060000
END:STANDARD
END:VTIMEZONE
BEGIN:VEVENT
DTSTART;TZID=America/New_York:20260711T160000
DTEND;TZID=America/New_York:20260711T210000
DTSTAMP:20260424T214345
CREATED:20260413T125906Z
LAST-MODIFIED:20260413T125906Z
UID:10042399-1783785600-1783803600@oceancountytourism.com
SUMMARY:Jackson Township Fireworks & Food Trucks
DESCRIPTION:Jackson Township Fireworks & Food Trucks \nJuly 11 – 4pm- 9pm \nDJ Pro – 4pm-9pm \n“Shorty Long and the Jersey Horns” 5pm-6:30pm \nParty Band featuring hits from the 70’s to today \n“Sideways Willy Band” 7pm – 8:30pm \nClassic Rock\, Alternative\, Dance & Grunge \nJohnson Park\, 200 Kierych Memorial Drive\, Jackson NJ \nLittle Cesars\, Mister Softee\, Empanada Guy\, Twisted Steaks\, John & Debbie O’s\, Chuchos\, SnoChi Peruvian Cuisine\, \nNikki Dawgs\, Kona Ice\, Dellina Concessions\, Wholly Bowls and Humpty’s Dumplings \nwww.jacksontwpnj.net \n732-928-1260 \n 
URL:https://oceancountytourism.com/event/jackson-township-fireworks-food-trucks/
LOCATION:Johnson Memorial Park\, 200 Kierych Memorial Drive\, Jackson\, NJ\, 08527\, United States
CATEGORIES:Festivals & Family Fun,Food,Live Entertainment
ATTACH;FMTTYPE=image/png:https://oceancountytourism.com/wp-content/uploads/2026/04/fireworks.png
END:VEVENT
BEGIN:VEVENT
DTSTART;TZID=America/New_York:20260711T170000
DTEND;TZID=America/New_York:20260711T170000
DTSTAMP:20260424T214345
CREATED:20260406T190415Z
LAST-MODIFIED:20260409T122214Z
UID:10042296-1783789200-1783789200@oceancountytourism.com
SUMMARY:Red\, White & BOOM Fireworks
DESCRIPTION:America’s 250th Anniversary and Plumsted Township’s “Red\, White\, and BOOM\,” Fireworks Celebration\, July 11th\, on the field behind New Egypt High School. \nOur township committee promises lots of family fun\, live music\, food trucks\, ice cream\, craft vendors\, local organizations\, and of course\, spectacular patriotic-themed pyrotechnics. \nplumsted.org
URL:https://oceancountytourism.com/event/red-white-boom-fireworks/
LOCATION:New Egypt High School\, 117 Evergreen Road\, New Egypt\, NJ\, 08533\, United States
CATEGORIES:Festivals & Family Fun
ATTACH;FMTTYPE=image/jpeg:https://oceancountytourism.com/wp-content/uploads/2026/04/668197706_1395690339265716_4274720816811426195_n.jpg
END:VEVENT
END:VCALENDAR