BEGIN:VCALENDAR
VERSION:2.0
PRODID:-//Ocean County Tourism - ECPv6.15.18//NONSGML v1.0//EN
CALSCALE:GREGORIAN
METHOD:PUBLISH
X-ORIGINAL-URL:https://oceancountytourism.com
X-WR-CALDESC:Events for Ocean County Tourism
REFRESH-INTERVAL;VALUE=DURATION:PT1H
X-Robots-Tag:noindex
X-PUBLISHED-TTL:PT1H
BEGIN:VTIMEZONE
TZID:America/New_York
BEGIN:DAYLIGHT
TZOFFSETFROM:-0500
TZOFFSETTO:-0400
TZNAME:EDT
DTSTART:20250309T070000
END:DAYLIGHT
BEGIN:STANDARD
TZOFFSETFROM:-0400
TZOFFSETTO:-0500
TZNAME:EST
DTSTART:20251102T060000
END:STANDARD
BEGIN:DAYLIGHT
TZOFFSETFROM:-0500
TZOFFSETTO:-0400
TZNAME:EDT
DTSTART:20260308T070000
END:DAYLIGHT
BEGIN:STANDARD
TZOFFSETFROM:-0400
TZOFFSETTO:-0500
TZNAME:EST
DTSTART:20261101T060000
END:STANDARD
BEGIN:DAYLIGHT
TZOFFSETFROM:-0500
TZOFFSETTO:-0400
TZNAME:EDT
DTSTART:20270314T070000
END:DAYLIGHT
BEGIN:STANDARD
TZOFFSETFROM:-0400
TZOFFSETTO:-0500
TZNAME:EST
DTSTART:20271107T060000
END:STANDARD
END:VTIMEZONE
BEGIN:VEVENT
DTSTART;TZID=America/New_York:20260707T110000
DTEND;TZID=America/New_York:20260707T120000
DTSTAMP:20260421T142815
CREATED:20260406T182857Z
LAST-MODIFIED:20260406T182857Z
UID:10042288-1783422000-1783425600@oceancountytourism.com
SUMMARY:Mermazing Mermaids!
DESCRIPTION:Dive into a day of splashes and song as real-life mermaids bring their voices — and their sparkle — to the waterpark.\nGather around for an interactive sing-a-long filled with favorite under-the-sea tunes\, clappable moments\,\nand plenty of audience participation that will have little ocean lovers singing at the top of their lungs.\nBetween verses\, guests can swim\, play\, and cool off while mermaids mingle by the Waterfalls\, posing for photos and sharing magical smiles.\nAfter the sing-a-long\, families are invited to a special meet & greet\, where kids can meet their finned friends up close and capture mer-mazing photo memories.\nGrab your swimsuits\, warm up those vocal cords\, and get ready for a fintastic day of music\, magic\, and waterpark fun! \nMermaid Meet & Greets\, 11am-12pmNear Lighthouse Cove (Toddler Area)Tuesday\, July 7thTuesday\, August 4th\n\nMermaid Sing-a-Longs\, 11am-12pmBy the Waterfalls (Near Hot Tubs)Tuesday\, July 21stTuesday\, August 18th
URL:https://oceancountytourism.com/event/mermazing-mermaids-6/
LOCATION:Breakwater Beach Waterpark\, 62 Grant Avenue\, Seaside Heights\, 08751
CATEGORIES:Festivals & Family Fun
ATTACH;FMTTYPE=image/jpeg:https://oceancountytourism.com/wp-content/uploads/2026/04/658139183_1398130889026310_8828117142883683662_n.jpg
END:VEVENT
BEGIN:VEVENT
DTSTART;TZID=America/New_York:20260707T180000
DTEND;TZID=America/New_York:20260707T200000
DTSTAMP:20260421T142815
CREATED:20260406T185418Z
LAST-MODIFIED:20260406T185418Z
UID:10042292-1783447200-1783454400@oceancountytourism.com
SUMMARY:Jurassic Pier Adventures
DESCRIPTION:Get ready to ROAR at Jurassic Pier Adventures at Casino Pier!\nStep back in time for a prehistoric adventure right on the pier!\nThis high-energy dinosaur show brings the Jurassic era to life with TWO incredible 13-foot-long dinosaurs stomping\, chomping\, and thrilling the crowd.\nKids will be on the edge of their seats as they watch these larger-than-life creatures move\, interact\, and show off their dino-sized personalities.\nThe fun doesn’t stop when the show ends!\nAfter the performance\, families are invited to a special meet & greet\, where little explorers can get up close with the dinosaurs and snap unforgettable photos.\nIt’s the perfect chance to capture a larger-than-life memory by the shore.\nWhether your child is a future paleontologist or just loves a good roar\,\nJurassic Pier Adventures is a can’t-miss adventure packed with excitement\, laughter\, and prehistoric fun for the whole family.\nJuly 7\, 8 & 9\, FREE Shows at 6pm & 7pm\nShows located in front of the Ferris Wheel
URL:https://oceancountytourism.com/event/jurassic-pier-adventures/2026-07-07/
LOCATION:Casino Pier & Breakwater Beach\, 800 Ocean Terrace\, Seaside Heights\, NJ\, 08751\, United States
CATEGORIES:Festivals & Family Fun,Free
ATTACH;FMTTYPE=image/jpeg:https://oceancountytourism.com/wp-content/uploads/2026/04/659016435_1399037408935658_1704714644558298896_n.jpg
END:VEVENT
BEGIN:VEVENT
DTSTART;TZID=America/New_York:20260707T203000
DTEND;TZID=America/New_York:20260707T203000
DTSTAMP:20260421T142815
CREATED:20260420T152323Z
LAST-MODIFIED:20260420T152323Z
UID:10042519-1783456200-1783456200@oceancountytourism.com
SUMMARY:Movies on the Bay
DESCRIPTION:The Borough of Lavallette presents: Movies on the Bay Summer 2026 \nFree movie nights on the bayfront! \nschedule @ www.enjoylavallette.com/movies-on-the-bay \nTuesdays \nJuly 7\, July 14\, July 21\, July 28\, Aug 4\, Aug 11\, Aug 18\, Aug 25 and Sept 1.
URL:https://oceancountytourism.com/event/movies-on-the-bay/2026-07-07/
LOCATION:Lavallette Gazebo & Bayfront\, Philadelphia Avenue\, Lavallette\, NJ\, 08735\, United States
CATEGORIES:Festivals & Family Fun,Free,Movies
ATTACH;FMTTYPE=image/jpeg:https://oceancountytourism.com/wp-content/uploads/2026/04/Event-Poster-Web-Movies.jpg
ORGANIZER;CN="Enjoy Lavallette":MAILTO:info@enjoylavallette.com
END:VEVENT
END:VCALENDAR