BEGIN:VCALENDAR
VERSION:2.0
PRODID:-//Ocean County Tourism - ECPv6.15.18//NONSGML v1.0//EN
CALSCALE:GREGORIAN
METHOD:PUBLISH
X-WR-CALNAME:Ocean County Tourism
X-ORIGINAL-URL:https://oceancountytourism.com
X-WR-CALDESC:Events for Ocean County Tourism
REFRESH-INTERVAL;VALUE=DURATION:PT1H
X-Robots-Tag:noindex
X-PUBLISHED-TTL:PT1H
BEGIN:VTIMEZONE
TZID:America/New_York
BEGIN:DAYLIGHT
TZOFFSETFROM:-0500
TZOFFSETTO:-0400
TZNAME:EDT
DTSTART:20250309T070000
END:DAYLIGHT
BEGIN:STANDARD
TZOFFSETFROM:-0400
TZOFFSETTO:-0500
TZNAME:EST
DTSTART:20251102T060000
END:STANDARD
BEGIN:DAYLIGHT
TZOFFSETFROM:-0500
TZOFFSETTO:-0400
TZNAME:EDT
DTSTART:20260308T070000
END:DAYLIGHT
BEGIN:STANDARD
TZOFFSETFROM:-0400
TZOFFSETTO:-0500
TZNAME:EST
DTSTART:20261101T060000
END:STANDARD
BEGIN:DAYLIGHT
TZOFFSETFROM:-0500
TZOFFSETTO:-0400
TZNAME:EDT
DTSTART:20270314T070000
END:DAYLIGHT
BEGIN:STANDARD
TZOFFSETFROM:-0400
TZOFFSETTO:-0500
TZNAME:EST
DTSTART:20271107T060000
END:STANDARD
END:VTIMEZONE
BEGIN:VEVENT
DTSTART;TZID=America/New_York:20260625T170000
DTEND;TZID=America/New_York:20260625T203000
DTSTAMP:20260421T013048
CREATED:20260309T121839Z
LAST-MODIFIED:20260309T121839Z
UID:10041552-1782406800-1782419400@oceancountytourism.com
SUMMARY:Summer Picnic Party
DESCRIPTION:Summer Picnic Party at the John C. Bartlett Jr. County Park at Berkeley Island \nSummer Kick-Off! \nOn the Barnegat Bay! 399 Brennan Concourse in Berkeley \nThursday June 25 5:00pm-8:30pm \nLive music\, kids spray park\, free admission\, bocce\, horseshoes\, giant twister. \nFood truck or pack a picnic. Bring your blankets and beach chairs.
URL:https://oceancountytourism.com/event/summer-picnic-party-2/
LOCATION:John C. Bartlett Jr. County Park\, 399 Brennan Concourse\, Bayville\, NJ\, 08721\, United States
CATEGORIES:Festivals & Family Fun,Food,Free
ATTACH;FMTTYPE=image/jpeg:https://oceancountytourism.com/wp-content/uploads/2026/03/summer.jpeg
END:VEVENT
BEGIN:VEVENT
DTSTART;TZID=America/New_York:20260625T173000
DTEND;TZID=America/New_York:20260625T193000
DTSTAMP:20260421T013048
CREATED:20260218T122511Z
LAST-MODIFIED:20260218T122511Z
UID:10041324-1782408600-1782415800@oceancountytourism.com
SUMMARY:Eyes of the Wild Animal Show
DESCRIPTION:We’re getting WILD at the beach! \nGet ready for an unforgettable experience where fun\, laughter and learning come together in the most exciting way! \nThis high-energy\, interactive program brings you up close and personal with some of the most fascinating creatures on our planet. \nYou won’t just watch — you’ll experience the wonder firsthand! \nPerfect for kids and adults\, this one-of-a-kind event mixes comedy and jaw-dropping encounters with meaningful lessons about respecting our environment and the amazing animals that share it with us. \nIf you’re looking for something truly unique\, wildly entertaining\, and packed with “WOW!” moments for the whole family\, this is the event you won’t want to miss! \nEach night the show times are as follows: \n5:30pm\, 6:15pm and 7pm June 25th – Pavilion Beach Stage (on the beach in front of the Aquarium) \nJuly 29th – South Beach Stage (on the beach in front of the Amusement Park) \nSeptember 3rd – Pavilion Beach Stage (on the beach in front of the Aquarium) \n*Weather permitting. \nhttps://jenkinsons.com/event/eyes-of-the-wild-animal-shows-2/2026-09-03/ \ninformation@jenkinsons.com \n7328920600 \n 
URL:https://oceancountytourism.com/event/eyes-of-the-wild-animal-show-2/2026-06-25/
LOCATION:Jenkinson’s Boardwalk\, 300 Ocean Ave.\, Point Pleasant Beach\, NJ\, 08742\, United States
CATEGORIES:Festivals & Family Fun
ATTACH;FMTTYPE=image/jpeg:https://oceancountytourism.com/wp-content/uploads/2026/02/31299-EyesOfTheWild-SQ.jpg
END:VEVENT
END:VCALENDAR