BEGIN:VCALENDAR
VERSION:2.0
PRODID:-//Ocean County Tourism - ECPv6.15.18//NONSGML v1.0//EN
CALSCALE:GREGORIAN
METHOD:PUBLISH
X-ORIGINAL-URL:https://oceancountytourism.com
X-WR-CALDESC:Events for Ocean County Tourism
REFRESH-INTERVAL;VALUE=DURATION:PT1H
X-Robots-Tag:noindex
X-PUBLISHED-TTL:PT1H
BEGIN:VTIMEZONE
TZID:America/New_York
BEGIN:DAYLIGHT
TZOFFSETFROM:-0500
TZOFFSETTO:-0400
TZNAME:EDT
DTSTART:20250309T070000
END:DAYLIGHT
BEGIN:STANDARD
TZOFFSETFROM:-0400
TZOFFSETTO:-0500
TZNAME:EST
DTSTART:20251102T060000
END:STANDARD
BEGIN:DAYLIGHT
TZOFFSETFROM:-0500
TZOFFSETTO:-0400
TZNAME:EDT
DTSTART:20260308T070000
END:DAYLIGHT
BEGIN:STANDARD
TZOFFSETFROM:-0400
TZOFFSETTO:-0500
TZNAME:EST
DTSTART:20261101T060000
END:STANDARD
BEGIN:DAYLIGHT
TZOFFSETFROM:-0500
TZOFFSETTO:-0400
TZNAME:EDT
DTSTART:20270314T070000
END:DAYLIGHT
BEGIN:STANDARD
TZOFFSETFROM:-0400
TZOFFSETTO:-0500
TZNAME:EST
DTSTART:20271107T060000
END:STANDARD
END:VTIMEZONE
BEGIN:VEVENT
DTSTART;TZID=America/New_York:20260523T100000
DTEND;TZID=America/New_York:20260523T150000
DTSTAMP:20260422T181037
CREATED:20260422T121052Z
LAST-MODIFIED:20260422T121052Z
UID:10042540-1779530400-1779548400@oceancountytourism.com
SUMMARY:Craft and Vendor Fair
DESCRIPTION:HS South Marching Band Spring Vendor & Craft Fair \nSaturday\, May 23\, 2026 \n10am-3pm \nToms River Elks \n600 Washington St Toms River \n• Beads on Blanchard\n• Pens & Pearls\n• Strawberry Moon\nCreatives\n• Plan Bee\n• Fran daisy Crochet\n• Jewelry by Erin Dale\n• For Gourd’s Sake\n• Luna’s Bootique\n• Fashion Rose\n• Sassy Creations\n• What the Shelly\n• Bun up & Bead\n• Grumpy Sauce and Spices \n• Neckcessories\n• Lela Marie Creations\n• Once Upon A Book\n• Baked Goods for Bowie\n• Ida’s Creations\n• NJ Beach Walks\n• Field of Magnets\n• The Crafty Cat\n• Tara’s Color Creations\n• For Keeps LLC\n• Sweet P’s Creations \n• Decoupaged Shells\n• Madam Metatron Tarot Reading\n• Mousepads\, Slate Tiles\, Cutting Boards & More\n• M & M Designs\n• Bath Time Princess\n• Coastal Candle Company\n• Morning Bloom Boutique\n• Tumblers\, Coffee Cups & Keychains\n• Scentsy \n• Bone & Soul Threadworks \n• Charcuterie Boards & Hand Crafted Wood Handles\n• Handmade Wood Burnings\n• Custom Creations by Jayne\n• Pickled Aliens\n• Moonlight Glass\n• Stay Fresh Creations \n• Big Chunks of Love\n• The Jersey Bee Girls\n• Red Hour Glass Creations\n• Leaf Cigars Bayville\n• Cumberland Air Solutions\n• Kiwis Krochet\n• Bits of Love Mosaics\n• Careless Creations\n• Just Like the Real Thing\n(Almost)\n• Abby Woo Productions\n• Chic Stitch Duo\n• Susan’s Tumber Crafts\n• Joey’s Book Nook\n• Edible Art\n• Ben’s Pillow Shop\n• KJ’s Knitted Treasures\n• DJ Designs\n• Handmade purses\, tote bags\, wallets\n• Beach Art & Sea Glass\n• Reach Art\n• JHZ Designs\n• Pearl and Tide Boutique\n• Cainboywoodworking
URL:https://oceancountytourism.com/event/craft-and-vendor-fair/
LOCATION:Toms River Elks Lodge #1875\, 600 Washington Street\, Toms River\, NJ\, 08753\, United States
CATEGORIES:Festivals & Family Fun
ATTACH;FMTTYPE=image/png:https://oceancountytourism.com/wp-content/uploads/2026/04/Vendor-Craft-Fair-Flyer.png
END:VEVENT
BEGIN:VEVENT
DTSTART;TZID=America/New_York:20260523T100000
DTEND;TZID=America/New_York:20260523T160000
DTSTAMP:20260422T181037
CREATED:20260316T120630Z
LAST-MODIFIED:20260316T120630Z
UID:10041718-1779530400-1779552000@oceancountytourism.com
SUMMARY:Craft Fair at Fabricated For You Craft Store
DESCRIPTION:With more than 60 outdoor booths and 30 indoor spotlight vendors\, dive into a curated selection of locally crafted treasures. \nAs you shop\, keep an eye out for your chance to win one of our gift baskets through our raffle. \nFrom delightful baked goods to charming hand-painted signs\, cozy blankets\, and one-of-a-kind handmade jewelry\, each piece is lovingly handmade. \nExplore an array of quilts\, beach essentials\, floral arrangements\, and mesmerizing resin decor. \nFind pillows\, handcrafted bags\, wallets\, totes\, paintings\, and captivating wall decor to adorn yourself and your home. \nDiscover seaglass art complemented by the enchanting glow of homemade candles\, or heirloom quality crochet items\, headbands\, keychains\, and even adorable stuffies for the little ones. \nOlder children will also enjoy the selection of dolls\, toys\, and even free face painting! \nTransform your kitchen with faux food decor\, functional resin art\, coasters\, crochet top towels\, ocean-inspired charcuterie boards\, glassware\, glassware koozies\, aprons\, even delectable offerings of a local farm\, featuring their homemade salad dressings. \nYou will find the perfect unique gifts\, from custom t-shirts and baby milestone discs to money cards\, gift baskets\, greeting cards\, wreaths\, drawings\, stained glass panels\, printed drink tumblers\, and sun catchers. \nMark your calendar for an unforgettable celebration of all things handmade! \nhttps://fabricatedforyou.com/toms-river-craft-fair-events-fabricated-for-you/ \ninfo@fabricatedforyou.com \n732-608-2040 \n2026 Craft Fairs – Parking Lot of “Fabricated For You” Craft Store on Rt 37 \nMay 23rd – 10am \nJune 27th – 10am \nSpet 5th – 10am \nNov. 14th – 10am \nRain Dates: 5/24\, 6/28\, 9/6\, 11/15
URL:https://oceancountytourism.com/event/craft-fair-at-fabricated-for-you-craft-store-2/2026-05-23/
LOCATION:Fabricated For You\, 1081 RT 37\, Toms River\, NJ\, 08759\, United States
CATEGORIES:Art,Cultural & Heritage,Festivals & Family Fun
ATTACH;FMTTYPE=image/jpeg:https://oceancountytourism.com/wp-content/uploads/2026/03/FFY-2026-fair-print-flyer-_-no-QR.jpg
END:VEVENT
BEGIN:VEVENT
DTSTART;TZID=America/New_York:20260523T110000
DTEND;TZID=America/New_York:20260523T190000
DTSTAMP:20260422T181037
CREATED:20260312T152709Z
LAST-MODIFIED:20260312T152709Z
UID:10041654-1779534000-1779562800@oceancountytourism.com
SUMMARY:Berkeley Township Food Truck & Music Festival
DESCRIPTION:Berkeley Township Food Truck & Music Festival \nMemorial Day Weekend \n15 Gourmet food trucks\, adult beverage garden\, vendor shopping village\, kids’ activities and live bands. \nMay 23 – 11am-7pm \n$5 admission kids under 10 free \nVeterans Park 489 Bill Zimmerman Jr Way\, Bayville NJ 08721 \nwww.municipalevents.com
URL:https://oceancountytourism.com/event/berkeley-township-food-truck-music-festival/
LOCATION:Veterans Park Bayville\, 489 Bill Zimmerman Jr Way\, Bayville\, NJ\, 08721\, United States
CATEGORIES:Festivals & Family Fun,Food,Live Entertainment
ATTACH;FMTTYPE=image/jpeg:https://oceancountytourism.com/wp-content/uploads/2026/03/646533813_1704853137571106_8511027713328673158_n.jpg
ORGANIZER;CN="MES Event Services":MAILTO:info@municipalevents.com
END:VEVENT
BEGIN:VEVENT
DTSTART;TZID=America/New_York:20260523T120000
DTEND;TZID=America/New_York:20260523T170000
DTSTAMP:20260422T181037
CREATED:20260326T131934Z
LAST-MODIFIED:20260326T131934Z
UID:10042065-1779537600-1779555600@oceancountytourism.com
SUMMARY:75th Anniversary Celebration
DESCRIPTION:Stafford EMS 75th Anniversary Celebration \nJoin us for a celebration! \nMay 23\, 2026 \nParade at 12:00pm Line-up begins at 10:00am \nEvent time: 12:00pm – 5:00pm \nFood\, music and fun for kids! \n75 Years of dedicated service \n250 Years of America \nScan for more information
URL:https://oceancountytourism.com/event/75th-anniversary-celebration/
LOCATION:Stafford Township EMS\, 365 East Bay Ave.\, Manahawkin\, NJ\, 08050\, United States
CATEGORIES:Festivals & Family Fun,Food
ATTACH;FMTTYPE=image/jpeg:https://oceancountytourism.com/wp-content/uploads/2026/03/656317608_1600508011740691_7888756146729862764_n.jpg
ORGANIZER;CN="Stafford Township EMS Auxiliary":MAILTO:stemsaux@squad38.com
END:VEVENT
END:VCALENDAR